Workbook

Sheet Double Entries
E2: Tab | F2: 2021 Opening ROU Balance | G2: 2021 Opening Lease Liabilities Balance | H2: 2021 Lease Liability Change | I2: 2021 Lease Payment Change | J2: 2021 Lease Interest Incurred | K2: 2021 Depreciation
A3: Opening Balance in 2021 | C3: DR/(CR) | E3: 1. Sengkang | F3: {=IF(YEAR(INDIRECT("'"&E3&"'!"&"D10"))<2021=TRUE,INDEX(INDIRECT("'"&E3&"'!"&"K:K"),MATCH(DATE(2021,1,DAY(INDIRECT("'"&E3&"'!"&"D10"))),INDIRECT("'"&E3&"'!"&"C:C"))),INDEX(INDIRECT("'"&E3&"'!"&"K:K"),MATCH(DATE(2021,MAX(1,MONTH(INDIRECT("'"&E3&"'!"&"D10"))),DAY(INDIRECT("'"&E3&"'!"&"D10"))),INDIRECT("'"&E3&"'!"&"C:C"))))} -> 689183.77 | G3: {=IF(YEAR(INDIRECT("'"&E3&"'!"&"D10"))<2021=TRUE,INDEX(INDIRECT("'"&E3&"'!"&"E:E"),MATCH(DATE(2021,1,DAY(INDIRECT("'"&E3&"'!"&"D10"))),INDIRECT("'"&E3&"'!"&"C:C"))),INDEX(INDIRECT("'"&E3&"'!"&"E:E"),MATCH(DATE(2021,MAX(1,MONTH(INDIRECT("'"&E3&"'!"&"D10"))),DAY(INDIRECT("'"&E3&"'!"&"D10"))),INDIRECT("'"&E3&"'!"&"C:C"))))} -> 689183.77 | H3: {=IF(YEAR(INDIRECT("'"&E3&"'!"&"D10"))<2021=TRUE,SUM(INDIRECT("'"&E3&"'!"&"F"&MATCH(DATE(2021,1,DAY(INDIRECT("'"&E3&"'!"&"D10"))),INDIRECT("'"&E3&"'!"&"C:C"))):INDIRECT("'"&E3&"'!"&"G"&MATCH(DATE(2021,12,DAY(INDIRECT("'"&E3&"'!"&"D10"))),INDIRECT("'"&E3&"'!"&"C:C")))),SUM(INDIRECT("'"&E3&"'!"&"F"&MATCH(DATE(2021,MAX(1,MONTH(INDIRECT("'"&E3&"'!"&"D10"))),DAY(INDIRECT("'"&E3&"'!"&"D10"))),INDIRECT("'"&E3&"'!"&"C:C"))):INDIRECT("'"&E3&"'!"&"G"&MATCH(DATE(2021,12,DAY(INDIRECT("'"&E3&"'!"&"D10"))),INDIRECT("'"&E3&"'!"&"C:C")))))} -> -54754.451 | I3: {=IF(YEAR(INDIRECT("'"&E3&"'!"&"D10"))<2021=TRUE,SUM(INDIRECT("'"&E3&"'!"&"F"&MATCH(DATE(2021,1,DAY(INDIRECT("'"&E3&"'!"&"D10"))),INDIRECT("'"&E3&"'!"&"C:C"))):INDIRECT("'"&E3&"'!"&"F"&MATCH(DATE(2021,12,DAY(INDIRECT("'"&E3&"'!"&"D10"))),INDIRECT("'"&E3&"'!"&"C:C")))),SUM(INDIRECT("'"&E3&"'!"&"F"&MATCH(DATE(2021,MAX(1,MONTH(INDIRECT("'"&E3&"'!"&"D10"))),DAY(INDIRECT("'"&E3&"'!"&"D10"))),INDIRECT("'"&E3&"'!"&"C:C"))):INDIRECT("'"&E3&"'!"&"F"&MATCH(DATE(2021,12,DAY(INDIRECT("'"&E3&"'!"&"D10"))),INDIRECT("'"&E3&"'!"&"C:C")))))} -> -60360 | J3: {=IF(YEAR(INDIRECT("'"&E3&"'!"&"D10"))<2021=TRUE,SUM(INDIRECT("'"&E3&"'!"&"G"&MATCH(DATE(2021,1,DAY(INDIRECT("'"&E3&"'!"&"D10"))),INDIRECT("'"&E3&"'!"&"C:C"))):INDIRECT("'"&E3&"'!"&"G"&MATCH(DATE(2021,12,DAY(INDIRECT("'"&E3&"'!"&"D10"))),INDIRECT("'"&E3&"'!"&"C:C")))),SUM(INDIRECT("'"&E3&"'!"&"G"&MATCH(DATE(2021,MAX(1,MONTH(INDIRECT("'"&E3&"'!"&"D10"))),DAY(INDIRECT("'"&E3&"'!"&"D10"))),INDIRECT("'"&E3&"'!"&"C:C"))):INDIRECT("'"&E3&"'!"&"G"&MATCH(DATE(2021,12,DAY(INDIRECT("'"&E3&"'!"&"D10"))),INDIRECT("'"&E3&"'!"&"C:C")))))} -> 5605.5489 | K3: {=IF(YEAR(INDIRECT("'"&E3&"'!"&"D10"))<2021=TRUE,SUM(INDIRECT("'"&E3&"'!"&"L"&MATCH(DATE(2021,1,DAY(INDIRECT("'"&E3&"'!"&"D10"))),INDIRECT("'"&E3&"'!"&"C:C"))):INDIRECT("'"&E3&"'!"&"L"&MATCH(DATE(2021,12,DAY(INDIRECT("'"&E3&"'!"&"D10"))),INDIRECT("'"&E3&"'!"&"C:C")))),SUM(INDIRECT("'"&E3&"'!"&"L"&MATCH(DATE(2021,MAX(1,MONTH(INDIRECT("'"&E3&"'!"&"D10"))),DAY(INDIRECT("'"&E3&"'!"&"D10"))),INDIRECT("'"&E3&"'!"&"C:C"))):INDIRECT("'"&E3&"'!"&"L"&MATCH(DATE(2021,12,DAY(INDIRECT("'"&E3&"'!"&"D10"))),INDIRECT("'"&E3&"'!"&"C:C")))))} -> -57431.981
B4: ROU Asset | C4: =SUM(F:F) -> 14494448 | E4: 3. Westmall | F4: {=IF(YEAR(INDIRECT("'"&E4&"'!"&"D10"))<2021=TRUE,INDEX(INDIRECT("'"&E4&"'!"&"K:K"),MATCH(DATE(2021,1,DAY(INDIRECT("'"&E4&"'!"&"D10"))),INDIRECT("'"&E4&"'!"&"C:C"))),INDEX(INDIRECT("'"&E4&"'!"&"K:K"),MATCH(DATE(2021,MAX(1,MONTH(INDIRECT("'"&E4&"'!"&"D10"))),DAY(INDIRECT("'"&E4&"'!"&"D10"))),INDIRECT("'"&E4&"'!"&"C:C"))))} -> 567491.45 | G4: {=IF(YEAR(INDIRECT("'"&E4&"'!"&"D10"))<2021=TRUE,INDEX(INDIRECT("'"&E4&"'!"&"E:E"),MATCH(DATE(2021,1,DAY(INDIRECT("'"&E4&"'!"&"D10"))),INDIRECT("'"&E4&"'!"&"C:C"))),INDEX(INDIRECT("'"&E4&"'!"&"E:E"),MATCH(DATE(2021,MAX(1,MONTH(INDIRECT("'"&E4&"'!"&"D10"))),DAY(INDIRECT("'"&E4&"'!"&"D10"))),INDIRECT("'"&E4&"'!"&"C:C"))))} -> 567491.45 | H4: {=IF(YEAR(INDIRECT("'"&E4&"'!"&"D10"))<2021=TRUE,SUM(INDIRECT("'"&E4&"'!"&"F"&MATCH(DATE(2021,1,DAY(INDIRECT("'"&E4&"'!"&"D10"))),INDIRECT("'"&E4&"'!"&"C:C"))):INDIRECT("'"&E4&"'!"&"G"&MATCH(DATE(2021,12,DAY(INDIRECT("'"&E4&"'!"&"D10"))),INDIRECT("'"&E4&"'!"&"C:C")))),SUM(INDIRECT("'"&E4&"'!"&"F"&MATCH(DATE(2021,MAX(1,MONTH(INDIRECT("'"&E4&"'!"&"D10"))),DAY(INDIRECT("'"&E4&"'!"&"D10"))),INDIRECT("'"&E4&"'!"&"C:C"))):INDIRECT("'"&E4&"'!"&"G"&MATCH(DATE(2021,12,DAY(INDIRECT("'"&E4&"'!"&"D10"))),INDIRECT("'"&E4&"'!"&"C:C")))))} -> -45086.208 | I4: {=IF(YEAR(INDIRECT("'"&E4&"'!"&"D10"))<2021=TRUE,SUM(INDIRECT("'"&E4&"'!"&"F"&MATCH(DATE(2021,1,DAY(INDIRECT("'"&E4&"'!"&"D10"))),INDIRECT("'"&E4&"'!"&"C:C"))):INDIRECT("'"&E4&"'!"&"F"&MATCH(DATE(2021,12,DAY(INDIRECT("'"&E4&"'!"&"D10"))),INDIRECT("'"&E4&"'!"&"C:C")))),SUM(INDIRECT("'"&E4&"'!"&"F"&MATCH(DATE(2021,MAX(1,MONTH(INDIRECT("'"&E4&"'!"&"D10"))),DAY(INDIRECT("'"&E4&"'!"&"D10"))),INDIRECT("'"&E4&"'!"&"C:C"))):INDIRECT("'"&E4&"'!"&"F"&MATCH(DATE(2021,12,DAY(INDIRECT("'"&E4&"'!"&"D10"))),INDIRECT("'"&E4&"'!"&"C:C")))))} -> -49701.96 | J4: {=IF(YEAR(INDIRECT("'"&E4&"'!"&"D10"))<2021=TRUE,SUM(INDIRECT("'"&E4&"'!"&"G"&MATCH(DATE(2021,1,DAY(INDIRECT("'"&E4&"'!"&"D10"))),INDIRECT("'"&E4&"'!"&"C:C"))):INDIRECT("'"&E4&"'!"&"G"&MATCH(DATE(2021,12,DAY(INDIRECT("'"&E4&"'!"&"D10"))),INDIRECT("'"&E4&"'!"&"C:C")))),SUM(INDIRECT("'"&E4&"'!"&"G"&MATCH(DATE(2021,MAX(1,MONTH(INDIRECT("'"&E4&"'!"&"D10"))),DAY(INDIRECT("'"&E4&"'!"&"D10"))),INDIRECT("'"&E4&"'!"&"C:C"))):INDIRECT("'"&E4&"'!"&"G"&MATCH(DATE(2021,12,DAY(INDIRECT("'"&E4&"'!"&"D10"))),INDIRECT("'"&E4&"'!"&"C:C")))))} -> 4615.7516 | K4: {=IF(YEAR(INDIRECT("'"&E4&"'!"&"D10"))<2021=TRUE,SUM(INDIRECT("'"&E4&"'!"&"L"&MATCH(DATE(2021,1,DAY(INDIRECT("'"&E4&"'!"&"D10"))),INDIRECT("'"&E4&"'!"&"C:C"))):INDIRECT("'"&E4&"'!"&"L"&MATCH(DATE(2021,12,DAY(INDIRECT("'"&E4&"'!"&"D10"))),INDIRECT("'"&E4&"'!"&"C:C")))),SUM(INDIRECT("'"&E4&"'!"&"L"&MATCH(DATE(2021,MAX(1,MONTH(INDIRECT("'"&E4&"'!"&"D10"))),DAY(INDIRECT("'"&E4&"'!"&"D10"))),INDIRECT("'"&E4&"'!"&"C:C"))):INDIRECT("'"&E4&"'!"&"L"&MATCH(DATE(2021,12,DAY(INDIRECT("'"&E4&"'!"&"D10"))),INDIRECT("'"&E4&"'!"&"C:C")))))} -> -47290.954
B5: Lease Liabilities | C5: =-SUM(G:G) -> -14605652 | E5: 4. CTL | F5: {=IF(YEAR(INDIRECT("'"&E5&"'!"&"D10"))<2021=TRUE,INDEX(INDIRECT("'"&E5&"'!"&"K:K"),MATCH(DATE(2021,1,DAY(INDIRECT("'"&E5&"'!"&"D10"))),INDIRECT("'"&E5&"'!"&"C:C"))),INDEX(INDIRECT("'"&E5&"'!"&"K:K"),MATCH(DATE(2021,MAX(1,MONTH(INDIRECT("'"&E5&"'!"&"D10"))),DAY(INDIRECT("'"&E5&"'!"&"D10"))),INDIRECT("'"&E5&"'!"&"C:C"))))} -> 233069.98 | G5: {=IF(YEAR(INDIRECT("'"&E5&"'!"&"D10"))<2021=TRUE,INDEX(INDIRECT("'"&E5&"'!"&"E:E"),MATCH(DATE(2021,1,DAY(INDIRECT("'"&E5&"'!"&"D10"))),INDIRECT("'"&E5&"'!"&"C:C"))),INDEX(INDIRECT("'"&E5&"'!"&"E:E"),MATCH(DATE(2021,MAX(1,MONTH(INDIRECT("'"&E5&"'!"&"D10"))),DAY(INDIRECT("'"&E5&"'!"&"D10"))),INDIRECT("'"&E5&"'!"&"C:C"))))} -> 233069.98 | H5: {=IF(YEAR(INDIRECT("'"&E5&"'!"&"D10"))<2021=TRUE,SUM(INDIRECT("'"&E5&"'!"&"F"&MATCH(DATE(2021,1,DAY(INDIRECT("'"&E5&"'!"&"D10"))),INDIRECT("'"&E5&"'!"&"C:C"))):INDIRECT("'"&E5&"'!"&"G"&MATCH(DATE(2021,12,DAY(INDIRECT("'"&E5&"'!"&"D10"))),INDIRECT("'"&E5&"'!"&"C:C")))),SUM(INDIRECT("'"&E5&"'!"&"F"&MATCH(DATE(2021,MAX(1,MONTH(INDIRECT("'"&E5&"'!"&"D10"))),DAY(INDIRECT("'"&E5&"'!"&"D10"))),INDIRECT("'"&E5&"'!"&"C:C"))):INDIRECT("'"&E5&"'!"&"G"&MATCH(DATE(2021,12,DAY(INDIRECT("'"&E5&"'!"&"D10"))),INDIRECT("'"&E5&"'!"&"C:C")))))} -> -38290.331 | I5: {=IF(YEAR(INDIRECT("'"&E5&"'!"&"D10"))<2021=TRUE,SUM(INDIRECT("'"&E5&"'!"&"F"&MATCH(DATE(2021,1,DAY(INDIRECT("'"&E5&"'!"&"D10"))),INDIRECT("'"&E5&"'!"&"C:C"))):INDIRECT("'"&E5&"'!"&"F"&MATCH(DATE(2021,12,DAY(INDIRECT("'"&E5&"'!"&"D10"))),INDIRECT("'"&E5&"'!"&"C:C")))),SUM(INDIRECT("'"&E5&"'!"&"F"&MATCH(DATE(2021,MAX(1,MONTH(INDIRECT("'"&E5&"'!"&"D10"))),DAY(INDIRECT("'"&E5&"'!"&"D10"))),INDIRECT("'"&E5&"'!"&"C:C"))):INDIRECT("'"&E5&"'!"&"F"&MATCH(DATE(2021,12,DAY(INDIRECT("'"&E5&"'!"&"D10"))),INDIRECT("'"&E5&"'!"&"C:C")))))} -> -39460.4 | J5: {=IF(YEAR(INDIRECT("'"&E5&"'!"&"D10"))<2021=TRUE,SUM(INDIRECT("'"&E5&"'!"&"G"&MATCH(DATE(2021,1,DAY(INDIRECT("'"&E5&"'!"&"D10"))),INDIRECT("'"&E5&"'!"&"C:C"))):INDIRECT("'"&E5&"'!"&"G"&MATCH(DATE(2021,12,DAY(INDIRECT("'"&E5&"'!"&"D10"))),INDIRECT("'"&E5&"'!"&"C:C")))),SUM(INDIRECT("'"&E5&"'!"&"G"&MATCH(DATE(2021,MAX(1,MONTH(INDIRECT("'"&E5&"'!"&"D10"))),DAY(INDIRECT("'"&E5&"'!"&"D10"))),INDIRECT("'"&E5&"'!"&"C:C"))):INDIRECT("'"&E5&"'!"&"G"&MATCH(DATE(2021,12,DAY(INDIRECT("'"&E5&"'!"&"D10"))),INDIRECT("'"&E5&"'!"&"C:C")))))} -> 1170.0688 | K5: {=IF(YEAR(INDIRECT("'"&E5&"'!"&"D10"))<2021=TRUE,SUM(INDIRECT("'"&E5&"'!"&"L"&MATCH(DATE(2021,1,DAY(INDIRECT("'"&E5&"'!"&"D10"))),INDIRECT("'"&E5&"'!"&"C:C"))):INDIRECT("'"&E5&"'!"&"L"&MATCH(DATE(2021,12,DAY(INDIRECT("'"&E5&"'!"&"D10"))),INDIRECT("'"&E5&"'!"&"C:C")))),SUM(INDIRECT("'"&E5&"'!"&"L"&MATCH(DATE(2021,MAX(1,MONTH(INDIRECT("'"&E5&"'!"&"D10"))),DAY(INDIRECT("'"&E5&"'!"&"D10"))),INDIRECT("'"&E5&"'!"&"C:C"))):INDIRECT("'"&E5&"'!"&"L"&MATCH(DATE(2021,12,DAY(INDIRECT("'"&E5&"'!"&"D10"))),INDIRECT("'"&E5&"'!"&"C:C")))))} -> -38844.997
B6: Opening R/E | C6: =SUM(C4:C5) -> -111204 | E6: 5. City Sq | F6: {=IF(YEAR(INDIRECT("'"&E6&"'!"&"D10"))<2021=TRUE,INDEX(INDIRECT("'"&E6&"'!"&"K:K"),MATCH(DATE(2021,1,DAY(INDIRECT("'"&E6&"'!"&"D10"))),INDIRECT("'"&E6&"'!"&"C:C"))),INDEX(INDIRECT("'"&E6&"'!"&"K:K"),MATCH(DATE(2021,MAX(1,MONTH(INDIRECT("'"&E6&"'!"&"D10"))),DAY(INDIRECT("'"&E6&"'!"&"D10"))),INDIRECT("'"&E6&"'!"&"C:C"))))} -> 114282.28 | G6: {=IF(YEAR(INDIRECT("'"&E6&"'!"&"D10"))<2021=TRUE,INDEX(INDIRECT("'"&E6&"'!"&"E:E"),MATCH(DATE(2021,1,DAY(INDIRECT("'"&E6&"'!"&"D10"))),INDIRECT("'"&E6&"'!"&"C:C"))),INDEX(INDIRECT("'"&E6&"'!"&"E:E"),MATCH(DATE(2021,MAX(1,MONTH(INDIRECT("'"&E6&"'!"&"D10"))),DAY(INDIRECT("'"&E6&"'!"&"D10"))),INDIRECT("'"&E6&"'!"&"C:C"))))} -> 114282.28 | H6: {=IF(YEAR(INDIRECT("'"&E6&"'!"&"D10"))<2021=TRUE,SUM(INDIRECT("'"&E6&"'!"&"F"&MATCH(DATE(2021,1,DAY(INDIRECT("'"&E6&"'!"&"D10"))),INDIRECT("'"&E6&"'!"&"C:C"))):INDIRECT("'"&E6&"'!"&"G"&MATCH(DATE(2021,12,DAY(INDIRECT("'"&E6&"'!"&"D10"))),INDIRECT("'"&E6&"'!"&"C:C")))),SUM(INDIRECT("'"&E6&"'!"&"F"&MATCH(DATE(2021,MAX(1,MONTH(INDIRECT("'"&E6&"'!"&"D10"))),DAY(INDIRECT("'"&E6&"'!"&"D10"))),INDIRECT("'"&E6&"'!"&"C:C"))):INDIRECT("'"&E6&"'!"&"G"&MATCH(DATE(2021,12,DAY(INDIRECT("'"&E6&"'!"&"D10"))),INDIRECT("'"&E6&"'!"&"C:C")))))} -> -114282.28 | I6: {=IF(YEAR(INDIRECT("'"&E6&"'!"&"D10"))<2021=TRUE,SUM(INDIRECT("'"&E6&"'!"&"F"&MATCH(DATE(2021,1,DAY(INDIRECT("'"&E6&"'!"&"D10"))),INDIRECT("'"&E6&"'!"&"C:C"))):INDIRECT("'"&E6&"'!"&"F"&MATCH(DATE(2021,12,DAY(INDIRECT("'"&E6&"'!"&"D10"))),INDIRECT("'"&E6&"'!"&"C:C")))),SUM(INDIRECT("'"&E6&"'!"&"F"&MATCH(DATE(2021,MAX(1,MONTH(INDIRECT("'"&E6&"'!"&"D10"))),DAY(INDIRECT("'"&E6&"'!"&"D10"))),INDIRECT("'"&E6&"'!"&"C:C"))):INDIRECT("'"&E6&"'!"&"F"&MATCH(DATE(2021,12,DAY(INDIRECT("'"&E6&"'!"&"D10"))),INDIRECT("'"&E6&"'!"&"C:C")))))} -> -116092.8 | J6: {=IF(YEAR(INDIRECT("'"&E6&"'!"&"D10"))<2021=TRUE,SUM(INDIRECT("'"&E6&"'!"&"G"&MATCH(DATE(2021,1,DAY(INDIRECT("'"&E6&"'!"&"D10"))),INDIRECT("'"&E6&"'!"&"C:C"))):INDIRECT("'"&E6&"'!"&"G"&MATCH(DATE(2021,12,DAY(INDIRECT("'"&E6&"'!"&"D10"))),INDIRECT("'"&E6&"'!"&"C:C")))),SUM(INDIRECT("'"&E6&"'!"&"G"&MATCH(DATE(2021,MAX(1,MONTH(INDIRECT("'"&E6&"'!"&"D10"))),DAY(INDIRECT("'"&E6&"'!"&"D10"))),INDIRECT("'"&E6&"'!"&"C:C"))):INDIRECT("'"&E6&"'!"&"G"&MATCH(DATE(2021,12,DAY(INDIRECT("'"&E6&"'!"&"D10"))),INDIRECT("'"&E6&"'!"&"C:C")))))} -> 1810.5211 | K6: {=IF(YEAR(INDIRECT("'"&E6&"'!"&"D10"))<2021=TRUE,SUM(INDIRECT("'"&E6&"'!"&"L"&MATCH(DATE(2021,1,DAY(INDIRECT("'"&E6&"'!"&"D10"))),INDIRECT("'"&E6&"'!"&"C:C"))):INDIRECT("'"&E6&"'!"&"L"&MATCH(DATE(2021,12,DAY(INDIRECT("'"&E6&"'!"&"D10"))),INDIRECT("'"&E6&"'!"&"C:C")))),SUM(INDIRECT("'"&E6&"'!"&"L"&MATCH(DATE(2021,MAX(1,MONTH(INDIRECT("'"&E6&"'!"&"D10"))),DAY(INDIRECT("'"&E6&"'!"&"D10"))),INDIRECT("'"&E6&"'!"&"C:C"))):INDIRECT("'"&E6&"'!"&"L"&MATCH(DATE(2021,12,DAY(INDIRECT("'"&E6&"'!"&"D10"))),INDIRECT("'"&E6&"'!"&"C:C")))))} -> -114282.28
E7: 8. JEM | F7: {=IF(YEAR(INDIRECT("'"&E7&"'!"&"D10"))<2021=TRUE,INDEX(INDIRECT("'"&E7&"'!"&"K:K"),MATCH(DATE(2021,1,DAY(INDIRECT("'"&E7&"'!"&"D10"))),INDIRECT("'"&E7&"'!"&"C:C"))),INDEX(INDIRECT("'"&E7&"'!"&"K:K"),MATCH(DATE(2021,MAX(1,MONTH(INDIRECT("'"&E7&"'!"&"D10"))),DAY(INDIRECT("'"&E7&"'!"&"D10"))),INDIRECT("'"&E7&"'!"&"C:C"))))} -> 444473.99 | G7: {=IF(YEAR(INDIRECT("'"&E7&"'!"&"D10"))<2021=TRUE,INDEX(INDIRECT("'"&E7&"'!"&"E:E"),MATCH(DATE(2021,1,DAY(INDIRECT("'"&E7&"'!"&"D10"))),INDIRECT("'"&E7&"'!"&"C:C"))),INDEX(INDIRECT("'"&E7&"'!"&"E:E"),MATCH(DATE(2021,MAX(1,MONTH(INDIRECT("'"&E7&"'!"&"D10"))),DAY(INDIRECT("'"&E7&"'!"&"D10"))),INDIRECT("'"&E7&"'!"&"C:C"))))} -> 456587.88 | H7: {=IF(YEAR(INDIRECT("'"&E7&"'!"&"D10"))<2021=TRUE,SUM(INDIRECT("'"&E7&"'!"&"F"&MATCH(DATE(2021,1,DAY(INDIRECT("'"&E7&"'!"&"D10"))),INDIRECT("'"&E7&"'!"&"C:C"))):INDIRECT("'"&E7&"'!"&"G"&MATCH(DATE(2021,12,DAY(INDIRECT("'"&E7&"'!"&"D10"))),INDIRECT("'"&E7&"'!"&"C:C")))),SUM(INDIRECT("'"&E7&"'!"&"F"&MATCH(DATE(2021,MAX(1,MONTH(INDIRECT("'"&E7&"'!"&"D10"))),DAY(INDIRECT("'"&E7&"'!"&"D10"))),INDIRECT("'"&E7&"'!"&"C:C"))):INDIRECT("'"&E7&"'!"&"G"&MATCH(DATE(2021,12,DAY(INDIRECT("'"&E7&"'!"&"D10"))),INDIRECT("'"&E7&"'!"&"C:C")))))} -> -319979.81 | I7: {=IF(YEAR(INDIRECT("'"&E7&"'!"&"D10"))<2021=TRUE,SUM(INDIRECT("'"&E7&"'!"&"F"&MATCH(DATE(2021,1,DAY(INDIRECT("'"&E7&"'!"&"D10"))),INDIRECT("'"&E7&"'!"&"C:C"))):INDIRECT("'"&E7&"'!"&"F"&MATCH(DATE(2021,12,DAY(INDIRECT("'"&E7&"'!"&"D10"))),INDIRECT("'"&E7&"'!"&"C:C")))),SUM(INDIRECT("'"&E7&"'!"&"F"&MATCH(DATE(2021,MAX(1,MONTH(INDIRECT("'"&E7&"'!"&"D10"))),DAY(INDIRECT("'"&E7&"'!"&"D10"))),INDIRECT("'"&E7&"'!"&"C:C"))):INDIRECT("'"&E7&"'!"&"F"&MATCH(DATE(2021,12,DAY(INDIRECT("'"&E7&"'!"&"D10"))),INDIRECT("'"&E7&"'!"&"C:C")))))} -> -329741.88 | J7: {=IF(YEAR(INDIRECT("'"&E7&"'!"&"D10"))<2021=TRUE,SUM(INDIRECT("'"&E7&"'!"&"G"&MATCH(DATE(2021,1,DAY(INDIRECT("'"&E7&"'!"&"D10"))),INDIRECT("'"&E7&"'!"&"C:C"))):INDIRECT("'"&E7&"'!"&"G"&MATCH(DATE(2021,12,DAY(INDIRECT("'"&E7&"'!"&"D10"))),INDIRECT("'"&E7&"'!"&"C:C")))),SUM(INDIRECT("'"&E7&"'!"&"G"&MATCH(DATE(2021,MAX(1,MONTH(INDIRECT("'"&E7&"'!"&"D10"))),DAY(INDIRECT("'"&E7&"'!"&"D10"))),INDIRECT("'"&E7&"'!"&"C:C"))):INDIRECT("'"&E7&"'!"&"G"&MATCH(DATE(2021,12,DAY(INDIRECT("'"&E7&"'!"&"D10"))),INDIRECT("'"&E7&"'!"&"C:C")))))} -> 9762.0745 | K7: {=IF(YEAR(INDIRECT("'"&E7&"'!"&"D10"))<2021=TRUE,SUM(INDIRECT("'"&E7&"'!"&"L"&MATCH(DATE(2021,1,DAY(INDIRECT("'"&E7&"'!"&"D10"))),INDIRECT("'"&E7&"'!"&"C:C"))):INDIRECT("'"&E7&"'!"&"L"&MATCH(DATE(2021,12,DAY(INDIRECT("'"&E7&"'!"&"D10"))),INDIRECT("'"&E7&"'!"&"C:C")))),SUM(INDIRECT("'"&E7&"'!"&"L"&MATCH(DATE(2021,MAX(1,MONTH(INDIRECT("'"&E7&"'!"&"D10"))),DAY(INDIRECT("'"&E7&"'!"&"D10"))),INDIRECT("'"&E7&"'!"&"C:C"))):INDIRECT("'"&E7&"'!"&"L"&MATCH(DATE(2021,12,DAY(INDIRECT("'"&E7&"'!"&"D10"))),INDIRECT("'"&E7&"'!"&"C:C")))))} -> -313746.34
A8: 2021 Lease Payments | E8: 9. PBJ | F8: {=IF(YEAR(INDIRECT("'"&E8&"'!"&"D10"))<2021=TRUE,INDEX(INDIRECT("'"&E8&"'!"&"K:K"),MATCH(DATE(2021,1,DAY(INDIRECT("'"&E8&"'!"&"D10"))),INDIRECT("'"&E8&"'!"&"C:C"))),INDEX(INDIRECT("'"&E8&"'!"&"K:K"),MATCH(DATE(2021,MAX(1,MONTH(INDIRECT("'"&E8&"'!"&"D10"))),DAY(INDIRECT("'"&E8&"'!"&"D10"))),INDIRECT("'"&E8&"'!"&"C:C"))))} -> 625228.53 | G8: {=IF(YEAR(INDIRECT("'"&E8&"'!"&"D10"))<2021=TRUE,INDEX(INDIRECT("'"&E8&"'!"&"E:E"),MATCH(DATE(2021,1,DAY(INDIRECT("'"&E8&"'!"&"D10"))),INDIRECT("'"&E8&"'!"&"C:C"))),INDEX(INDIRECT("'"&E8&"'!"&"E:E"),MATCH(DATE(2021,MAX(1,MONTH(INDIRECT("'"&E8&"'!"&"D10"))),DAY(INDIRECT("'"&E8&"'!"&"D10"))),INDIRECT("'"&E8&"'!"&"C:C"))))} -> 640445.97 | H8: {=IF(YEAR(INDIRECT("'"&E8&"'!"&"D10"))<2021=TRUE,SUM(INDIRECT("'"&E8&"'!"&"F"&MATCH(DATE(2021,1,DAY(INDIRECT("'"&E8&"'!"&"D10"))),INDIRECT("'"&E8&"'!"&"C:C"))):INDIRECT("'"&E8&"'!"&"G"&MATCH(DATE(2021,12,DAY(INDIRECT("'"&E8&"'!"&"D10"))),INDIRECT("'"&E8&"'!"&"C:C")))),SUM(INDIRECT("'"&E8&"'!"&"F"&MATCH(DATE(2021,MAX(1,MONTH(INDIRECT("'"&E8&"'!"&"D10"))),DAY(INDIRECT("'"&E8&"'!"&"D10"))),INDIRECT("'"&E8&"'!"&"C:C"))):INDIRECT("'"&E8&"'!"&"G"&MATCH(DATE(2021,12,DAY(INDIRECT("'"&E8&"'!"&"D10"))),INDIRECT("'"&E8&"'!"&"C:C")))))} -> -400424.16 | I8: {=IF(YEAR(INDIRECT("'"&E8&"'!"&"D10"))<2021=TRUE,SUM(INDIRECT("'"&E8&"'!"&"F"&MATCH(DATE(2021,1,DAY(INDIRECT("'"&E8&"'!"&"D10"))),INDIRECT("'"&E8&"'!"&"C:C"))):INDIRECT("'"&E8&"'!"&"F"&MATCH(DATE(2021,12,DAY(INDIRECT("'"&E8&"'!"&"D10"))),INDIRECT("'"&E8&"'!"&"C:C")))),SUM(INDIRECT("'"&E8&"'!"&"F"&MATCH(DATE(2021,MAX(1,MONTH(INDIRECT("'"&E8&"'!"&"D10"))),DAY(INDIRECT("'"&E8&"'!"&"D10"))),INDIRECT("'"&E8&"'!"&"C:C"))):INDIRECT("'"&E8&"'!"&"F"&MATCH(DATE(2021,12,DAY(INDIRECT("'"&E8&"'!"&"D10"))),INDIRECT("'"&E8&"'!"&"C:C")))))} -> -415013.16 | J8: {=IF(YEAR(INDIRECT("'"&E8&"'!"&"D10"))<2021=TRUE,SUM(INDIRECT("'"&E8&"'!"&"G"&MATCH(DATE(2021,1,DAY(INDIRECT("'"&E8&"'!"&"D10"))),INDIRECT("'"&E8&"'!"&"C:C"))):INDIRECT("'"&E8&"'!"&"G"&MATCH(DATE(2021,12,DAY(INDIRECT("'"&E8&"'!"&"D10"))),INDIRECT("'"&E8&"'!"&"C:C")))),SUM(INDIRECT("'"&E8&"'!"&"G"&MATCH(DATE(2021,MAX(1,MONTH(INDIRECT("'"&E8&"'!"&"D10"))),DAY(INDIRECT("'"&E8&"'!"&"D10"))),INDIRECT("'"&E8&"'!"&"C:C"))):INDIRECT("'"&E8&"'!"&"G"&MATCH(DATE(2021,12,DAY(INDIRECT("'"&E8&"'!"&"D10"))),INDIRECT("'"&E8&"'!"&"C:C")))))} -> 14589.003 | K8: {=IF(YEAR(INDIRECT("'"&E8&"'!"&"D10"))<2021=TRUE,SUM(INDIRECT("'"&E8&"'!"&"L"&MATCH(DATE(2021,1,DAY(INDIRECT("'"&E8&"'!"&"D10"))),INDIRECT("'"&E8&"'!"&"C:C"))):INDIRECT("'"&E8&"'!"&"L"&MATCH(DATE(2021,12,DAY(INDIRECT("'"&E8&"'!"&"D10"))),INDIRECT("'"&E8&"'!"&"C:C")))),SUM(INDIRECT("'"&E8&"'!"&"L"&MATCH(DATE(2021,MAX(1,MONTH(INDIRECT("'"&E8&"'!"&"D10"))),DAY(INDIRECT("'"&E8&"'!"&"D10"))),INDIRECT("'"&E8&"'!"&"C:C"))):INDIRECT("'"&E8&"'!"&"L"&MATCH(DATE(2021,12,DAY(INDIRECT("'"&E8&"'!"&"D10"))),INDIRECT("'"&E8&"'!"&"C:C")))))} -> -394881.18
B9: Lease Liabilities | C9: =-SUM(H:H) -> 4379462.1 | E9: 10. PSQ | F9: {=IF(YEAR(INDIRECT("'"&E9&"'!"&"D10"))<2021=TRUE,INDEX(INDIRECT("'"&E9&"'!"&"K:K"),MATCH(DATE(2021,1,DAY(INDIRECT("'"&E9&"'!"&"D10"))),INDIRECT("'"&E9&"'!"&"C:C"))),INDEX(INDIRECT("'"&E9&"'!"&"K:K"),MATCH(DATE(2021,MAX(1,MONTH(INDIRECT("'"&E9&"'!"&"D10"))),DAY(INDIRECT("'"&E9&"'!"&"D10"))),INDIRECT("'"&E9&"'!"&"C:C"))))} -> 394815.3 | G9: {=IF(YEAR(INDIRECT("'"&E9&"'!"&"D10"))<2021=TRUE,INDEX(INDIRECT("'"&E9&"'!"&"E:E"),MATCH(DATE(2021,1,DAY(INDIRECT("'"&E9&"'!"&"D10"))),INDIRECT("'"&E9&"'!"&"C:C"))),INDEX(INDIRECT("'"&E9&"'!"&"E:E"),MATCH(DATE(2021,MAX(1,MONTH(INDIRECT("'"&E9&"'!"&"D10"))),DAY(INDIRECT("'"&E9&"'!"&"D10"))),INDIRECT("'"&E9&"'!"&"C:C"))))} -> 405559.95 | H9: {=IF(YEAR(INDIRECT("'"&E9&"'!"&"D10"))<2021=TRUE,SUM(INDIRECT("'"&E9&"'!"&"F"&MATCH(DATE(2021,1,DAY(INDIRECT("'"&E9&"'!"&"D10"))),INDIRECT("'"&E9&"'!"&"C:C"))):INDIRECT("'"&E9&"'!"&"G"&MATCH(DATE(2021,12,DAY(INDIRECT("'"&E9&"'!"&"D10"))),INDIRECT("'"&E9&"'!"&"C:C")))),SUM(INDIRECT("'"&E9&"'!"&"F"&MATCH(DATE(2021,MAX(1,MONTH(INDIRECT("'"&E9&"'!"&"D10"))),DAY(INDIRECT("'"&E9&"'!"&"D10"))),INDIRECT("'"&E9&"'!"&"C:C"))):INDIRECT("'"&E9&"'!"&"G"&MATCH(DATE(2021,12,DAY(INDIRECT("'"&E9&"'!"&"D10"))),INDIRECT("'"&E9&"'!"&"C:C")))))} -> -240540.45 | I9: {=IF(YEAR(INDIRECT("'"&E9&"'!"&"D10"))<2021=TRUE,SUM(INDIRECT("'"&E9&"'!"&"F"&MATCH(DATE(2021,1,DAY(INDIRECT("'"&E9&"'!"&"D10"))),INDIRECT("'"&E9&"'!"&"C:C"))):INDIRECT("'"&E9&"'!"&"F"&MATCH(DATE(2021,12,DAY(INDIRECT("'"&E9&"'!"&"D10"))),INDIRECT("'"&E9&"'!"&"C:C")))),SUM(INDIRECT("'"&E9&"'!"&"F"&MATCH(DATE(2021,MAX(1,MONTH(INDIRECT("'"&E9&"'!"&"D10"))),DAY(INDIRECT("'"&E9&"'!"&"D10"))),INDIRECT("'"&E9&"'!"&"C:C"))):INDIRECT("'"&E9&"'!"&"F"&MATCH(DATE(2021,12,DAY(INDIRECT("'"&E9&"'!"&"D10"))),INDIRECT("'"&E9&"'!"&"C:C")))))} -> -250020 | J9: {=IF(YEAR(INDIRECT("'"&E9&"'!"&"D10"))<2021=TRUE,SUM(INDIRECT("'"&E9&"'!"&"G"&MATCH(DATE(2021,1,DAY(INDIRECT("'"&E9&"'!"&"D10"))),INDIRECT("'"&E9&"'!"&"C:C"))):INDIRECT("'"&E9&"'!"&"G"&MATCH(DATE(2021,12,DAY(INDIRECT("'"&E9&"'!"&"D10"))),INDIRECT("'"&E9&"'!"&"C:C")))),SUM(INDIRECT("'"&E9&"'!"&"G"&MATCH(DATE(2021,MAX(1,MONTH(INDIRECT("'"&E9&"'!"&"D10"))),DAY(INDIRECT("'"&E9&"'!"&"D10"))),INDIRECT("'"&E9&"'!"&"C:C"))):INDIRECT("'"&E9&"'!"&"G"&MATCH(DATE(2021,12,DAY(INDIRECT("'"&E9&"'!"&"D10"))),INDIRECT("'"&E9&"'!"&"C:C")))))} -> 9479.5474 | K9: {=IF(YEAR(INDIRECT("'"&E9&"'!"&"D10"))<2021=TRUE,SUM(INDIRECT("'"&E9&"'!"&"L"&MATCH(DATE(2021,1,DAY(INDIRECT("'"&E9&"'!"&"D10"))),INDIRECT("'"&E9&"'!"&"C:C"))):INDIRECT("'"&E9&"'!"&"L"&MATCH(DATE(2021,12,DAY(INDIRECT("'"&E9&"'!"&"D10"))),INDIRECT("'"&E9&"'!"&"C:C")))),SUM(INDIRECT("'"&E9&"'!"&"L"&MATCH(DATE(2021,MAX(1,MONTH(INDIRECT("'"&E9&"'!"&"D10"))),DAY(INDIRECT("'"&E9&"'!"&"D10"))),INDIRECT("'"&E9&"'!"&"C:C"))):INDIRECT("'"&E9&"'!"&"L"&MATCH(DATE(2021,12,DAY(INDIRECT("'"&E9&"'!"&"D10"))),INDIRECT("'"&E9&"'!"&"C:C")))))} -> -236889.18
B10: Lease Interest | C10: =SUM(J:J) -> 265569.74 | E10: 11. Lot1 | F10: {=IF(YEAR(INDIRECT("'"&E10&"'!"&"D10"))<2021=TRUE,INDEX(INDIRECT("'"&E10&"'!"&"K:K"),MATCH(DATE(2021,1,DAY(INDIRECT("'"&E10&"'!"&"D10"))),INDIRECT("'"&E10&"'!"&"C:C"))),INDEX(INDIRECT("'"&E10&"'!"&"K:K"),MATCH(DATE(2021,MAX(1,MONTH(INDIRECT("'"&E10&"'!"&"D10"))),DAY(INDIRECT("'"&E10&"'!"&"D10"))),INDIRECT("'"&E10&"'!"&"C:C"))))} -> 570904.06 | G10: {=IF(YEAR(INDIRECT("'"&E10&"'!"&"D10"))<2021=TRUE,INDEX(INDIRECT("'"&E10&"'!"&"E:E"),MATCH(DATE(2021,1,DAY(INDIRECT("'"&E10&"'!"&"D10"))),INDIRECT("'"&E10&"'!"&"C:C"))),INDEX(INDIRECT("'"&E10&"'!"&"E:E"),MATCH(DATE(2021,MAX(1,MONTH(INDIRECT("'"&E10&"'!"&"D10"))),DAY(INDIRECT("'"&E10&"'!"&"D10"))),INDIRECT("'"&E10&"'!"&"C:C"))))} -> 583141.18 | H10: {=IF(YEAR(INDIRECT("'"&E10&"'!"&"D10"))<2021=TRUE,SUM(INDIRECT("'"&E10&"'!"&"F"&MATCH(DATE(2021,1,DAY(INDIRECT("'"&E10&"'!"&"D10"))),INDIRECT("'"&E10&"'!"&"C:C"))):INDIRECT("'"&E10&"'!"&"G"&MATCH(DATE(2021,12,DAY(INDIRECT("'"&E10&"'!"&"D10"))),INDIRECT("'"&E10&"'!"&"C:C")))),SUM(INDIRECT("'"&E10&"'!"&"F"&MATCH(DATE(2021,MAX(1,MONTH(INDIRECT("'"&E10&"'!"&"D10"))),DAY(INDIRECT("'"&E10&"'!"&"D10"))),INDIRECT("'"&E10&"'!"&"C:C"))):INDIRECT("'"&E10&"'!"&"G"&MATCH(DATE(2021,12,DAY(INDIRECT("'"&E10&"'!"&"D10"))),INDIRECT("'"&E10&"'!"&"C:C")))))} -> -328918.93 | I10: {=IF(YEAR(INDIRECT("'"&E10&"'!"&"D10"))<2021=TRUE,SUM(INDIRECT("'"&E10&"'!"&"F"&MATCH(DATE(2021,1,DAY(INDIRECT("'"&E10&"'!"&"D10"))),INDIRECT("'"&E10&"'!"&"C:C"))):INDIRECT("'"&E10&"'!"&"F"&MATCH(DATE(2021,12,DAY(INDIRECT("'"&E10&"'!"&"D10"))),INDIRECT("'"&E10&"'!"&"C:C")))),SUM(INDIRECT("'"&E10&"'!"&"F"&MATCH(DATE(2021,MAX(1,MONTH(INDIRECT("'"&E10&"'!"&"D10"))),DAY(INDIRECT("'"&E10&"'!"&"D10"))),INDIRECT("'"&E10&"'!"&"C:C"))):INDIRECT("'"&E10&"'!"&"F"&MATCH(DATE(2021,12,DAY(INDIRECT("'"&E10&"'!"&"D10"))),INDIRECT("'"&E10&"'!"&"C:C")))))} -> -342862.92 | J10: {=IF(YEAR(INDIRECT("'"&E10&"'!"&"D10"))<2021=TRUE,SUM(INDIRECT("'"&E10&"'!"&"G"&MATCH(DATE(2021,1,DAY(INDIRECT("'"&E10&"'!"&"D10"))),INDIRECT("'"&E10&"'!"&"C:C"))):INDIRECT("'"&E10&"'!"&"G"&MATCH(DATE(2021,12,DAY(INDIRECT("'"&E10&"'!"&"D10"))),INDIRECT("'"&E10&"'!"&"C:C")))),SUM(INDIRECT("'"&E10&"'!"&"G"&MATCH(DATE(2021,MAX(1,MONTH(INDIRECT("'"&E10&"'!"&"D10"))),DAY(INDIRECT("'"&E10&"'!"&"D10"))),INDIRECT("'"&E10&"'!"&"C:C"))):INDIRECT("'"&E10&"'!"&"G"&MATCH(DATE(2021,12,DAY(INDIRECT("'"&E10&"'!"&"D10"))),INDIRECT("'"&E10&"'!"&"C:C")))))} -> 13943.994 | K10: {=IF(YEAR(INDIRECT("'"&E10&"'!"&"D10"))<2021=TRUE,SUM(INDIRECT("'"&E10&"'!"&"L"&MATCH(DATE(2021,1,DAY(INDIRECT("'"&E10&"'!"&"D10"))),INDIRECT("'"&E10&"'!"&"C:C"))):INDIRECT("'"&E10&"'!"&"L"&MATCH(DATE(2021,12,DAY(INDIRECT("'"&E10&"'!"&"D10"))),INDIRECT("'"&E10&"'!"&"C:C")))),SUM(INDIRECT("'"&E10&"'!"&"L"&MATCH(DATE(2021,MAX(1,MONTH(INDIRECT("'"&E10&"'!"&"D10"))),DAY(INDIRECT("'"&E10&"'!"&"D10"))),INDIRECT("'"&E10&"'!"&"C:C"))):INDIRECT("'"&E10&"'!"&"L"&MATCH(DATE(2021,12,DAY(INDIRECT("'"&E10&"'!"&"D10"))),INDIRECT("'"&E10&"'!"&"C:C")))))} -> -326230.89
B11: Rental | C11: =SUM(I:I) -> -4645031.8 | E11: 12. KWHFC | F11: {=IF(YEAR(INDIRECT("'"&E11&"'!"&"D10"))<2021=TRUE,INDEX(INDIRECT("'"&E11&"'!"&"K:K"),MATCH(DATE(2021,1,DAY(INDIRECT("'"&E11&"'!"&"D10"))),INDIRECT("'"&E11&"'!"&"C:C"))),INDEX(INDIRECT("'"&E11&"'!"&"K:K"),MATCH(DATE(2021,MAX(1,MONTH(INDIRECT("'"&E11&"'!"&"D10"))),DAY(INDIRECT("'"&E11&"'!"&"D10"))),INDIRECT("'"&E11&"'!"&"C:C"))))} -> 296083.52 | G11: {=IF(YEAR(INDIRECT("'"&E11&"'!"&"D10"))<2021=TRUE,INDEX(INDIRECT("'"&E11&"'!"&"E:E"),MATCH(DATE(2021,1,DAY(INDIRECT("'"&E11&"'!"&"D10"))),INDIRECT("'"&E11&"'!"&"C:C"))),INDEX(INDIRECT("'"&E11&"'!"&"E:E"),MATCH(DATE(2021,MAX(1,MONTH(INDIRECT("'"&E11&"'!"&"D10"))),DAY(INDIRECT("'"&E11&"'!"&"D10"))),INDIRECT("'"&E11&"'!"&"C:C"))))} -> 302001.21 | H11: {=IF(YEAR(INDIRECT("'"&E11&"'!"&"D10"))<2021=TRUE,SUM(INDIRECT("'"&E11&"'!"&"F"&MATCH(DATE(2021,1,DAY(INDIRECT("'"&E11&"'!"&"D10"))),INDIRECT("'"&E11&"'!"&"C:C"))):INDIRECT("'"&E11&"'!"&"G"&MATCH(DATE(2021,12,DAY(INDIRECT("'"&E11&"'!"&"D10"))),INDIRECT("'"&E11&"'!"&"C:C")))),SUM(INDIRECT("'"&E11&"'!"&"F"&MATCH(DATE(2021,MAX(1,MONTH(INDIRECT("'"&E11&"'!"&"D10"))),DAY(INDIRECT("'"&E11&"'!"&"D10"))),INDIRECT("'"&E11&"'!"&"C:C"))):INDIRECT("'"&E11&"'!"&"G"&MATCH(DATE(2021,12,DAY(INDIRECT("'"&E11&"'!"&"D10"))),INDIRECT("'"&E11&"'!"&"C:C")))))} -> -162364.67 | I11: {=IF(YEAR(INDIRECT("'"&E11&"'!"&"D10"))<2021=TRUE,SUM(INDIRECT("'"&E11&"'!"&"F"&MATCH(DATE(2021,1,DAY(INDIRECT("'"&E11&"'!"&"D10"))),INDIRECT("'"&E11&"'!"&"C:C"))):INDIRECT("'"&E11&"'!"&"F"&MATCH(DATE(2021,12,DAY(INDIRECT("'"&E11&"'!"&"D10"))),INDIRECT("'"&E11&"'!"&"C:C")))),SUM(INDIRECT("'"&E11&"'!"&"F"&MATCH(DATE(2021,MAX(1,MONTH(INDIRECT("'"&E11&"'!"&"D10"))),DAY(INDIRECT("'"&E11&"'!"&"D10"))),INDIRECT("'"&E11&"'!"&"C:C"))):INDIRECT("'"&E11&"'!"&"F"&MATCH(DATE(2021,12,DAY(INDIRECT("'"&E11&"'!"&"D10"))),INDIRECT("'"&E11&"'!"&"C:C")))))} -> -169733.76 | J11: {=IF(YEAR(INDIRECT("'"&E11&"'!"&"D10"))<2021=TRUE,SUM(INDIRECT("'"&E11&"'!"&"G"&MATCH(DATE(2021,1,DAY(INDIRECT("'"&E11&"'!"&"D10"))),INDIRECT("'"&E11&"'!"&"C:C"))):INDIRECT("'"&E11&"'!"&"G"&MATCH(DATE(2021,12,DAY(INDIRECT("'"&E11&"'!"&"D10"))),INDIRECT("'"&E11&"'!"&"C:C")))),SUM(INDIRECT("'"&E11&"'!"&"G"&MATCH(DATE(2021,MAX(1,MONTH(INDIRECT("'"&E11&"'!"&"D10"))),DAY(INDIRECT("'"&E11&"'!"&"D10"))),INDIRECT("'"&E11&"'!"&"C:C"))):INDIRECT("'"&E11&"'!"&"G"&MATCH(DATE(2021,12,DAY(INDIRECT("'"&E11&"'!"&"D10"))),INDIRECT("'"&E11&"'!"&"C:C")))))} -> 7369.0854 | K11: {=IF(YEAR(INDIRECT("'"&E11&"'!"&"D10"))<2021=TRUE,SUM(INDIRECT("'"&E11&"'!"&"L"&MATCH(DATE(2021,1,DAY(INDIRECT("'"&E11&"'!"&"D10"))),INDIRECT("'"&E11&"'!"&"C:C"))):INDIRECT("'"&E11&"'!"&"L"&MATCH(DATE(2021,12,DAY(INDIRECT("'"&E11&"'!"&"D10"))),INDIRECT("'"&E11&"'!"&"C:C")))),SUM(INDIRECT("'"&E11&"'!"&"L"&MATCH(DATE(2021,MAX(1,MONTH(INDIRECT("'"&E11&"'!"&"D10"))),DAY(INDIRECT("'"&E11&"'!"&"D10"))),INDIRECT("'"&E11&"'!"&"C:C"))):INDIRECT("'"&E11&"'!"&"L"&MATCH(DATE(2021,12,DAY(INDIRECT("'"&E11&"'!"&"D10"))),INDIRECT("'"&E11&"'!"&"C:C")))))} -> -161500.1
E12: 13. JSC | F12: {=IF(YEAR(INDIRECT("'"&E12&"'!"&"D10"))<2021=TRUE,INDEX(INDIRECT("'"&E12&"'!"&"K:K"),MATCH(DATE(2021,1,DAY(INDIRECT("'"&E12&"'!"&"D10"))),INDIRECT("'"&E12&"'!"&"C:C"))),INDEX(INDIRECT("'"&E12&"'!"&"K:K"),MATCH(DATE(2021,MAX(1,MONTH(INDIRECT("'"&E12&"'!"&"D10"))),DAY(INDIRECT("'"&E12&"'!"&"D10"))),INDIRECT("'"&E12&"'!"&"C:C"))))} -> 157566.87 | G12: {=IF(YEAR(INDIRECT("'"&E12&"'!"&"D10"))<2021=TRUE,INDEX(INDIRECT("'"&E12&"'!"&"E:E"),MATCH(DATE(2021,1,DAY(INDIRECT("'"&E12&"'!"&"D10"))),INDIRECT("'"&E12&"'!"&"C:C"))),INDEX(INDIRECT("'"&E12&"'!"&"E:E"),MATCH(DATE(2021,MAX(1,MONTH(INDIRECT("'"&E12&"'!"&"D10"))),DAY(INDIRECT("'"&E12&"'!"&"D10"))),INDIRECT("'"&E12&"'!"&"C:C"))))} -> 160488.36 | H12: {=IF(YEAR(INDIRECT("'"&E12&"'!"&"D10"))<2021=TRUE,SUM(INDIRECT("'"&E12&"'!"&"F"&MATCH(DATE(2021,1,DAY(INDIRECT("'"&E12&"'!"&"D10"))),INDIRECT("'"&E12&"'!"&"C:C"))):INDIRECT("'"&E12&"'!"&"G"&MATCH(DATE(2021,12,DAY(INDIRECT("'"&E12&"'!"&"D10"))),INDIRECT("'"&E12&"'!"&"C:C")))),SUM(INDIRECT("'"&E12&"'!"&"F"&MATCH(DATE(2021,MAX(1,MONTH(INDIRECT("'"&E12&"'!"&"D10"))),DAY(INDIRECT("'"&E12&"'!"&"D10"))),INDIRECT("'"&E12&"'!"&"C:C"))):INDIRECT("'"&E12&"'!"&"G"&MATCH(DATE(2021,12,DAY(INDIRECT("'"&E12&"'!"&"D10"))),INDIRECT("'"&E12&"'!"&"C:C")))))} -> -82412.299 | I12: {=IF(YEAR(INDIRECT("'"&E12&"'!"&"D10"))<2021=TRUE,SUM(INDIRECT("'"&E12&"'!"&"F"&MATCH(DATE(2021,1,DAY(INDIRECT("'"&E12&"'!"&"D10"))),INDIRECT("'"&E12&"'!"&"C:C"))):INDIRECT("'"&E12&"'!"&"F"&MATCH(DATE(2021,12,DAY(INDIRECT("'"&E12&"'!"&"D10"))),INDIRECT("'"&E12&"'!"&"C:C")))),SUM(INDIRECT("'"&E12&"'!"&"F"&MATCH(DATE(2021,MAX(1,MONTH(INDIRECT("'"&E12&"'!"&"D10"))),DAY(INDIRECT("'"&E12&"'!"&"D10"))),INDIRECT("'"&E12&"'!"&"C:C"))):INDIRECT("'"&E12&"'!"&"F"&MATCH(DATE(2021,12,DAY(INDIRECT("'"&E12&"'!"&"D10"))),INDIRECT("'"&E12&"'!"&"C:C")))))} -> -86400 | J12: {=IF(YEAR(INDIRECT("'"&E12&"'!"&"D10"))<2021=TRUE,SUM(INDIRECT("'"&E12&"'!"&"G"&MATCH(DATE(2021,1,DAY(INDIRECT("'"&E12&"'!"&"D10"))),INDIRECT("'"&E12&"'!"&"C:C"))):INDIRECT("'"&E12&"'!"&"G"&MATCH(DATE(2021,12,DAY(INDIRECT("'"&E12&"'!"&"D10"))),INDIRECT("'"&E12&"'!"&"C:C")))),SUM(INDIRECT("'"&E12&"'!"&"G"&MATCH(DATE(2021,MAX(1,MONTH(INDIRECT("'"&E12&"'!"&"D10"))),DAY(INDIRECT("'"&E12&"'!"&"D10"))),INDIRECT("'"&E12&"'!"&"C:C"))):INDIRECT("'"&E12&"'!"&"G"&MATCH(DATE(2021,12,DAY(INDIRECT("'"&E12&"'!"&"D10"))),INDIRECT("'"&E12&"'!"&"C:C")))))} -> 3987.7013 | K12: {=IF(YEAR(INDIRECT("'"&E12&"'!"&"D10"))<2021=TRUE,SUM(INDIRECT("'"&E12&"'!"&"L"&MATCH(DATE(2021,1,DAY(INDIRECT("'"&E12&"'!"&"D10"))),INDIRECT("'"&E12&"'!"&"C:C"))):INDIRECT("'"&E12&"'!"&"L"&MATCH(DATE(2021,12,DAY(INDIRECT("'"&E12&"'!"&"D10"))),INDIRECT("'"&E12&"'!"&"C:C")))),SUM(INDIRECT("'"&E12&"'!"&"L"&MATCH(DATE(2021,MAX(1,MONTH(INDIRECT("'"&E12&"'!"&"D10"))),DAY(INDIRECT("'"&E12&"'!"&"D10"))),INDIRECT("'"&E12&"'!"&"C:C"))):INDIRECT("'"&E12&"'!"&"L"&MATCH(DATE(2021,12,DAY(INDIRECT("'"&E12&"'!"&"D10"))),INDIRECT("'"&E12&"'!"&"C:C")))))} -> -82208.799
A13: 2021 Lease Depreciation | E13: 14. Viva | F13: {=IF(YEAR(INDIRECT("'"&E13&"'!"&"D10"))<2021=TRUE,INDEX(INDIRECT("'"&E13&"'!"&"K:K"),MATCH(DATE(2021,1,DAY(INDIRECT("'"&E13&"'!"&"D10"))),INDIRECT("'"&E13&"'!"&"C:C"))),INDEX(INDIRECT("'"&E13&"'!"&"K:K"),MATCH(DATE(2021,MAX(1,MONTH(INDIRECT("'"&E13&"'!"&"D10"))),DAY(INDIRECT("'"&E13&"'!"&"D10"))),INDIRECT("'"&E13&"'!"&"C:C"))))} -> 145023.17 | G13: {=IF(YEAR(INDIRECT("'"&E13&"'!"&"D10"))<2021=TRUE,INDEX(INDIRECT("'"&E13&"'!"&"E:E"),MATCH(DATE(2021,1,DAY(INDIRECT("'"&E13&"'!"&"D10"))),INDIRECT("'"&E13&"'!"&"C:C"))),INDEX(INDIRECT("'"&E13&"'!"&"E:E"),MATCH(DATE(2021,MAX(1,MONTH(INDIRECT("'"&E13&"'!"&"D10"))),DAY(INDIRECT("'"&E13&"'!"&"D10"))),INDIRECT("'"&E13&"'!"&"C:C"))))} -> 147502.88 | H13: {=IF(YEAR(INDIRECT("'"&E13&"'!"&"D10"))<2021=TRUE,SUM(INDIRECT("'"&E13&"'!"&"F"&MATCH(DATE(2021,1,DAY(INDIRECT("'"&E13&"'!"&"D10"))),INDIRECT("'"&E13&"'!"&"C:C"))):INDIRECT("'"&E13&"'!"&"G"&MATCH(DATE(2021,12,DAY(INDIRECT("'"&E13&"'!"&"D10"))),INDIRECT("'"&E13&"'!"&"C:C")))),SUM(INDIRECT("'"&E13&"'!"&"F"&MATCH(DATE(2021,MAX(1,MONTH(INDIRECT("'"&E13&"'!"&"D10"))),DAY(INDIRECT("'"&E13&"'!"&"D10"))),INDIRECT("'"&E13&"'!"&"C:C"))):INDIRECT("'"&E13&"'!"&"G"&MATCH(DATE(2021,12,DAY(INDIRECT("'"&E13&"'!"&"D10"))),INDIRECT("'"&E13&"'!"&"C:C")))))} -> -72482.99 | I13: {=IF(YEAR(INDIRECT("'"&E13&"'!"&"D10"))<2021=TRUE,SUM(INDIRECT("'"&E13&"'!"&"F"&MATCH(DATE(2021,1,DAY(INDIRECT("'"&E13&"'!"&"D10"))),INDIRECT("'"&E13&"'!"&"C:C"))):INDIRECT("'"&E13&"'!"&"F"&MATCH(DATE(2021,12,DAY(INDIRECT("'"&E13&"'!"&"D10"))),INDIRECT("'"&E13&"'!"&"C:C")))),SUM(INDIRECT("'"&E13&"'!"&"F"&MATCH(DATE(2021,MAX(1,MONTH(INDIRECT("'"&E13&"'!"&"D10"))),DAY(INDIRECT("'"&E13&"'!"&"D10"))),INDIRECT("'"&E13&"'!"&"C:C"))):INDIRECT("'"&E13&"'!"&"F"&MATCH(DATE(2021,12,DAY(INDIRECT("'"&E13&"'!"&"D10"))),INDIRECT("'"&E13&"'!"&"C:C")))))} -> -76208.4 | J13: {=IF(YEAR(INDIRECT("'"&E13&"'!"&"D10"))<2021=TRUE,SUM(INDIRECT("'"&E13&"'!"&"G"&MATCH(DATE(2021,1,DAY(INDIRECT("'"&E13&"'!"&"D10"))),INDIRECT("'"&E13&"'!"&"C:C"))):INDIRECT("'"&E13&"'!"&"G"&MATCH(DATE(2021,12,DAY(INDIRECT("'"&E13&"'!"&"D10"))),INDIRECT("'"&E13&"'!"&"C:C")))),SUM(INDIRECT("'"&E13&"'!"&"G"&MATCH(DATE(2021,MAX(1,MONTH(INDIRECT("'"&E13&"'!"&"D10"))),DAY(INDIRECT("'"&E13&"'!"&"D10"))),INDIRECT("'"&E13&"'!"&"C:C"))):INDIRECT("'"&E13&"'!"&"G"&MATCH(DATE(2021,12,DAY(INDIRECT("'"&E13&"'!"&"D10"))),INDIRECT("'"&E13&"'!"&"C:C")))))} -> 3725.41 | K13: {=IF(YEAR(INDIRECT("'"&E13&"'!"&"D10"))<2021=TRUE,SUM(INDIRECT("'"&E13&"'!"&"L"&MATCH(DATE(2021,1,DAY(INDIRECT("'"&E13&"'!"&"D10"))),INDIRECT("'"&E13&"'!"&"C:C"))):INDIRECT("'"&E13&"'!"&"L"&MATCH(DATE(2021,12,DAY(INDIRECT("'"&E13&"'!"&"D10"))),INDIRECT("'"&E13&"'!"&"C:C")))),SUM(INDIRECT("'"&E13&"'!"&"L"&MATCH(DATE(2021,MAX(1,MONTH(INDIRECT("'"&E13&"'!"&"D10"))),DAY(INDIRECT("'"&E13&"'!"&"D10"))),INDIRECT("'"&E13&"'!"&"C:C"))):INDIRECT("'"&E13&"'!"&"L"&MATCH(DATE(2021,12,DAY(INDIRECT("'"&E13&"'!"&"D10"))),INDIRECT("'"&E13&"'!"&"C:C")))))} -> -72511.586
B14: ROU Asset | C14: =SUM(K:K) -> -4527210.9 | E14: 15. Figaro | F14: {=IF(YEAR(INDIRECT("'"&E14&"'!"&"D10"))<2021=TRUE,INDEX(INDIRECT("'"&E14&"'!"&"K:K"),MATCH(DATE(2021,1,DAY(INDIRECT("'"&E14&"'!"&"D10"))),INDIRECT("'"&E14&"'!"&"C:C"))),INDEX(INDIRECT("'"&E14&"'!"&"K:K"),MATCH(DATE(2021,MAX(1,MONTH(INDIRECT("'"&E14&"'!"&"D10"))),DAY(INDIRECT("'"&E14&"'!"&"D10"))),INDIRECT("'"&E14&"'!"&"C:C"))))} -> 150970.56 | G14: {=IF(YEAR(INDIRECT("'"&E14&"'!"&"D10"))<2021=TRUE,INDEX(INDIRECT("'"&E14&"'!"&"E:E"),MATCH(DATE(2021,1,DAY(INDIRECT("'"&E14&"'!"&"D10"))),INDIRECT("'"&E14&"'!"&"C:C"))),INDEX(INDIRECT("'"&E14&"'!"&"E:E"),MATCH(DATE(2021,MAX(1,MONTH(INDIRECT("'"&E14&"'!"&"D10"))),DAY(INDIRECT("'"&E14&"'!"&"D10"))),INDIRECT("'"&E14&"'!"&"C:C"))))} -> 150970.56 | H14: {=IF(YEAR(INDIRECT("'"&E14&"'!"&"D10"))<2021=TRUE,SUM(INDIRECT("'"&E14&"'!"&"F"&MATCH(DATE(2021,1,DAY(INDIRECT("'"&E14&"'!"&"D10"))),INDIRECT("'"&E14&"'!"&"C:C"))):INDIRECT("'"&E14&"'!"&"G"&MATCH(DATE(2021,12,DAY(INDIRECT("'"&E14&"'!"&"D10"))),INDIRECT("'"&E14&"'!"&"C:C")))),SUM(INDIRECT("'"&E14&"'!"&"F"&MATCH(DATE(2021,MAX(1,MONTH(INDIRECT("'"&E14&"'!"&"D10"))),DAY(INDIRECT("'"&E14&"'!"&"D10"))),INDIRECT("'"&E14&"'!"&"C:C"))):INDIRECT("'"&E14&"'!"&"G"&MATCH(DATE(2021,12,DAY(INDIRECT("'"&E14&"'!"&"D10"))),INDIRECT("'"&E14&"'!"&"C:C")))))} -> -74187.008 | I14: {=IF(YEAR(INDIRECT("'"&E14&"'!"&"D10"))<2021=TRUE,SUM(INDIRECT("'"&E14&"'!"&"F"&MATCH(DATE(2021,1,DAY(INDIRECT("'"&E14&"'!"&"D10"))),INDIRECT("'"&E14&"'!"&"C:C"))):INDIRECT("'"&E14&"'!"&"F"&MATCH(DATE(2021,12,DAY(INDIRECT("'"&E14&"'!"&"D10"))),INDIRECT("'"&E14&"'!"&"C:C")))),SUM(INDIRECT("'"&E14&"'!"&"F"&MATCH(DATE(2021,MAX(1,MONTH(INDIRECT("'"&E14&"'!"&"D10"))),DAY(INDIRECT("'"&E14&"'!"&"D10"))),INDIRECT("'"&E14&"'!"&"C:C"))):INDIRECT("'"&E14&"'!"&"F"&MATCH(DATE(2021,12,DAY(INDIRECT("'"&E14&"'!"&"D10"))),INDIRECT("'"&E14&"'!"&"C:C")))))} -> -78000 | J14: {=IF(YEAR(INDIRECT("'"&E14&"'!"&"D10"))<2021=TRUE,SUM(INDIRECT("'"&E14&"'!"&"G"&MATCH(DATE(2021,1,DAY(INDIRECT("'"&E14&"'!"&"D10"))),INDIRECT("'"&E14&"'!"&"C:C"))):INDIRECT("'"&E14&"'!"&"G"&MATCH(DATE(2021,12,DAY(INDIRECT("'"&E14&"'!"&"D10"))),INDIRECT("'"&E14&"'!"&"C:C")))),SUM(INDIRECT("'"&E14&"'!"&"G"&MATCH(DATE(2021,MAX(1,MONTH(INDIRECT("'"&E14&"'!"&"D10"))),DAY(INDIRECT("'"&E14&"'!"&"D10"))),INDIRECT("'"&E14&"'!"&"C:C"))):INDIRECT("'"&E14&"'!"&"G"&MATCH(DATE(2021,12,DAY(INDIRECT("'"&E14&"'!"&"D10"))),INDIRECT("'"&E14&"'!"&"C:C")))))} -> 3812.9915 | K14: {=IF(YEAR(INDIRECT("'"&E14&"'!"&"D10"))<2021=TRUE,SUM(INDIRECT("'"&E14&"'!"&"L"&MATCH(DATE(2021,1,DAY(INDIRECT("'"&E14&"'!"&"D10"))),INDIRECT("'"&E14&"'!"&"C:C"))):INDIRECT("'"&E14&"'!"&"L"&MATCH(DATE(2021,12,DAY(INDIRECT("'"&E14&"'!"&"D10"))),INDIRECT("'"&E14&"'!"&"C:C")))),SUM(INDIRECT("'"&E14&"'!"&"L"&MATCH(DATE(2021,MAX(1,MONTH(INDIRECT("'"&E14&"'!"&"D10"))),DAY(INDIRECT("'"&E14&"'!"&"D10"))),INDIRECT("'"&E14&"'!"&"C:C"))):INDIRECT("'"&E14&"'!"&"L"&MATCH(DATE(2021,12,DAY(INDIRECT("'"&E14&"'!"&"D10"))),INDIRECT("'"&E14&"'!"&"C:C")))))} -> -75485.281
B15: Depreciation | C15: =-SUM(K:K) -> 4527210.9 | E15: 16. HIM | F15: {=IF(YEAR(INDIRECT("'"&E15&"'!"&"D10"))<2021=TRUE,INDEX(INDIRECT("'"&E15&"'!"&"K:K"),MATCH(DATE(2021,1,DAY(INDIRECT("'"&E15&"'!"&"D10"))),INDIRECT("'"&E15&"'!"&"C:C"))),INDEX(INDIRECT("'"&E15&"'!"&"K:K"),MATCH(DATE(2021,MAX(1,MONTH(INDIRECT("'"&E15&"'!"&"D10"))),DAY(INDIRECT("'"&E15&"'!"&"D10"))),INDIRECT("'"&E15&"'!"&"C:C"))))} -> 459635.48 | G15: {=IF(YEAR(INDIRECT("'"&E15&"'!"&"D10"))<2021=TRUE,INDEX(INDIRECT("'"&E15&"'!"&"E:E"),MATCH(DATE(2021,1,DAY(INDIRECT("'"&E15&"'!"&"D10"))),INDIRECT("'"&E15&"'!"&"C:C"))),INDEX(INDIRECT("'"&E15&"'!"&"E:E"),MATCH(DATE(2021,MAX(1,MONTH(INDIRECT("'"&E15&"'!"&"D10"))),DAY(INDIRECT("'"&E15&"'!"&"D10"))),INDIRECT("'"&E15&"'!"&"C:C"))))} -> 468071.91 | H15: {=IF(YEAR(INDIRECT("'"&E15&"'!"&"D10"))<2021=TRUE,SUM(INDIRECT("'"&E15&"'!"&"F"&MATCH(DATE(2021,1,DAY(INDIRECT("'"&E15&"'!"&"D10"))),INDIRECT("'"&E15&"'!"&"C:C"))):INDIRECT("'"&E15&"'!"&"G"&MATCH(DATE(2021,12,DAY(INDIRECT("'"&E15&"'!"&"D10"))),INDIRECT("'"&E15&"'!"&"C:C")))),SUM(INDIRECT("'"&E15&"'!"&"F"&MATCH(DATE(2021,MAX(1,MONTH(INDIRECT("'"&E15&"'!"&"D10"))),DAY(INDIRECT("'"&E15&"'!"&"D10"))),INDIRECT("'"&E15&"'!"&"C:C"))):INDIRECT("'"&E15&"'!"&"G"&MATCH(DATE(2021,12,DAY(INDIRECT("'"&E15&"'!"&"D10"))),INDIRECT("'"&E15&"'!"&"C:C")))))} -> -219763.35 | I15: {=IF(YEAR(INDIRECT("'"&E15&"'!"&"D10"))<2021=TRUE,SUM(INDIRECT("'"&E15&"'!"&"F"&MATCH(DATE(2021,1,DAY(INDIRECT("'"&E15&"'!"&"D10"))),INDIRECT("'"&E15&"'!"&"C:C"))):INDIRECT("'"&E15&"'!"&"F"&MATCH(DATE(2021,12,DAY(INDIRECT("'"&E15&"'!"&"D10"))),INDIRECT("'"&E15&"'!"&"C:C")))),SUM(INDIRECT("'"&E15&"'!"&"F"&MATCH(DATE(2021,MAX(1,MONTH(INDIRECT("'"&E15&"'!"&"D10"))),DAY(INDIRECT("'"&E15&"'!"&"D10"))),INDIRECT("'"&E15&"'!"&"C:C"))):INDIRECT("'"&E15&"'!"&"F"&MATCH(DATE(2021,12,DAY(INDIRECT("'"&E15&"'!"&"D10"))),INDIRECT("'"&E15&"'!"&"C:C")))))} -> -231720 | J15: {=IF(YEAR(INDIRECT("'"&E15&"'!"&"D10"))<2021=TRUE,SUM(INDIRECT("'"&E15&"'!"&"G"&MATCH(DATE(2021,1,DAY(INDIRECT("'"&E15&"'!"&"D10"))),INDIRECT("'"&E15&"'!"&"C:C"))):INDIRECT("'"&E15&"'!"&"G"&MATCH(DATE(2021,12,DAY(INDIRECT("'"&E15&"'!"&"D10"))),INDIRECT("'"&E15&"'!"&"C:C")))),SUM(INDIRECT("'"&E15&"'!"&"G"&MATCH(DATE(2021,MAX(1,MONTH(INDIRECT("'"&E15&"'!"&"D10"))),DAY(INDIRECT("'"&E15&"'!"&"D10"))),INDIRECT("'"&E15&"'!"&"C:C"))):INDIRECT("'"&E15&"'!"&"G"&MATCH(DATE(2021,12,DAY(INDIRECT("'"&E15&"'!"&"D10"))),INDIRECT("'"&E15&"'!"&"C:C")))))} -> 11956.645 | K15: {=IF(YEAR(INDIRECT("'"&E15&"'!"&"D10"))<2021=TRUE,SUM(INDIRECT("'"&E15&"'!"&"L"&MATCH(DATE(2021,1,DAY(INDIRECT("'"&E15&"'!"&"D10"))),INDIRECT("'"&E15&"'!"&"C:C"))):INDIRECT("'"&E15&"'!"&"L"&MATCH(DATE(2021,12,DAY(INDIRECT("'"&E15&"'!"&"D10"))),INDIRECT("'"&E15&"'!"&"C:C")))),SUM(INDIRECT("'"&E15&"'!"&"L"&MATCH(DATE(2021,MAX(1,MONTH(INDIRECT("'"&E15&"'!"&"D10"))),DAY(INDIRECT("'"&E15&"'!"&"D10"))),INDIRECT("'"&E15&"'!"&"C:C"))):INDIRECT("'"&E15&"'!"&"L"&MATCH(DATE(2021,12,DAY(INDIRECT("'"&E15&"'!"&"D10"))),INDIRECT("'"&E15&"'!"&"C:C")))))} -> -220625.03
E16: 17. TMP | F16: {=IF(YEAR(INDIRECT("'"&E16&"'!"&"D10"))<2021=TRUE,INDEX(INDIRECT("'"&E16&"'!"&"K:K"),MATCH(DATE(2021,1,DAY(INDIRECT("'"&E16&"'!"&"D10"))),INDIRECT("'"&E16&"'!"&"C:C"))),INDEX(INDIRECT("'"&E16&"'!"&"K:K"),MATCH(DATE(2021,MAX(1,MONTH(INDIRECT("'"&E16&"'!"&"D10"))),DAY(INDIRECT("'"&E16&"'!"&"D10"))),INDIRECT("'"&E16&"'!"&"C:C"))))} -> 699475.38 | G16: {=IF(YEAR(INDIRECT("'"&E16&"'!"&"D10"))<2021=TRUE,INDEX(INDIRECT("'"&E16&"'!"&"E:E"),MATCH(DATE(2021,1,DAY(INDIRECT("'"&E16&"'!"&"D10"))),INDIRECT("'"&E16&"'!"&"C:C"))),INDEX(INDIRECT("'"&E16&"'!"&"E:E"),MATCH(DATE(2021,MAX(1,MONTH(INDIRECT("'"&E16&"'!"&"D10"))),DAY(INDIRECT("'"&E16&"'!"&"D10"))),INDIRECT("'"&E16&"'!"&"C:C"))))} -> 714299.22 | H16: {=IF(YEAR(INDIRECT("'"&E16&"'!"&"D10"))<2021=TRUE,SUM(INDIRECT("'"&E16&"'!"&"F"&MATCH(DATE(2021,1,DAY(INDIRECT("'"&E16&"'!"&"D10"))),INDIRECT("'"&E16&"'!"&"C:C"))):INDIRECT("'"&E16&"'!"&"G"&MATCH(DATE(2021,12,DAY(INDIRECT("'"&E16&"'!"&"D10"))),INDIRECT("'"&E16&"'!"&"C:C")))),SUM(INDIRECT("'"&E16&"'!"&"F"&MATCH(DATE(2021,MAX(1,MONTH(INDIRECT("'"&E16&"'!"&"D10"))),DAY(INDIRECT("'"&E16&"'!"&"D10"))),INDIRECT("'"&E16&"'!"&"C:C"))):INDIRECT("'"&E16&"'!"&"G"&MATCH(DATE(2021,12,DAY(INDIRECT("'"&E16&"'!"&"D10"))),INDIRECT("'"&E16&"'!"&"C:C")))))} -> -235282.72 | I16: {=IF(YEAR(INDIRECT("'"&E16&"'!"&"D10"))<2021=TRUE,SUM(INDIRECT("'"&E16&"'!"&"F"&MATCH(DATE(2021,1,DAY(INDIRECT("'"&E16&"'!"&"D10"))),INDIRECT("'"&E16&"'!"&"C:C"))):INDIRECT("'"&E16&"'!"&"F"&MATCH(DATE(2021,12,DAY(INDIRECT("'"&E16&"'!"&"D10"))),INDIRECT("'"&E16&"'!"&"C:C")))),SUM(INDIRECT("'"&E16&"'!"&"F"&MATCH(DATE(2021,MAX(1,MONTH(INDIRECT("'"&E16&"'!"&"D10"))),DAY(INDIRECT("'"&E16&"'!"&"D10"))),INDIRECT("'"&E16&"'!"&"C:C"))):INDIRECT("'"&E16&"'!"&"F"&MATCH(DATE(2021,12,DAY(INDIRECT("'"&E16&"'!"&"D10"))),INDIRECT("'"&E16&"'!"&"C:C")))))} -> -252963.12 | J16: {=IF(YEAR(INDIRECT("'"&E16&"'!"&"D10"))<2021=TRUE,SUM(INDIRECT("'"&E16&"'!"&"G"&MATCH(DATE(2021,1,DAY(INDIRECT("'"&E16&"'!"&"D10"))),INDIRECT("'"&E16&"'!"&"C:C"))):INDIRECT("'"&E16&"'!"&"G"&MATCH(DATE(2021,12,DAY(INDIRECT("'"&E16&"'!"&"D10"))),INDIRECT("'"&E16&"'!"&"C:C")))),SUM(INDIRECT("'"&E16&"'!"&"G"&MATCH(DATE(2021,MAX(1,MONTH(INDIRECT("'"&E16&"'!"&"D10"))),DAY(INDIRECT("'"&E16&"'!"&"D10"))),INDIRECT("'"&E16&"'!"&"C:C"))):INDIRECT("'"&E16&"'!"&"G"&MATCH(DATE(2021,12,DAY(INDIRECT("'"&E16&"'!"&"D10"))),INDIRECT("'"&E16&"'!"&"C:C")))))} -> 17680.404 | K16: {=IF(YEAR(INDIRECT("'"&E16&"'!"&"D10"))<2021=TRUE,SUM(INDIRECT("'"&E16&"'!"&"L"&MATCH(DATE(2021,1,DAY(INDIRECT("'"&E16&"'!"&"D10"))),INDIRECT("'"&E16&"'!"&"C:C"))):INDIRECT("'"&E16&"'!"&"L"&MATCH(DATE(2021,12,DAY(INDIRECT("'"&E16&"'!"&"D10"))),INDIRECT("'"&E16&"'!"&"C:C")))),SUM(INDIRECT("'"&E16&"'!"&"L"&MATCH(DATE(2021,MAX(1,MONTH(INDIRECT("'"&E16&"'!"&"D10"))),DAY(INDIRECT("'"&E16&"'!"&"D10"))),INDIRECT("'"&E16&"'!"&"C:C"))):INDIRECT("'"&E16&"'!"&"L"&MATCH(DATE(2021,12,DAY(INDIRECT("'"&E16&"'!"&"D10"))),INDIRECT("'"&E16&"'!"&"C:C")))))} -> -262303.27
E17: 18. CWP | F17: {=IF(YEAR(INDIRECT("'"&E17&"'!"&"D10"))<2021=TRUE,INDEX(INDIRECT("'"&E17&"'!"&"K:K"),MATCH(DATE(2021,1,DAY(INDIRECT("'"&E17&"'!"&"D10"))),INDIRECT("'"&E17&"'!"&"C:C"))),INDEX(INDIRECT("'"&E17&"'!"&"K:K"),MATCH(DATE(2021,MAX(1,MONTH(INDIRECT("'"&E17&"'!"&"D10"))),DAY(INDIRECT("'"&E17&"'!"&"D10"))),INDIRECT("'"&E17&"'!"&"C:C"))))} -> 1390244.3 | G17: {=IF(YEAR(INDIRECT("'"&E17&"'!"&"D10"))<2021=TRUE,INDEX(INDIRECT("'"&E17&"'!"&"E:E"),MATCH(DATE(2021,1,DAY(INDIRECT("'"&E17&"'!"&"D10"))),INDIRECT("'"&E17&"'!"&"C:C"))),INDEX(INDIRECT("'"&E17&"'!"&"E:E"),MATCH(DATE(2021,MAX(1,MONTH(INDIRECT("'"&E17&"'!"&"D10"))),DAY(INDIRECT("'"&E17&"'!"&"D10"))),INDIRECT("'"&E17&"'!"&"C:C"))))} -> 1390244.3 | H17: {=IF(YEAR(INDIRECT("'"&E17&"'!"&"D10"))<2021=TRUE,SUM(INDIRECT("'"&E17&"'!"&"F"&MATCH(DATE(2021,1,DAY(INDIRECT("'"&E17&"'!"&"D10"))),INDIRECT("'"&E17&"'!"&"C:C"))):INDIRECT("'"&E17&"'!"&"G"&MATCH(DATE(2021,12,DAY(INDIRECT("'"&E17&"'!"&"D10"))),INDIRECT("'"&E17&"'!"&"C:C")))),SUM(INDIRECT("'"&E17&"'!"&"F"&MATCH(DATE(2021,MAX(1,MONTH(INDIRECT("'"&E17&"'!"&"D10"))),DAY(INDIRECT("'"&E17&"'!"&"D10"))),INDIRECT("'"&E17&"'!"&"C:C"))):INDIRECT("'"&E17&"'!"&"G"&MATCH(DATE(2021,12,DAY(INDIRECT("'"&E17&"'!"&"D10"))),INDIRECT("'"&E17&"'!"&"C:C")))))} -> -407591.31 | I17: {=IF(YEAR(INDIRECT("'"&E17&"'!"&"D10"))<2021=TRUE,SUM(INDIRECT("'"&E17&"'!"&"F"&MATCH(DATE(2021,1,DAY(INDIRECT("'"&E17&"'!"&"D10"))),INDIRECT("'"&E17&"'!"&"C:C"))):INDIRECT("'"&E17&"'!"&"F"&MATCH(DATE(2021,12,DAY(INDIRECT("'"&E17&"'!"&"D10"))),INDIRECT("'"&E17&"'!"&"C:C")))),SUM(INDIRECT("'"&E17&"'!"&"F"&MATCH(DATE(2021,MAX(1,MONTH(INDIRECT("'"&E17&"'!"&"D10"))),DAY(INDIRECT("'"&E17&"'!"&"D10"))),INDIRECT("'"&E17&"'!"&"C:C"))):INDIRECT("'"&E17&"'!"&"F"&MATCH(DATE(2021,12,DAY(INDIRECT("'"&E17&"'!"&"D10"))),INDIRECT("'"&E17&"'!"&"C:C")))))} -> -443539.2 | J17: {=IF(YEAR(INDIRECT("'"&E17&"'!"&"D10"))<2021=TRUE,SUM(INDIRECT("'"&E17&"'!"&"G"&MATCH(DATE(2021,1,DAY(INDIRECT("'"&E17&"'!"&"D10"))),INDIRECT("'"&E17&"'!"&"C:C"))):INDIRECT("'"&E17&"'!"&"G"&MATCH(DATE(2021,12,DAY(INDIRECT("'"&E17&"'!"&"D10"))),INDIRECT("'"&E17&"'!"&"C:C")))),SUM(INDIRECT("'"&E17&"'!"&"G"&MATCH(DATE(2021,MAX(1,MONTH(INDIRECT("'"&E17&"'!"&"D10"))),DAY(INDIRECT("'"&E17&"'!"&"D10"))),INDIRECT("'"&E17&"'!"&"C:C"))):INDIRECT("'"&E17&"'!"&"G"&MATCH(DATE(2021,12,DAY(INDIRECT("'"&E17&"'!"&"D10"))),INDIRECT("'"&E17&"'!"&"C:C")))))} -> 35947.891 | K17: {=IF(YEAR(INDIRECT("'"&E17&"'!"&"D10"))<2021=TRUE,SUM(INDIRECT("'"&E17&"'!"&"L"&MATCH(DATE(2021,1,DAY(INDIRECT("'"&E17&"'!"&"D10"))),INDIRECT("'"&E17&"'!"&"C:C"))):INDIRECT("'"&E17&"'!"&"L"&MATCH(DATE(2021,12,DAY(INDIRECT("'"&E17&"'!"&"D10"))),INDIRECT("'"&E17&"'!"&"C:C")))),SUM(INDIRECT("'"&E17&"'!"&"L"&MATCH(DATE(2021,MAX(1,MONTH(INDIRECT("'"&E17&"'!"&"D10"))),DAY(INDIRECT("'"&E17&"'!"&"D10"))),INDIRECT("'"&E17&"'!"&"C:C"))):INDIRECT("'"&E17&"'!"&"L"&MATCH(DATE(2021,12,DAY(INDIRECT("'"&E17&"'!"&"D10"))),INDIRECT("'"&E17&"'!"&"C:C")))))} -> -463414.78
E18: 19. FPH | F18: {=IF(YEAR(INDIRECT("'"&E18&"'!"&"D10"))<2021=TRUE,INDEX(INDIRECT("'"&E18&"'!"&"K:K"),MATCH(DATE(2021,1,DAY(INDIRECT("'"&E18&"'!"&"D10"))),INDIRECT("'"&E18&"'!"&"C:C"))),INDEX(INDIRECT("'"&E18&"'!"&"K:K"),MATCH(DATE(2021,MAX(1,MONTH(INDIRECT("'"&E18&"'!"&"D10"))),DAY(INDIRECT("'"&E18&"'!"&"D10"))),INDIRECT("'"&E18&"'!"&"C:C"))))} -> 302947.06 | G18: {=IF(YEAR(INDIRECT("'"&E18&"'!"&"D10"))<2021=TRUE,INDEX(INDIRECT("'"&E18&"'!"&"E:E"),MATCH(DATE(2021,1,DAY(INDIRECT("'"&E18&"'!"&"D10"))),INDIRECT("'"&E18&"'!"&"C:C"))),INDEX(INDIRECT("'"&E18&"'!"&"E:E"),MATCH(DATE(2021,MAX(1,MONTH(INDIRECT("'"&E18&"'!"&"D10"))),DAY(INDIRECT("'"&E18&"'!"&"D10"))),INDIRECT("'"&E18&"'!"&"C:C"))))} -> 304187.86 | H18: {=IF(YEAR(INDIRECT("'"&E18&"'!"&"D10"))<2021=TRUE,SUM(INDIRECT("'"&E18&"'!"&"F"&MATCH(DATE(2021,1,DAY(INDIRECT("'"&E18&"'!"&"D10"))),INDIRECT("'"&E18&"'!"&"C:C"))):INDIRECT("'"&E18&"'!"&"G"&MATCH(DATE(2021,12,DAY(INDIRECT("'"&E18&"'!"&"D10"))),INDIRECT("'"&E18&"'!"&"C:C")))),SUM(INDIRECT("'"&E18&"'!"&"F"&MATCH(DATE(2021,MAX(1,MONTH(INDIRECT("'"&E18&"'!"&"D10"))),DAY(INDIRECT("'"&E18&"'!"&"D10"))),INDIRECT("'"&E18&"'!"&"C:C"))):INDIRECT("'"&E18&"'!"&"G"&MATCH(DATE(2021,12,DAY(INDIRECT("'"&E18&"'!"&"D10"))),INDIRECT("'"&E18&"'!"&"C:C")))))} -> -91897.875 | I18: {=IF(YEAR(INDIRECT("'"&E18&"'!"&"D10"))<2021=TRUE,SUM(INDIRECT("'"&E18&"'!"&"F"&MATCH(DATE(2021,1,DAY(INDIRECT("'"&E18&"'!"&"D10"))),INDIRECT("'"&E18&"'!"&"C:C"))):INDIRECT("'"&E18&"'!"&"F"&MATCH(DATE(2021,12,DAY(INDIRECT("'"&E18&"'!"&"D10"))),INDIRECT("'"&E18&"'!"&"C:C")))),SUM(INDIRECT("'"&E18&"'!"&"F"&MATCH(DATE(2021,MAX(1,MONTH(INDIRECT("'"&E18&"'!"&"D10"))),DAY(INDIRECT("'"&E18&"'!"&"D10"))),INDIRECT("'"&E18&"'!"&"C:C"))):INDIRECT("'"&E18&"'!"&"F"&MATCH(DATE(2021,12,DAY(INDIRECT("'"&E18&"'!"&"D10"))),INDIRECT("'"&E18&"'!"&"C:C")))))} -> -99695.6 | J18: {=IF(YEAR(INDIRECT("'"&E18&"'!"&"D10"))<2021=TRUE,SUM(INDIRECT("'"&E18&"'!"&"G"&MATCH(DATE(2021,1,DAY(INDIRECT("'"&E18&"'!"&"D10"))),INDIRECT("'"&E18&"'!"&"C:C"))):INDIRECT("'"&E18&"'!"&"G"&MATCH(DATE(2021,12,DAY(INDIRECT("'"&E18&"'!"&"D10"))),INDIRECT("'"&E18&"'!"&"C:C")))),SUM(INDIRECT("'"&E18&"'!"&"G"&MATCH(DATE(2021,MAX(1,MONTH(INDIRECT("'"&E18&"'!"&"D10"))),DAY(INDIRECT("'"&E18&"'!"&"D10"))),INDIRECT("'"&E18&"'!"&"C:C"))):INDIRECT("'"&E18&"'!"&"G"&MATCH(DATE(2021,12,DAY(INDIRECT("'"&E18&"'!"&"D10"))),INDIRECT("'"&E18&"'!"&"C:C")))))} -> 7797.7253 | K18: {=IF(YEAR(INDIRECT("'"&E18&"'!"&"D10"))<2021=TRUE,SUM(INDIRECT("'"&E18&"'!"&"L"&MATCH(DATE(2021,1,DAY(INDIRECT("'"&E18&"'!"&"D10"))),INDIRECT("'"&E18&"'!"&"C:C"))):INDIRECT("'"&E18&"'!"&"L"&MATCH(DATE(2021,12,DAY(INDIRECT("'"&E18&"'!"&"D10"))),INDIRECT("'"&E18&"'!"&"C:C")))),SUM(INDIRECT("'"&E18&"'!"&"L"&MATCH(DATE(2021,MAX(1,MONTH(INDIRECT("'"&E18&"'!"&"D10"))),DAY(INDIRECT("'"&E18&"'!"&"D10"))),INDIRECT("'"&E18&"'!"&"C:C"))):INDIRECT("'"&E18&"'!"&"L"&MATCH(DATE(2021,12,DAY(INDIRECT("'"&E18&"'!"&"D10"))),INDIRECT("'"&E18&"'!"&"C:C")))))} -> -103867.56
E19: 20. NPT | F19: {=IF(YEAR(INDIRECT("'"&E19&"'!"&"D10"))<2021=TRUE,INDEX(INDIRECT("'"&E19&"'!"&"K:K"),MATCH(DATE(2021,1,DAY(INDIRECT("'"&E19&"'!"&"D10"))),INDIRECT("'"&E19&"'!"&"C:C"))),INDEX(INDIRECT("'"&E19&"'!"&"K:K"),MATCH(DATE(2021,MAX(1,MONTH(INDIRECT("'"&E19&"'!"&"D10"))),DAY(INDIRECT("'"&E19&"'!"&"D10"))),INDIRECT("'"&E19&"'!"&"C:C"))))} -> 793901.35 | G19: {=IF(YEAR(INDIRECT("'"&E19&"'!"&"D10"))<2021=TRUE,INDEX(INDIRECT("'"&E19&"'!"&"E:E"),MATCH(DATE(2021,1,DAY(INDIRECT("'"&E19&"'!"&"D10"))),INDIRECT("'"&E19&"'!"&"C:C"))),INDEX(INDIRECT("'"&E19&"'!"&"E:E"),MATCH(DATE(2021,MAX(1,MONTH(INDIRECT("'"&E19&"'!"&"D10"))),DAY(INDIRECT("'"&E19&"'!"&"D10"))),INDIRECT("'"&E19&"'!"&"C:C"))))} -> 793901.35 | H19: {=IF(YEAR(INDIRECT("'"&E19&"'!"&"D10"))<2021=TRUE,SUM(INDIRECT("'"&E19&"'!"&"F"&MATCH(DATE(2021,1,DAY(INDIRECT("'"&E19&"'!"&"D10"))),INDIRECT("'"&E19&"'!"&"C:C"))):INDIRECT("'"&E19&"'!"&"G"&MATCH(DATE(2021,12,DAY(INDIRECT("'"&E19&"'!"&"D10"))),INDIRECT("'"&E19&"'!"&"C:C")))),SUM(INDIRECT("'"&E19&"'!"&"F"&MATCH(DATE(2021,MAX(1,MONTH(INDIRECT("'"&E19&"'!"&"D10"))),DAY(INDIRECT("'"&E19&"'!"&"D10"))),INDIRECT("'"&E19&"'!"&"C:C"))):INDIRECT("'"&E19&"'!"&"G"&MATCH(DATE(2021,12,DAY(INDIRECT("'"&E19&"'!"&"D10"))),INDIRECT("'"&E19&"'!"&"C:C")))))} -> -189163.96 | I19: {=IF(YEAR(INDIRECT("'"&E19&"'!"&"D10"))<2021=TRUE,SUM(INDIRECT("'"&E19&"'!"&"F"&MATCH(DATE(2021,1,DAY(INDIRECT("'"&E19&"'!"&"D10"))),INDIRECT("'"&E19&"'!"&"C:C"))):INDIRECT("'"&E19&"'!"&"F"&MATCH(DATE(2021,12,DAY(INDIRECT("'"&E19&"'!"&"D10"))),INDIRECT("'"&E19&"'!"&"C:C")))),SUM(INDIRECT("'"&E19&"'!"&"F"&MATCH(DATE(2021,MAX(1,MONTH(INDIRECT("'"&E19&"'!"&"D10"))),DAY(INDIRECT("'"&E19&"'!"&"D10"))),INDIRECT("'"&E19&"'!"&"C:C"))):INDIRECT("'"&E19&"'!"&"F"&MATCH(DATE(2021,12,DAY(INDIRECT("'"&E19&"'!"&"D10"))),INDIRECT("'"&E19&"'!"&"C:C")))))} -> -206739 | J19: {=IF(YEAR(INDIRECT("'"&E19&"'!"&"D10"))<2021=TRUE,SUM(INDIRECT("'"&E19&"'!"&"G"&MATCH(DATE(2021,1,DAY(INDIRECT("'"&E19&"'!"&"D10"))),INDIRECT("'"&E19&"'!"&"C:C"))):INDIRECT("'"&E19&"'!"&"G"&MATCH(DATE(2021,12,DAY(INDIRECT("'"&E19&"'!"&"D10"))),INDIRECT("'"&E19&"'!"&"C:C")))),SUM(INDIRECT("'"&E19&"'!"&"G"&MATCH(DATE(2021,MAX(1,MONTH(INDIRECT("'"&E19&"'!"&"D10"))),DAY(INDIRECT("'"&E19&"'!"&"D10"))),INDIRECT("'"&E19&"'!"&"C:C"))):INDIRECT("'"&E19&"'!"&"G"&MATCH(DATE(2021,12,DAY(INDIRECT("'"&E19&"'!"&"D10"))),INDIRECT("'"&E19&"'!"&"C:C")))))} -> 17575.037 | K19: {=IF(YEAR(INDIRECT("'"&E19&"'!"&"D10"))<2021=TRUE,SUM(INDIRECT("'"&E19&"'!"&"L"&MATCH(DATE(2021,1,DAY(INDIRECT("'"&E19&"'!"&"D10"))),INDIRECT("'"&E19&"'!"&"C:C"))):INDIRECT("'"&E19&"'!"&"L"&MATCH(DATE(2021,12,DAY(INDIRECT("'"&E19&"'!"&"D10"))),INDIRECT("'"&E19&"'!"&"C:C")))),SUM(INDIRECT("'"&E19&"'!"&"L"&MATCH(DATE(2021,MAX(1,MONTH(INDIRECT("'"&E19&"'!"&"D10"))),DAY(INDIRECT("'"&E19&"'!"&"D10"))),INDIRECT("'"&E19&"'!"&"C:C"))):INDIRECT("'"&E19&"'!"&"L"&MATCH(DATE(2021,12,DAY(INDIRECT("'"&E19&"'!"&"D10"))),INDIRECT("'"&E19&"'!"&"C:C")))))} -> -198475.34
E20: 21. FSP | F20: {=IF(YEAR(INDIRECT("'"&E20&"'!"&"D10"))<2021=TRUE,INDEX(INDIRECT("'"&E20&"'!"&"K:K"),MATCH(DATE(2021,1,DAY(INDIRECT("'"&E20&"'!"&"D10"))),INDIRECT("'"&E20&"'!"&"C:C"))),INDEX(INDIRECT("'"&E20&"'!"&"K:K"),MATCH(DATE(2021,MAX(1,MONTH(INDIRECT("'"&E20&"'!"&"D10"))),DAY(INDIRECT("'"&E20&"'!"&"D10"))),INDIRECT("'"&E20&"'!"&"C:C"))))} -> 291664.18 | G20: {=IF(YEAR(INDIRECT("'"&E20&"'!"&"D10"))<2021=TRUE,INDEX(INDIRECT("'"&E20&"'!"&"E:E"),MATCH(DATE(2021,1,DAY(INDIRECT("'"&E20&"'!"&"D10"))),INDIRECT("'"&E20&"'!"&"C:C"))),INDEX(INDIRECT("'"&E20&"'!"&"E:E"),MATCH(DATE(2021,MAX(1,MONTH(INDIRECT("'"&E20&"'!"&"D10"))),DAY(INDIRECT("'"&E20&"'!"&"D10"))),INDIRECT("'"&E20&"'!"&"C:C"))))} -> 291664.18 | H20: {=IF(YEAR(INDIRECT("'"&E20&"'!"&"D10"))<2021=TRUE,SUM(INDIRECT("'"&E20&"'!"&"F"&MATCH(DATE(2021,1,DAY(INDIRECT("'"&E20&"'!"&"D10"))),INDIRECT("'"&E20&"'!"&"C:C"))):INDIRECT("'"&E20&"'!"&"G"&MATCH(DATE(2021,12,DAY(INDIRECT("'"&E20&"'!"&"D10"))),INDIRECT("'"&E20&"'!"&"C:C")))),SUM(INDIRECT("'"&E20&"'!"&"F"&MATCH(DATE(2021,MAX(1,MONTH(INDIRECT("'"&E20&"'!"&"D10"))),DAY(INDIRECT("'"&E20&"'!"&"D10"))),INDIRECT("'"&E20&"'!"&"C:C"))):INDIRECT("'"&E20&"'!"&"G"&MATCH(DATE(2021,12,DAY(INDIRECT("'"&E20&"'!"&"D10"))),INDIRECT("'"&E20&"'!"&"C:C")))))} -> -67315.393 | I20: {=IF(YEAR(INDIRECT("'"&E20&"'!"&"D10"))<2021=TRUE,SUM(INDIRECT("'"&E20&"'!"&"F"&MATCH(DATE(2021,1,DAY(INDIRECT("'"&E20&"'!"&"D10"))),INDIRECT("'"&E20&"'!"&"C:C"))):INDIRECT("'"&E20&"'!"&"F"&MATCH(DATE(2021,12,DAY(INDIRECT("'"&E20&"'!"&"D10"))),INDIRECT("'"&E20&"'!"&"C:C")))),SUM(INDIRECT("'"&E20&"'!"&"F"&MATCH(DATE(2021,MAX(1,MONTH(INDIRECT("'"&E20&"'!"&"D10"))),DAY(INDIRECT("'"&E20&"'!"&"D10"))),INDIRECT("'"&E20&"'!"&"C:C"))):INDIRECT("'"&E20&"'!"&"F"&MATCH(DATE(2021,12,DAY(INDIRECT("'"&E20&"'!"&"D10"))),INDIRECT("'"&E20&"'!"&"C:C")))))} -> -73569.6 | J20: {=IF(YEAR(INDIRECT("'"&E20&"'!"&"D10"))<2021=TRUE,SUM(INDIRECT("'"&E20&"'!"&"G"&MATCH(DATE(2021,1,DAY(INDIRECT("'"&E20&"'!"&"D10"))),INDIRECT("'"&E20&"'!"&"C:C"))):INDIRECT("'"&E20&"'!"&"G"&MATCH(DATE(2021,12,DAY(INDIRECT("'"&E20&"'!"&"D10"))),INDIRECT("'"&E20&"'!"&"C:C")))),SUM(INDIRECT("'"&E20&"'!"&"G"&MATCH(DATE(2021,MAX(1,MONTH(INDIRECT("'"&E20&"'!"&"D10"))),DAY(INDIRECT("'"&E20&"'!"&"D10"))),INDIRECT("'"&E20&"'!"&"C:C"))):INDIRECT("'"&E20&"'!"&"G"&MATCH(DATE(2021,12,DAY(INDIRECT("'"&E20&"'!"&"D10"))),INDIRECT("'"&E20&"'!"&"C:C")))))} -> 6254.2066 | K20: {=IF(YEAR(INDIRECT("'"&E20&"'!"&"D10"))<2021=TRUE,SUM(INDIRECT("'"&E20&"'!"&"L"&MATCH(DATE(2021,1,DAY(INDIRECT("'"&E20&"'!"&"D10"))),INDIRECT("'"&E20&"'!"&"C:C"))):INDIRECT("'"&E20&"'!"&"L"&MATCH(DATE(2021,12,DAY(INDIRECT("'"&E20&"'!"&"D10"))),INDIRECT("'"&E20&"'!"&"C:C")))),SUM(INDIRECT("'"&E20&"'!"&"L"&MATCH(DATE(2021,MAX(1,MONTH(INDIRECT("'"&E20&"'!"&"D10"))),DAY(INDIRECT("'"&E20&"'!"&"D10"))),INDIRECT("'"&E20&"'!"&"C:C"))):INDIRECT("'"&E20&"'!"&"L"&MATCH(DATE(2021,12,DAY(INDIRECT("'"&E20&"'!"&"D10"))),INDIRECT("'"&E20&"'!"&"C:C")))))} -> -72916.045
E21: 22. PM HFC | F21: {=IF(YEAR(INDIRECT("'"&E21&"'!"&"D10"))<2021=TRUE,INDEX(INDIRECT("'"&E21&"'!"&"K:K"),MATCH(DATE(2021,1,DAY(INDIRECT("'"&E21&"'!"&"D10"))),INDIRECT("'"&E21&"'!"&"C:C"))),INDEX(INDIRECT("'"&E21&"'!"&"K:K"),MATCH(DATE(2021,MAX(1,MONTH(INDIRECT("'"&E21&"'!"&"D10"))),DAY(INDIRECT("'"&E21&"'!"&"D10"))),INDIRECT("'"&E21&"'!"&"C:C"))))} -> 637986.13 | G21: {=IF(YEAR(INDIRECT("'"&E21&"'!"&"D10"))<2021=TRUE,INDEX(INDIRECT("'"&E21&"'!"&"E:E"),MATCH(DATE(2021,1,DAY(INDIRECT("'"&E21&"'!"&"D10"))),INDIRECT("'"&E21&"'!"&"C:C"))),INDEX(INDIRECT("'"&E21&"'!"&"E:E"),MATCH(DATE(2021,MAX(1,MONTH(INDIRECT("'"&E21&"'!"&"D10"))),DAY(INDIRECT("'"&E21&"'!"&"D10"))),INDIRECT("'"&E21&"'!"&"C:C"))))} -> 637986.13 | H21: {=IF(YEAR(INDIRECT("'"&E21&"'!"&"D10"))<2021=TRUE,SUM(INDIRECT("'"&E21&"'!"&"F"&MATCH(DATE(2021,1,DAY(INDIRECT("'"&E21&"'!"&"D10"))),INDIRECT("'"&E21&"'!"&"C:C"))):INDIRECT("'"&E21&"'!"&"G"&MATCH(DATE(2021,12,DAY(INDIRECT("'"&E21&"'!"&"D10"))),INDIRECT("'"&E21&"'!"&"C:C")))),SUM(INDIRECT("'"&E21&"'!"&"F"&MATCH(DATE(2021,MAX(1,MONTH(INDIRECT("'"&E21&"'!"&"D10"))),DAY(INDIRECT("'"&E21&"'!"&"D10"))),INDIRECT("'"&E21&"'!"&"C:C"))):INDIRECT("'"&E21&"'!"&"G"&MATCH(DATE(2021,12,DAY(INDIRECT("'"&E21&"'!"&"D10"))),INDIRECT("'"&E21&"'!"&"C:C")))))} -> -138055.44 | I21: {=IF(YEAR(INDIRECT("'"&E21&"'!"&"D10"))<2021=TRUE,SUM(INDIRECT("'"&E21&"'!"&"F"&MATCH(DATE(2021,1,DAY(INDIRECT("'"&E21&"'!"&"D10"))),INDIRECT("'"&E21&"'!"&"C:C"))):INDIRECT("'"&E21&"'!"&"F"&MATCH(DATE(2021,12,DAY(INDIRECT("'"&E21&"'!"&"D10"))),INDIRECT("'"&E21&"'!"&"C:C")))),SUM(INDIRECT("'"&E21&"'!"&"F"&MATCH(DATE(2021,MAX(1,MONTH(INDIRECT("'"&E21&"'!"&"D10"))),DAY(INDIRECT("'"&E21&"'!"&"D10"))),INDIRECT("'"&E21&"'!"&"C:C"))):INDIRECT("'"&E21&"'!"&"F"&MATCH(DATE(2021,12,DAY(INDIRECT("'"&E21&"'!"&"D10"))),INDIRECT("'"&E21&"'!"&"C:C")))))} -> -151315.2 | J21: {=IF(YEAR(INDIRECT("'"&E21&"'!"&"D10"))<2021=TRUE,SUM(INDIRECT("'"&E21&"'!"&"G"&MATCH(DATE(2021,1,DAY(INDIRECT("'"&E21&"'!"&"D10"))),INDIRECT("'"&E21&"'!"&"C:C"))):INDIRECT("'"&E21&"'!"&"G"&MATCH(DATE(2021,12,DAY(INDIRECT("'"&E21&"'!"&"D10"))),INDIRECT("'"&E21&"'!"&"C:C")))),SUM(INDIRECT("'"&E21&"'!"&"G"&MATCH(DATE(2021,MAX(1,MONTH(INDIRECT("'"&E21&"'!"&"D10"))),DAY(INDIRECT("'"&E21&"'!"&"D10"))),INDIRECT("'"&E21&"'!"&"C:C"))):INDIRECT("'"&E21&"'!"&"G"&MATCH(DATE(2021,12,DAY(INDIRECT("'"&E21&"'!"&"D10"))),INDIRECT("'"&E21&"'!"&"C:C")))))} -> 13259.761 | K21: {=IF(YEAR(INDIRECT("'"&E21&"'!"&"D10"))<2021=TRUE,SUM(INDIRECT("'"&E21&"'!"&"L"&MATCH(DATE(2021,1,DAY(INDIRECT("'"&E21&"'!"&"D10"))),INDIRECT("'"&E21&"'!"&"C:C"))):INDIRECT("'"&E21&"'!"&"L"&MATCH(DATE(2021,12,DAY(INDIRECT("'"&E21&"'!"&"D10"))),INDIRECT("'"&E21&"'!"&"C:C")))),SUM(INDIRECT("'"&E21&"'!"&"L"&MATCH(DATE(2021,MAX(1,MONTH(INDIRECT("'"&E21&"'!"&"D10"))),DAY(INDIRECT("'"&E21&"'!"&"D10"))),INDIRECT("'"&E21&"'!"&"C:C"))):INDIRECT("'"&E21&"'!"&"L"&MATCH(DATE(2021,12,DAY(INDIRECT("'"&E21&"'!"&"D10"))),INDIRECT("'"&E21&"'!"&"C:C")))))} -> -155185.82
E22: 23. PWP | F22: {=IF(YEAR(INDIRECT("'"&E22&"'!"&"D10"))<2021=TRUE,INDEX(INDIRECT("'"&E22&"'!"&"K:K"),MATCH(DATE(2021,1,DAY(INDIRECT("'"&E22&"'!"&"D10"))),INDIRECT("'"&E22&"'!"&"C:C"))),INDEX(INDIRECT("'"&E22&"'!"&"K:K"),MATCH(DATE(2021,MAX(1,MONTH(INDIRECT("'"&E22&"'!"&"D10"))),DAY(INDIRECT("'"&E22&"'!"&"D10"))),INDIRECT("'"&E22&"'!"&"C:C"))))} -> 511585.58 | G22: {=IF(YEAR(INDIRECT("'"&E22&"'!"&"D10"))<2021=TRUE,INDEX(INDIRECT("'"&E22&"'!"&"E:E"),MATCH(DATE(2021,1,DAY(INDIRECT("'"&E22&"'!"&"D10"))),INDIRECT("'"&E22&"'!"&"C:C"))),INDEX(INDIRECT("'"&E22&"'!"&"E:E"),MATCH(DATE(2021,MAX(1,MONTH(INDIRECT("'"&E22&"'!"&"D10"))),DAY(INDIRECT("'"&E22&"'!"&"D10"))),INDIRECT("'"&E22&"'!"&"C:C"))))} -> 511585.58 | H22: {=IF(YEAR(INDIRECT("'"&E22&"'!"&"D10"))<2021=TRUE,SUM(INDIRECT("'"&E22&"'!"&"F"&MATCH(DATE(2021,1,DAY(INDIRECT("'"&E22&"'!"&"D10"))),INDIRECT("'"&E22&"'!"&"C:C"))):INDIRECT("'"&E22&"'!"&"G"&MATCH(DATE(2021,12,DAY(INDIRECT("'"&E22&"'!"&"D10"))),INDIRECT("'"&E22&"'!"&"C:C")))),SUM(INDIRECT("'"&E22&"'!"&"F"&MATCH(DATE(2021,MAX(1,MONTH(INDIRECT("'"&E22&"'!"&"D10"))),DAY(INDIRECT("'"&E22&"'!"&"D10"))),INDIRECT("'"&E22&"'!"&"C:C"))):INDIRECT("'"&E22&"'!"&"G"&MATCH(DATE(2021,12,DAY(INDIRECT("'"&E22&"'!"&"D10"))),INDIRECT("'"&E22&"'!"&"C:C")))))} -> -90742.799 | I22: {=IF(YEAR(INDIRECT("'"&E22&"'!"&"D10"))<2021=TRUE,SUM(INDIRECT("'"&E22&"'!"&"F"&MATCH(DATE(2021,1,DAY(INDIRECT("'"&E22&"'!"&"D10"))),INDIRECT("'"&E22&"'!"&"C:C"))):INDIRECT("'"&E22&"'!"&"F"&MATCH(DATE(2021,12,DAY(INDIRECT("'"&E22&"'!"&"D10"))),INDIRECT("'"&E22&"'!"&"C:C")))),SUM(INDIRECT("'"&E22&"'!"&"F"&MATCH(DATE(2021,MAX(1,MONTH(INDIRECT("'"&E22&"'!"&"D10"))),DAY(INDIRECT("'"&E22&"'!"&"D10"))),INDIRECT("'"&E22&"'!"&"C:C"))):INDIRECT("'"&E22&"'!"&"F"&MATCH(DATE(2021,12,DAY(INDIRECT("'"&E22&"'!"&"D10"))),INDIRECT("'"&E22&"'!"&"C:C")))))} -> -99459.43 | J22: {=IF(YEAR(INDIRECT("'"&E22&"'!"&"D10"))<2021=TRUE,SUM(INDIRECT("'"&E22&"'!"&"G"&MATCH(DATE(2021,1,DAY(INDIRECT("'"&E22&"'!"&"D10"))),INDIRECT("'"&E22&"'!"&"C:C"))):INDIRECT("'"&E22&"'!"&"G"&MATCH(DATE(2021,12,DAY(INDIRECT("'"&E22&"'!"&"D10"))),INDIRECT("'"&E22&"'!"&"C:C")))),SUM(INDIRECT("'"&E22&"'!"&"G"&MATCH(DATE(2021,MAX(1,MONTH(INDIRECT("'"&E22&"'!"&"D10"))),DAY(INDIRECT("'"&E22&"'!"&"D10"))),INDIRECT("'"&E22&"'!"&"C:C"))):INDIRECT("'"&E22&"'!"&"G"&MATCH(DATE(2021,12,DAY(INDIRECT("'"&E22&"'!"&"D10"))),INDIRECT("'"&E22&"'!"&"C:C")))))} -> 8716.6309 | K22: {=IF(YEAR(INDIRECT("'"&E22&"'!"&"D10"))<2021=TRUE,SUM(INDIRECT("'"&E22&"'!"&"L"&MATCH(DATE(2021,1,DAY(INDIRECT("'"&E22&"'!"&"D10"))),INDIRECT("'"&E22&"'!"&"C:C"))):INDIRECT("'"&E22&"'!"&"L"&MATCH(DATE(2021,12,DAY(INDIRECT("'"&E22&"'!"&"D10"))),INDIRECT("'"&E22&"'!"&"C:C")))),SUM(INDIRECT("'"&E22&"'!"&"L"&MATCH(DATE(2021,MAX(1,MONTH(INDIRECT("'"&E22&"'!"&"D10"))),DAY(INDIRECT("'"&E22&"'!"&"D10"))),INDIRECT("'"&E22&"'!"&"C:C"))):INDIRECT("'"&E22&"'!"&"L"&MATCH(DATE(2021,12,DAY(INDIRECT("'"&E22&"'!"&"D10"))),INDIRECT("'"&E22&"'!"&"C:C")))))} -> -99474.974
