Workbook
Name Bank_Code: #REF!
Name DATE: [1]StaticData!#REF!
Name DB: #REF!
Name DBName: #REF!
Name DF_GRID_1: #REF!
Name DF_NAVPANEL_13: #REF!
Name DF_NAVPANEL_18: #REF!
Name FPeriod: #REF!
Name HOTELS: [1]StaticData!#REF!
Name HTL: [2]StaticData!$C$11
Name iju: #REF!
Name Last_Month: #REF!
Name LPeriod: #REF!
Name MMTH: [3]StaticData!$C$3
Name MTH: [4]StaticData!$C$3
Name MTHH: [5]StaticData!$C$3
Name Names: [6]selection!$IP$21:$IQ$30
Name O_DEPOSIT: '[7]Report(HSS)'!#REF!
Name Period: #REF!
Name PreparedBy: [6]selection!$C$9
Name PREPARERS: [1]StaticData!#REF!
Name Print_Area_MI: #REF!
Name Print_Titles_MI: #REF!,#REF!
Name Ref: [8]selection!$C$11
Name T: #REF!
Name TransDate: [6]selection!$C$7

Sheet Consol (TB)
A1: Commonwealth Concepts Pte Ltd
B3: Trial Balance | F3: 44531
F4: $
F6: CWC | H6: Baker & Cook | J6: CWC Group (Before Consol) | L6: CWC Group (After Consol)
A7: =_xlfn.XLOOKUP(C7,consol_Map!B:B,consol_Map!C:C,"",0) -> Cash and bank balances | B7: 11110010 | C7: HQ Petty Cash | F7: =IFERROR(INDEX('Name Redacted (TB)'!$F:$F,MATCH(B7,'Name Redacted (TB)'!$B:$B,0)),VALUE("0")) -> 488729 | H7: =IFERROR(SUMIFS('BnC (TB-Dec21)'!J:J,'BnC (TB-Dec21)'!I:I,C7),VALUE("0")) -> 0 | J7: =F7+H7 -> 488729 | K7: =SUMIFS('Consol Entries'!D:D,'Consol Entries'!C:C,C7) -> 0 | L7: =SUM(J7:K7) -> 488729
A8: =_xlfn.XLOOKUP(C8,consol_Map!B:B,consol_Map!C:C,"",0) -> Cash and bank balances | B8: 11110020 | C8: Outlet Cash Floats | F8: =IFERROR(INDEX('Name Redacted (TB)'!$F:$F,MATCH(B8,'Name Redacted (TB)'!$B:$B,0)),VALUE("0")) -> 504479 | H8: =IFERROR(SUMIFS('BnC (TB-Dec21)'!J:J,'BnC (TB-Dec21)'!I:I,C8),VALUE("0")) -> 0 | J8: =F8+H8 -> 504479 | K8: =SUMIFS('Consol Entries'!D:D,'Consol Entries'!C:C,C8) -> 0 | L8: =SUM(J8:K8) -> 504479
A9: =_xlfn.XLOOKUP(C9,consol_Map!B:B,consol_Map!C:C,"",0) -> Cash and bank balances | C9: [BnC-3010] BnC Petty Cash | F9: =IFERROR(INDEX('Name Redacted (TB)'!$F:$F,MATCH(B9,'Name Redacted (TB)'!$B:$B,0)),VALUE("0")) -> 0 | H9: =IFERROR(SUMIFS('BnC (TB-Dec21)'!J:J,'BnC (TB-Dec21)'!I:I,C9),VALUE("0")) -> -423479 | J9: =F9+H9 -> -423479 | K9: =SUMIFS('Consol Entries'!D:D,'Consol Entries'!C:C,C9) -> 0 | L9: =SUM(J9:K9) -> -423479
A10: =_xlfn.XLOOKUP(C10,consol_Map!B:B,consol_Map!C:C,"",0) -> Cash and bank balances | C10: [BnC-3010] BnC Spare Cash Float | F10: =IFERROR(INDEX('Name Redacted (TB)'!$F:$F,MATCH(B10,'Name Redacted (TB)'!$B:$B,0)),VALUE("0")) -> 0 | H10: =IFERROR(SUMIFS('BnC (TB-Dec21)'!J:J,'BnC (TB-Dec21)'!I:I,C10),VALUE("0")) -> 464079 | J10: =F10+H10 -> 464079 | K10: =SUMIFS('Consol Entries'!D:D,'Consol Entries'!C:C,C10) -> 0 | L10: =SUM(J10:K10) -> 464079
A11: =_xlfn.XLOOKUP(C11,consol_Map!B:B,consol_Map!C:C,"",0) -> Cash and bank balances | C11: [BnC-3010] BnC Cash In POS | F11: =IFERROR(INDEX('Name Redacted (TB)'!$F:$F,MATCH(B11,'Name Redacted (TB)'!$B:$B,0)),VALUE("0")) -> 0 | H11: =IFERROR(SUMIFS('BnC (TB-Dec21)'!J:J,'BnC (TB-Dec21)'!I:I,C11),VALUE("0")) -> -457279 | J11: =F11+H11 -> -457279 | K11: =SUMIFS('Consol Entries'!D:D,'Consol Entries'!C:C,C11) -> 0 | L11: =SUM(J11:K11) -> -457279
A12: =_xlfn.XLOOKUP(C12,consol_Map!B:B,consol_Map!C:C,"",0) -> Cash and bank balances | B12: 11120060 | C12: DBS SGD Current A/C 1 | F12: =IFERROR(INDEX('Name Redacted (TB)'!$F:$F,MATCH(B12,'Name Redacted (TB)'!$B:$B,0)),VALUE("0")) -> 4411671.5 | H12: =IFERROR(SUMIFS('BnC (TB-Dec21)'!J:J,'BnC (TB-Dec21)'!I:I,C12),VALUE("0")) -> 0 | J12: =F12+H12 -> 4411671.5 | K12: =SUMIFS('Consol Entries'!D:D,'Consol Entries'!C:C,C12) -> 0 | L12: =SUM(J12:K12) -> 4411671.5
A13: =_xlfn.XLOOKUP(C13,consol_Map!B:B,consol_Map!C:C,"",0) -> Cash and bank balances | B13: 11120061 | C13: DBS SGD Current A/C 1 - Incoming | F13: =IFERROR(INDEX('Name Redacted (TB)'!$F:$F,MATCH(B13,'Name Redacted (TB)'!$B:$B,0)),VALUE("0")) -> 455746.26 | H13: =IFERROR(SUMIFS('BnC (TB-Dec21)'!J:J,'BnC (TB-Dec21)'!I:I,C13),VALUE("0")) -> 0 | J13: =F13+H13 -> 455746.26 | K13: =SUMIFS('Consol Entries'!D:D,'Consol Entries'!C:C,C13) -> 0 | L13: =SUM(J13:K13) -> 455746.26
A14: =_xlfn.XLOOKUP(C14,consol_Map!B:B,consol_Map!C:C,"",0) -> Cash and bank balances | B14: 11120062 | C14: DBS SGD Current A/C 1 - Outgoing | F14: =IFERROR(INDEX('Name Redacted (TB)'!$F:$F,MATCH(B14,'Name Redacted (TB)'!$B:$B,0)),VALUE("0")) -> 457872.7 | H14: =IFERROR(SUMIFS('BnC (TB-Dec21)'!J:J,'BnC (TB-Dec21)'!I:I,C14),VALUE("0")) -> 0 | J14: =F14+H14 -> 457872.7 | K14: =SUMIFS('Consol Entries'!D:D,'Consol Entries'!C:C,C14) -> 0 | L14: =SUM(J14:K14) -> 457872.7
A15: =_xlfn.XLOOKUP(C15,consol_Map!B:B,consol_Map!C:C,"",0) -> Cash and bank balances | B15: 11120080 | C15: DBS USD Current A/C 1 | F15: =IFERROR(INDEX('Name Redacted (TB)'!$F:$F,MATCH(B15,'Name Redacted (TB)'!$B:$B,0)),VALUE("0")) -> 692903.84 | H15: =IFERROR(SUMIFS('BnC (TB-Dec21)'!J:J,'BnC (TB-Dec21)'!I:I,C15),VALUE("0")) -> 0 | J15: =F15+H15 -> 692903.84 | K15: =SUMIFS('Consol Entries'!D:D,'Consol Entries'!C:C,C15) -> 0 | L15: =SUM(J15:K15) -> 692903.84
A16: =_xlfn.XLOOKUP(C16,consol_Map!B:B,consol_Map!C:C,"",0) -> Cash and bank balances | B16: 11120081 | C16: DBS USD Current A/C 1 - Incoming | F16: =IFERROR(INDEX('Name Redacted (TB)'!$F:$F,MATCH(B16,'Name Redacted (TB)'!$B:$B,0)),VALUE("0")) -> 459751.81 | H16: =IFERROR(SUMIFS('BnC (TB-Dec21)'!J:J,'BnC (TB-Dec21)'!I:I,C16),VALUE("0")) -> 0 | J16: =F16+H16 -> 459751.81 | K16: =SUMIFS('Consol Entries'!D:D,'Consol Entries'!C:C,C16) -> 0 | L16: =SUM(J16:K16) -> 459751.81
A17: =_xlfn.XLOOKUP(C17,consol_Map!B:B,consol_Map!C:C,"",0) -> Cash and bank balances | B17: 11120082 | C17: DBS USD Current A/C 1 - Outgoing | F17: =IFERROR(INDEX('Name Redacted (TB)'!$F:$F,MATCH(B17,'Name Redacted (TB)'!$B:$B,0)),VALUE("0")) -> 459679 | H17: =IFERROR(SUMIFS('BnC (TB-Dec21)'!J:J,'BnC (TB-Dec21)'!I:I,C17),VALUE("0")) -> 0 | J17: =F17+H17 -> 459679 | K17: =SUMIFS('Consol Entries'!D:D,'Consol Entries'!C:C,C17) -> 0 | L17: =SUM(J17:K17) -> 459679
A18: =_xlfn.XLOOKUP(C18,consol_Map!B:B,consol_Map!C:C,"",0) -> Cash and bank balances | B18: 11120200 | C18: UOB SGD Current A/C 1 | F18: =IFERROR(INDEX('Name Redacted (TB)'!$F:$F,MATCH(B18,'Name Redacted (TB)'!$B:$B,0)),VALUE("0")) -> 1671989.7 | H18: =IFERROR(SUMIFS('BnC (TB-Dec21)'!J:J,'BnC (TB-Dec21)'!I:I,C18),VALUE("0")) -> 0 | J18: =F18+H18 -> 1671989.7 | K18: =SUMIFS('Consol Entries'!D:D,'Consol Entries'!C:C,C18) -> 0 | L18: =SUM(J18:K18) -> 1671989.7
A19: =_xlfn.XLOOKUP(C19,consol_Map!B:B,consol_Map!C:C,"",0) -> Cash and bank balances | C19: [BnC-3010] BnC OCBC - SGD 641-102686-001 | F19: =IFERROR(INDEX('Name Redacted (TB)'!$F:$F,MATCH(B19,'Name Redacted (TB)'!$B:$B,0)),VALUE("0")) -> 0 | H19: =IFERROR(SUMIFS('BnC (TB-Dec21)'!J:J,'BnC (TB-Dec21)'!I:I,C19),VALUE("0")) -> 1156207.9 | J19: =F19+H19 -> 1156207.9 | K19: =SUMIFS('Consol Entries'!D:D,'Consol Entries'!C:C,C19) -> 0 | L19: =SUM(J19:K19) -> 1156207.9
A20: =_xlfn.XLOOKUP(C20,consol_Map!B:B,consol_Map!C:C,"",0) -> Cash and bank balances | C20: [BnC-3010] BnC SCB - SGD 0102 7994 23 | F20: =IFERROR(INDEX('Name Redacted (TB)'!$F:$F,MATCH(B20,'Name Redacted (TB)'!$B:$B,0)),VALUE("0")) -> 0 | H20: =IFERROR(SUMIFS('BnC (TB-Dec21)'!J:J,'BnC (TB-Dec21)'!I:I,C20),VALUE("0")) -> -98510.13 | J20: =F20+H20 -> -98510.13 | K20: =SUMIFS('Consol Entries'!D:D,'Consol Entries'!C:C,C20) -> 0 | L20: =SUM(J20:K20) -> -98510.13
A21: =_xlfn.XLOOKUP(C21,consol_Map!B:B,consol_Map!C:C,"",0) -> Cash and bank balances | C21: [BnC-3010] BnC DBS - SGD 0720280067 | F21: =IFERROR(INDEX('Name Redacted (TB)'!$F:$F,MATCH(B21,'Name Redacted (TB)'!$B:$B,0)),VALUE("0")) -> 0 | H21: =IFERROR(SUMIFS('BnC (TB-Dec21)'!J:J,'BnC (TB-Dec21)'!I:I,C21),VALUE("0")) -> 494222.1 | J21: =F21+H21 -> 494222.1 | K21: =SUMIFS('Consol Entries'!D:D,'Consol Entries'!C:C,C21) -> 0 | L21: =SUM(J21:K21) -> 494222.1
A22: =_xlfn.XLOOKUP(C22,consol_Map!B:B,consol_Map!C:C,"",0) -> Cash and bank balances | C22: [BnC-3010] BnC Ocbc - SGD 687239491001 | F22: =IFERROR(INDEX('Name Redacted (TB)'!$F:$F,MATCH(B22,'Name Redacted (TB)'!$B:$B,0)),VALUE("0")) -> 0 | H22: =IFERROR(SUMIFS('BnC (TB-Dec21)'!J:J,'BnC (TB-Dec21)'!I:I,C22),VALUE("0")) -> 1961465.1 | J22: =F22+H22 -> 1961465.1 | K22: =SUMIFS('Consol Entries'!D:D,'Consol Entries'!C:C,C22) -> 0 | L22: =SUM(J22:K22) -> 1961465.1
A23: =_xlfn.XLOOKUP(C23,consol_Map!B:B,consol_Map!C:C,"",0) -> Cash and bank balances | C23: [BnC-3010] BnC Paypal Account | F23: =IFERROR(INDEX('Name Redacted (TB)'!$F:$F,MATCH(B23,'Name Redacted (TB)'!$B:$B,0)),VALUE("0")) -> 0 | H23: =IFERROR(SUMIFS('BnC (TB-Dec21)'!J:J,'BnC (TB-Dec21)'!I:I,C23),VALUE("0")) -> 294533.31 | J23: =F23+H23 -> 294533.31 | K23: =SUMIFS('Consol Entries'!D:D,'Consol Entries'!C:C,C23) -> 0 | L23: =SUM(J23:K23) -> 294533.31
A24: =_xlfn.XLOOKUP(C24,consol_Map!B:B,consol_Map!C:C,"",0) -> Cash and bank balances | C24: [BnC-3010] BnC UOB - SGD 3493328601 | F24: =IFERROR(INDEX('Name Redacted (TB)'!$F:$F,MATCH(B24,'Name Redacted (TB)'!$B:$B,0)),VALUE("0")) -> 0 | H24: =IFERROR(SUMIFS('BnC (TB-Dec21)'!J:J,'BnC (TB-Dec21)'!I:I,C24),VALUE("0")) -> 912998.21 | J24: =F24+H24 -> 912998.21 | K24: =SUMIFS('Consol Entries'!D:D,'Consol Entries'!C:C,C24) -> 0 | L24: =SUM(J24:K24) -> 912998.21
A25: =_xlfn.XLOOKUP(C25,consol_Map!B:B,consol_Map!C:C,"",0) -> Trade and other receivables | B25: 11210010 | C25: Trade Receivables Control: External | F25: =IFERROR(INDEX('Name Redacted (TB)'!$F:$F,MATCH(B25,'Name Redacted (TB)'!$B:$B,0)),VALUE("0")) -> 1375601.8 | H25: =IFERROR(SUMIFS('BnC (TB-Dec21)'!J:J,'BnC (TB-Dec21)'!I:I,C25),VALUE("0")) -> 0 | J25: =F25+H25 -> 1375601.8 | K25: =SUMIFS('Consol Entries'!D:D,'Consol Entries'!C:C,C25) -> 0 | L25: =SUM(J25:K25) -> 1375601.8
A26: =_xlfn.XLOOKUP(C26,consol_Map!B:B,consol_Map!C:C,"",0) -> Trade and other receivables | B26: 11210020 | C26: Trade Receivables Control: Interco | F26: =IFERROR(INDEX('Name Redacted (TB)'!$F:$F,MATCH(B26,'Name Redacted (TB)'!$B:$B,0)),VALUE("0")) -> 617893.54 | H26: =IFERROR(SUMIFS('BnC (TB-Dec21)'!J:J,'BnC (TB-Dec21)'!I:I,C26),VALUE("0")) -> 0 | J26: =F26+H26 -> 617893.54 | K26: =SUMIFS('Consol Entries'!D:D,'Consol Entries'!C:C,C26) -> -3294.66 | L26: =SUM(J26:K26) -> 614598.88
A27: =_xlfn.XLOOKUP(C27,consol_Map!B:B,consol_Map!C:C,"",0) -> Trade and other receivables | B27: 11210030 | C27: Provn Doubtful Debts: Trade: External | F27: =IFERROR(INDEX('Name Redacted (TB)'!$F:$F,MATCH(B27,'Name Redacted (TB)'!$B:$B,0)),VALUE("0")) -> -471621.58 | H27: =IFERROR(SUMIFS('BnC (TB-Dec21)'!J:J,'BnC (TB-Dec21)'!I:I,C27),VALUE("0")) -> 0 | J27: =F27+H27 -> -471621.58 | K27: =SUMIFS('Consol Entries'!D:D,'Consol Entries'!C:C,C27) -> 0 | L27: =SUM(J27:K27) -> -471621.58
A28: =_xlfn.XLOOKUP(C28,consol_Map!B:B,consol_Map!C:C,"",0) -> Trade and other receivables | C28: [BnC-3000] BnC Trade Debtors | F28: =IFERROR(INDEX('Name Redacted (TB)'!$F:$F,MATCH(B28,'Name Redacted (TB)'!$B:$B,0)),VALUE("0")) -> 0 | H28: =IFERROR(SUMIFS('BnC (TB-Dec21)'!J:J,'BnC (TB-Dec21)'!I:I,C28),VALUE("0")) -> 604040.3 | J28: =F28+H28 -> 604040.3 | K28: =SUMIFS('Consol Entries'!D:D,'Consol Entries'!C:C,C28) -> -13683.04 | L28: =SUM(J28:K28) -> 590357.26
A29: =_xlfn.XLOOKUP(C29,consol_Map!B:B,consol_Map!C:C,"",0) -> Trade and other receivables | B29: 11210050 | C29: Translation: Trade Receivables: Externa | F29: =IFERROR(INDEX('Name Redacted (TB)'!$F:$F,MATCH(B29,'Name Redacted (TB)'!$B:$B,0)),VALUE("0")) -> -457250.91 | H29: =IFERROR(SUMIFS('BnC (TB-Dec21)'!J:J,'BnC (TB-Dec21)'!I:I,C29),VALUE("0")) -> 0 | J29: =F29+H29 -> -457250.91 | K29: =SUMIFS('Consol Entries'!D:D,'Consol Entries'!C:C,C29) -> 0 | L29: =SUM(J29:K29) -> -457250.91
A30: =_xlfn.XLOOKUP(C30,consol_Map!B:B,consol_Map!C:C,"",0) -> Trade and other receivables | B30: 11210070 | C30: Unbilled Trade Receivables: External | F30: =IFERROR(INDEX('Name Redacted (TB)'!$F:$F,MATCH(B30,'Name Redacted (TB)'!$B:$B,0)),VALUE("0")) -> 407138.22 | H30: =IFERROR(SUMIFS('BnC (TB-Dec21)'!J:J,'BnC (TB-Dec21)'!I:I,C30),VALUE("0")) -> 0 | J30: =F30+H30 -> 407138.22 | K30: =SUMIFS('Consol Entries'!D:D,'Consol Entries'!C:C,C30) -> 0 | L30: =SUM(J30:K30) -> 407138.22
A31: =_xlfn.XLOOKUP(C31,consol_Map!B:B,consol_Map!C:C,"",0) -> Trade and other receivables | B31: 11210088 | C31: Event Voucher (Redemption) | F31: =IFERROR(INDEX('Name Redacted (TB)'!$F:$F,MATCH(B31,'Name Redacted (TB)'!$B:$B,0)),VALUE("0")) -> -443989.51 | H31: =IFERROR(SUMIFS('BnC (TB-Dec21)'!J:J,'BnC (TB-Dec21)'!I:I,C31),VALUE("0")) -> 0 | J31: =F31+H31 -> -443989.51 | K31: =SUMIFS('Consol Entries'!D:D,'Consol Entries'!C:C,C31) -> 0 | L31: =SUM(J31:K31) -> -443989.51
A32: =_xlfn.XLOOKUP(C32,consol_Map!B:B,consol_Map!C:C,"",0) -> Trade and other receivables | B32: 11210097 | C32: Eatigo Cash Voucher | F32: =IFERROR(INDEX('Name Redacted (TB)'!$F:$F,MATCH(B32,'Name Redacted (TB)'!$B:$B,0)),VALUE("0")) -> -460244 | H32: =IFERROR(SUMIFS('BnC (TB-Dec21)'!J:J,'BnC (TB-Dec21)'!I:I,C32),VALUE("0")) -> 0 | J32: =F32+H32 -> -460244 | K32: =SUMIFS('Consol Entries'!D:D,'Consol Entries'!C:C,C32) -> 0 | L32: =SUM(J32:K32) -> -460244
A33: =_xlfn.XLOOKUP(C33,consol_Map!B:B,consol_Map!C:C,"",0) -> Trade and other receivables | B33: 11210100 | C33: Cash Float Exchange | F33: =IFERROR(INDEX('Name Redacted (TB)'!$F:$F,MATCH(B33,'Name Redacted (TB)'!$B:$B,0)),VALUE("0")) -> -459679 | H33: =IFERROR(SUMIFS('BnC (TB-Dec21)'!J:J,'BnC (TB-Dec21)'!I:I,C33),VALUE("0")) -> 0 | J33: =F33+H33 -> -459679 | K33: =SUMIFS('Consol Entries'!D:D,'Consol Entries'!C:C,C33) -> 0 | L33: =SUM(J33:K33) -> -459679
A34: =_xlfn.XLOOKUP(C34,consol_Map!B:B,consol_Map!C:C,"",0) -> Trade and other receivables | B34: 11219998 | C34: Intersegment Clearing | F34: =IFERROR(INDEX('Name Redacted (TB)'!$F:$F,MATCH(B34,'Name Redacted (TB)'!$B:$B,0)),VALUE("0")) -> -434629 | H34: =IFERROR(SUMIFS('BnC (TB-Dec21)'!J:J,'BnC (TB-Dec21)'!I:I,C34),VALUE("0")) -> 0 | J34: =F34+H34 -> -434629 | K34: =SUMIFS('Consol Entries'!D:D,'Consol Entries'!C:C,C34) -> 0 | L34: =SUM(J34:K34) -> -434629
A35: =_xlfn.XLOOKUP(C35,consol_Map!B:B,consol_Map!C:C,"",0) -> Trade and other receivables | B35: 11219999 | C35: Interco Clearing | F35: =IFERROR(INDEX('Name Redacted (TB)'!$F:$F,MATCH(B35,'Name Redacted (TB)'!$B:$B,0)),VALUE("0")) -> -467159.01 | H35: =IFERROR(SUMIFS('BnC (TB-Dec21)'!J:J,'BnC (TB-Dec21)'!I:I,C35),VALUE("0")) -> 0 | J35: =F35+H35 -> -467159.01 | K35: =SUMIFS('Consol Entries'!D:D,'Consol Entries'!C:C,C35) -> 0 | L35: =SUM(J35:K35) -> -467159.01
A36: =_xlfn.XLOOKUP(C36,consol_Map!B:B,consol_Map!C:C,"",0) -> Inventories | B36: 11310010 | C36: Raw Materials | F36: =IFERROR(INDEX('Name Redacted (TB)'!$F:$F,MATCH(B36,'Name Redacted (TB)'!$B:$B,0)),VALUE("0")) -> -46530.49 | H36: =IFERROR(SUMIFS('BnC (TB-Dec21)'!J:J,'BnC (TB-Dec21)'!I:I,C36),VALUE("0")) -> 0 | J36: =F36+H36 -> -46530.49 | K36: =SUMIFS('Consol Entries'!D:D,'Consol Entries'!C:C,C36) -> 0 | L36: =SUM(J36:K36) -> -46530.49
A37: =_xlfn.XLOOKUP(C37,consol_Map!B:B,consol_Map!C:C,"",0) -> Inventories | B37: 11310020 | C37: Beverages | F37: =IFERROR(INDEX('Name Redacted (TB)'!$F:$F,MATCH(B37,'Name Redacted (TB)'!$B:$B,0)),VALUE("0")) -> -428168.98 | H37: =IFERROR(SUMIFS('BnC (TB-Dec21)'!J:J,'BnC (TB-Dec21)'!I:I,C37),VALUE("0")) -> 0 | J37: =F37+H37 -> -428168.98 | K37: =SUMIFS('Consol Entries'!D:D,'Consol Entries'!C:C,C37) -> 0 | L37: =SUM(J37:K37) -> -428168.98
A38: =_xlfn.XLOOKUP(C38,consol_Map!B:B,consol_Map!C:C,"",0) -> Inventories | B38: 11310030 | C38: Alcohol | F38: =IFERROR(INDEX('Name Redacted (TB)'!$F:$F,MATCH(B38,'Name Redacted (TB)'!$B:$B,0)),VALUE("0")) -> -115214.27 | H38: =IFERROR(SUMIFS('BnC (TB-Dec21)'!J:J,'BnC (TB-Dec21)'!I:I,C38),VALUE("0")) -> 0 | J38: =F38+H38 -> -115214.27 | K38: =SUMIFS('Consol Entries'!D:D,'Consol Entries'!C:C,C38) -> 0 | L38: =SUM(J38:K38) -> -115214.27
A39: =_xlfn.XLOOKUP(C39,consol_Map!B:B,consol_Map!C:C,"",0) -> Inventories | B39: 11320010 | C39: Work In Progress | F39: =IFERROR(INDEX('Name Redacted (TB)'!$F:$F,MATCH(B39,'Name Redacted (TB)'!$B:$B,0)),VALUE("0")) -> -455111.61 | H39: =IFERROR(SUMIFS('BnC (TB-Dec21)'!J:J,'BnC (TB-Dec21)'!I:I,C39),VALUE("0")) -> 0 | J39: =F39+H39 -> -455111.61 | K39: =SUMIFS('Consol Entries'!D:D,'Consol Entries'!C:C,C39) -> 0 | L39: =SUM(J39:K39) -> -455111.61
A40: =_xlfn.XLOOKUP(C40,consol_Map!B:B,consol_Map!C:C,"",0) -> Inventories | B40: 11330010 | C40: Finished Goods Inventories | F40: =IFERROR(INDEX('Name Redacted (TB)'!$F:$F,MATCH(B40,'Name Redacted (TB)'!$B:$B,0)),VALUE("0")) -> -389273.85 | H40: =IFERROR(SUMIFS('BnC (TB-Dec21)'!J:J,'BnC (TB-Dec21)'!I:I,C40),VALUE("0")) -> 0 | J40: =F40+H40 -> -389273.85 | K40: =SUMIFS('Consol Entries'!D:D,'Consol Entries'!C:C,C40) -> 0 | L40: =SUM(J40:K40) -> -389273.85
... A42: =_xlfn.XLOOKUP(C42,consol_Map!B:B,consol_Map!C:C,"",0) -> Inventories | B42: 11350030 | C42: Inventory: Packaging | F42: =IFERROR(INDEX('Name Redacted (TB)'!$F:$F,MATCH(B42,'Name Redacted (TB)'!$B:$B,0)),VALUE("0")) -> -459623.99 | H42: =IFERROR(SUMIFS('BnC (TB-Dec21)'!J:J,'BnC (TB-Dec21)'!I:I,C42),VALUE("0")) -> 0 | J42: =F42+H42 -> -459623.99 | K42: =SUMIFS('Consol Entries'!D:D,'Consol Entries'!C:C,C42) -> 0 | L42: =SUM(J42:K42) -> -459623.99
A43: =_xlfn.XLOOKUP(C43,consol_Map!B:B,consol_Map!C:C,"",0) -> Inventories | C43: [BnC-3060] BnC Closing Stock | F43: =IFERROR(INDEX('Name Redacted (TB)'!$F:$F,MATCH(B43,'Name Redacted (TB)'!$B:$B,0)),VALUE("0")) -> 0 | H43: =IFERROR(SUMIFS('BnC (TB-Dec21)'!J:J,'BnC (TB-Dec21)'!I:I,C43),VALUE("0")) -> 157065.2 | J43: =F43+H43 -> 157065.2 | K43: =SUMIFS('Consol Entries'!D:D,'Consol Entries'!C:C,C43) -> 0 | L43: =SUM(J43:K43) -> 157065.2
...

Sheet Consol Entries
B2: 12200010 | C2: Invt In Subsidiaries | D2: =-K6 -> -24500000 | I2: Description | K2: Amount
C3: [BnC-1000] BnC Share Capital | D3: =-(-724230.77*70%) -> 506961.54 | E3: 70% portion (SC) | I3: Investment in Baker & Cook (55%) | K3: 19250000
C4: [BnC-1000] BnC Share Capital | D4: =-(-724230.77*30%) -> 217269.23 | E4: 30% NCI portion (SC) | I4: Investment in Baker & Cook (15%) | K4: 5250000
C5: [BnC-1100] BnC Accumulated Profit / Loss | D5: =-(-777158.6*70%) -> 544011.02 | E5: 70% portion (Prior Year Profit)
C6: [BnC-7000] BnC Dividend Paid | D6: =-(500000*70%) -> -350000 | E6: 70% portion (2021 Dividend b/f acquisition) | K6: 24500000
C7: [BnC-1100] BnC Accumulated Profit / Loss | D7: =-(-777158.6*30%) -> 233147.58 | E7: 30% NCI portion (Prior Year Profit)
C8: [BnC-7000] BnC Dividend Paid | D8: =-(500000*30%) -> -150000 | E8: 30% NCI portion (2021 Dividend b/f acquisition) | J8: Match against consol journal | K8: =-D2 -> 24500000
C9: [BnC-1100] BnC Accumulated Profit / Loss | D9: =((SUM('BnC Profits Recon'!B5:B14))*70%) -> 1479985.7 | E9: (YTD Oct Profit)*70% | J9: check | K9: =K6-K8 -> 0
C10: [BnC-1100] BnC Accumulated Profit / Loss | D10: =((SUM('BnC Profits Recon'!B5:B14))*30%) -> 634279.59 | E10: (YTD Oct Profit)*30% NCI Portion
C11: Current Year Profit and Loss | D11: ='BnC Profits Recon'!B17*30% -> 67997.538 | E11: Nov Profit*30% NCI Portion | I11: Pre-acquisition (Baker and Cook)
C12: Current Year Profit and Loss | D12: ='BnC Profits Recon'!B18*30% -> -199699.23 | E12: Dec loss*30% NCI Portion | I12: 1000/000 | J12: SHARE CAPITAL | K12: 724230.77
C13: Non-Controlling Interest (NCI) | D13: =-D4-D7-D8-D10-D11-D12 -> -802994.7 | I13: 1100/000 | J13: ACCUMULATED PROFIT / LOSS | K13: 777158.6
B14: 12600010 | C14: Goodwill from Acquisitions | D14: =-(D2+D3+D5+D6+D9) -> 22319042
J16: YTD Dec Profit | K16: =-'BnC (TB-Dec21)'!D598 -> 1175259.6
J17: minus Nov MTD Profit | K17: =-'BnC Profits Recon'!B17 -> -226658.46
J18: minus Dec MTD Profit | K18: =-'BnC Profits Recon'!B18 -> 665664.11
K20: =SUM(K12:K18) -> 3115654.7
J22: Match against consol journal | K22: =SUM(D3:D10) -> 3115654.7
J23: check | K23: =K20-K22 -> 0
I25: Post-acquisition (Baker and Cook)
J26: Nov21 Profit | K26: =-K17 -> 226658.46
J27: Dec21 Loss | K27: =-K18 -> -665664.11
I29: NCI Proof
J30: NCI as per calculation | K30: =(K20+K26+K27)*30% -> 802994.7
J31: NCI as per consol account | K31: =-VLOOKUP("Non-Controlling Interest (NCI)",'Consol (TB)'!C:L,10,FALSE) -> 802994.7
J32: check | K32: =K30-K31 -> 0
I35: Group FVNA Proof
J36: CWC Share Capital | K36: =-VLOOKUP("Ordinary Share Capital",'Consol (TB)'!C:L,10,FALSE) -> 64463796
J37: CWC Preference shares | K37: =-VLOOKUP("Preference Share Capital",'Consol (TB)'!C:L,10,FALSE) -> 3300334.7
J38: CWC R/E (Prior + Current Year) | K38: =-SUM('Consol (TB)'!F123:F353) -> -4473604.2
J39: Share of B/C Profit Post acq. | K39: =SUM(K26:K27)*70% -> -307303.96
K41: =SUM(K36:K40) -> 62983223
J43: Group FVNA as per consol account | K43: =-SUM('Consol (TB)'!L121:L353) -> 63442902
J44: check | K44: =K41-K43 -> -459679
B74: 41000010 | C74: Sales: Food | D74: 257
B75: 42000010 | C75: Sales: Goods | D75: 2822.11
C76: [BnC-6010] BnC Ingredient/Beverage/Consumable | D76: =-SUM(D74:D75) -> -3079.11
B78: 61200050 | C78: Royalties Paid | D78: -133048.03
C79: [BnC-5100] BnC Royalty Income - Swissbake | D79: 133048.03
B81: 11210020 | C81: Trade Receivables Control: Interco | D81: -3294.66
...

Sheet Consol (BS)
A1: Commonwealth Concepts Group
B3: Balance Sheet | F3: 44531
D4: 2021
D5: $’000
A6: ASSETS
A7: Non-current assets
A8: Property, plant and equipment | D8: =ROUND(SUMIFS('Consol (TB)'!L:L,'Consol (TB)'!A:A,A8),0) -> 7709150
A9: Intangible assets | D9: =ROUND(SUMIFS('Consol (TB)'!L:L,'Consol (TB)'!A:A,A9),0) -> 28738455
A10: Right-of-use assets | D10: =ROUND(SUMIFS('Consol (TB)'!L:L,'Consol (TB)'!A:A,A10),0) -> 3201304
A11: Goodwill | D11: =ROUND(SUMIFS('Consol (TB)'!L:L,'Consol (TB)'!A:A,A11),0) -> 40077363
C12: Total non-current assets | D12: =SUM(D8:D11) -> 79726272
A14: Current assets
A15: Inventories | D15: =ROUND(SUMIFS('Consol (TB)'!L:L,'Consol (TB)'!A:A,A15),0) -> -2138188
A16: Trade and other receivables | D16: =ROUND(SUMIFS('Consol (TB)'!L:L,'Consol (TB)'!A:A,A16),0) -> 4577235
A17: Prepayments | D17: =ROUND(SUMIFS('Consol (TB)'!L:L,'Consol (TB)'!A:A,A17),0) -> 987333
A18: Cash and bank balances | D18: =ROUND(SUMIFS('Consol (TB)'!L:L,'Consol (TB)'!A:A,A18),0) -> 13907060
C19: Total current assets | D19: =SUM(D15:D18) -> 17333440
C21: Total assets | D21: =SUM(D19,D12) -> 97059712
A23: EQUITY AND LIABILITIES
A24: Equity
A25: Share capital | D25: =-ROUND(SUMIFS('Consol (TB)'!L:L,'Consol (TB)'!A:A,A25),0) -> 67764131
A26: Retained earnings | D26: =-ROUND(SUMIFS('Consol (TB)'!L:L,'Consol (TB)'!A:A,A26),0)-ROUND(SUMIFS('Consol (TB)'!L:L,'Consol (TB)'!A:A,"Revenue"),0)-ROUND(SUMIFS('Consol (TB)'!L:L,'Consol (TB)'!A:A,"Cost of sales"),0)-ROUND(SUMIFS('Consol (TB)'!L:L,'Consol (TB)'!A:A,"Other income"),0)-ROUND(SUMIFS('Consol (TB)'!L:L,'Consol (TB)'!A:A,"Salaries and payroll expenses"),0)-ROUND(SUMIFS('Consol (TB)'!L:L,'Consol (TB)'!A:A,"Selling and marketing expenses"),0)-ROUND(SUMIFS('Consol (TB)'!L:L,'Consol (TB)'!A:A,"Distribution and logistic cost"),0)-ROUND(SUMIFS('Consol (TB)'!L:L,'Consol (TB)'!A:A,"General and administrative cost"),0)-ROUND(SUMIFS('Consol (TB)'!L:L,'Consol (TB)'!A:A,"Depreciation and amortisation"),0)-ROUND(SUMIFS('Consol (TB)'!L:L,'Consol (TB)'!A:A,"Interest expense"),0)-ROUND(SUMIFS('Consol (TB)'!L:L,'Consol (TB)'!A:A,"Witholding tax"),0)-ROUND(SUMIFS('Consol (TB)'!L:L,'Consol (TB)'!A:A,"Income Tax"),0) -> -4321230
C27: Equity attributable to owners of the parent | D27: =SUM(D25:D26) -> 63442901
A29: Non-controlling interests | D29: =-ROUND(SUMIFS('Consol (TB)'!L:L,'Consol (TB)'!A:A,A29),0) -> 802995
C31: Total equity | D31: =SUM(D27:D30) -> 64245896
A33: Non-current liabilities
A34: Bank borrowings | D34: =-ROUND(SUMIFS('Consol (TB)'!L:L,'Consol (TB)'!A:A,A34),0) -> 13570015
A35: Lease liabilities | D35: =-ROUND(SUMIFS('Consol (TB)'!L:L,'Consol (TB)'!A:A,A35),0) -> 3298986
C36: Total non-current liabilities | D36: =SUM(D34:D35) -> 16869001
A38: Current liabilities
A39: Trade and other payables | D39: =-ROUND(SUMIFS('Consol (TB)'!L:L,'Consol (TB)'!A:A,A39),0) -> 6913522
A40: Income tax payables | D40: =-ROUND(SUMIFS('Consol (TB)'!L:L,'Consol (TB)'!A:A,A40),0) -> 5293898
A41: Provisions | D41: =-ROUND(SUMIFS('Consol (TB)'!L:L,'Consol (TB)'!A:A,A41),0) -> 3277716
A42: Shareholder Loans | D42: =-ROUND(SUMIFS('Consol (TB)'!L:L,'Consol (TB)'!A:A,A42),0) -> 459679
C43: Total current liabilities | D43: =SUM(D39:D42) -> 15944815
C45: Total equity and liabilities | D45: =SUM(D43,D36,D31) -> 97059712

Sheet Consol (PnL)
A1: Commonwealth Concepts Group
B3: Profit and Loss | F3: 44531
D4: 2021
D5: $’000
A6: Revenue | D6: =-ROUND(SUMIFS('Consol (TB)'!L:L,'Consol (TB)'!A:A,A6),0) -> 84440043
A7: Cost of sales | D7: =-ROUND(SUMIFS('Consol (TB)'!L:L,'Consol (TB)'!A:A,A7),0) -> -30518673
C8: Gross Profit | D8: =SUM(D6:D7) -> 53921370
A10: Other items of income
A11: Other income | D11: =-ROUND(SUMIFS('Consol (TB)'!L:L,'Consol (TB)'!A:A,A11),0) -> 12687197
A13: Other items of expense
A14: Salaries and payroll expenses | D14: =-ROUND(SUMIFS('Consol (TB)'!L:L,'Consol (TB)'!A:A,A14),0) -> -30288050
A15: Selling and marketing expenses | D15: =-ROUND(SUMIFS('Consol (TB)'!L:L,'Consol (TB)'!A:A,A15),0) -> -793243
A16: Distribution and logistic cost | D16: =-ROUND(SUMIFS('Consol (TB)'!L:L,'Consol (TB)'!A:A,A16),0) -> -5347506
A17: General and administrative cost | D17: =-ROUND(SUMIFS('Consol (TB)'!L:L,'Consol (TB)'!A:A,A17),0) -> -24970259
A18: Depreciation and amortisation | D18: =-ROUND(SUMIFS('Consol (TB)'!L:L,'Consol (TB)'!A:A,A18),0) -> -6607610
A19: Interest expense | D19: =-ROUND(SUMIFS('Consol (TB)'!L:L,'Consol (TB)'!A:A,A19),0) -> 175506
C21: Profit/(loss) before tax from continuing operations | D21: =SUM(D8:D20) -> -1222595
A23: Witholding tax | D23: =-ROUND(SUMIFS('Consol (TB)'!L:L,'Consol (TB)'!A:A,A23),0) -> -9034
A24: Income Tax | D24: =-ROUND(SUMIFS('Consol (TB)'!L:L,'Consol (TB)'!A:A,A24),0) -> -1046250
C26: PROFIT/(LOSS) | D26: =SUM(D21:D24) -> -2277879
A28: Profit attributable to:
A29: Owners of the parent | D29: =-SUM('Consol (TB)'!F128:F352)-70%*SUM('Consol (TB)'!H128:H352) -> -3056263.9
A30: Non-controlling interests | D30: =-(30%*SUM('Consol (TB)'!H128:H352)) -> 778385.29
D31: =SUM(D29:D30) -> -2277878.7

Sheet Consol (Cashflow)
A1: Commonwealth Concepts Group
B3: Consolidated Cashflow | M3: 44531
F4: Before Adj | I4: Add back NCI's post-acq profit | J4: Acquisition of subsidiary | K4: Project Toffee | M4: Final Cashflow
F5: 2021
B6: Operating activities
B8: Loss before income tax | F8: =SUMIFS('Cashflow Working'!$E$128:$DU$128,'Cashflow Working'!$E$130:$DU$130,'Consol (Cashflow)'!B8) -> #NAME? | I8: =SUM('Consol Entries'!D11:D12) -> -131701.69 | J8: =SUMIFS('Acq of Subsidiary - BnC'!F:F,'Acq of Subsidiary - BnC'!B:B,B8) -> 0 | K8: =SUMIFS('Project Toffee'!J:J,'Project Toffee'!I:I,B8) -> 0 | M8: =SUM(F8:K8) -> #NAME? | N8: check | O8: =M8-'Consol (PnL)'!D26 -> #NAME?
B10: Adjustments for:
B11: Impairment of Goodwill | F11: =SUMIFS('Cashflow Working'!$E$128:$DU$128,'Cashflow Working'!$E$130:$DU$130,'Consol (Cashflow)'!B11) -> 0 | J11: =SUMIFS('Acq of Subsidiary - BnC'!F:F,'Acq of Subsidiary - BnC'!B:B,B11) -> 0 | K11: =SUMIFS('Project Toffee'!J:J,'Project Toffee'!I:I,B11) -> 0 | M11: =SUM(F11:K11) -> 0
B12: Impairment of property, plant and equipment | F12: =SUMIFS('Cashflow Working'!$E$128:$DU$128,'Cashflow Working'!$E$130:$DU$130,'Consol (Cashflow)'!B12) -> 0 | J12: =SUMIFS('Acq of Subsidiary - BnC'!F:F,'Acq of Subsidiary - BnC'!B:B,B12) -> 0 | K12: =SUMIFS('Project Toffee'!J:J,'Project Toffee'!I:I,B12) -> 0 | M12: =SUM(F12:K12) -> 0
B13: Depreciation and amortisation | F13: =SUMIFS('Cashflow Working'!$E$128:$DU$128,'Cashflow Working'!$E$130:$DU$130,'Consol (Cashflow)'!B13) -> #NAME? | J13: =SUMIFS('Acq of Subsidiary - BnC'!F:F,'Acq of Subsidiary - BnC'!B:B,B13) -> -4750149.8 | K13: =SUMIFS('Project Toffee'!J:J,'Project Toffee'!I:I,B13) -> 0 | M13: =SUM(F13:K13) -> #NAME?
B14: Gain/(loss) on disposal of property, plant and equipment | F14: =SUMIFS('Cashflow Working'!$E$128:$DU$128,'Cashflow Working'!$E$130:$DU$130,'Consol (Cashflow)'!B14) -> 0 | J14: =SUMIFS('Acq of Subsidiary - BnC'!F:F,'Acq of Subsidiary - BnC'!B:B,B14) -> 0 | K14: =SUMIFS('Project Toffee'!J:J,'Project Toffee'!I:I,B14) -> 0 | M14: =SUM(F14:K14) -> 0
B15: Fair vale gain on investment properties | F15: =SUMIFS('Cashflow Working'!$E$128:$DU$128,'Cashflow Working'!$E$130:$DU$130,'Consol (Cashflow)'!B15) -> 0 | J15: =SUMIFS('Acq of Subsidiary - BnC'!F:F,'Acq of Subsidiary - BnC'!B:B,B15) -> 0 | K15: =SUMIFS('Project Toffee'!J:J,'Project Toffee'!I:I,B15) -> 0 | M15: =SUM(F15:K15) -> 0
B16: Interest expense | F16: =SUMIFS('Cashflow Working'!$E$128:$DU$128,'Cashflow Working'!$E$130:$DU$130,'Consol (Cashflow)'!B16) -> 0 | J16: =SUMIFS('Acq of Subsidiary - BnC'!F:F,'Acq of Subsidiary - BnC'!B:B,B16) -> 0 | K16: =SUMIFS('Project Toffee'!J:J,'Project Toffee'!I:I,B16) -> 0 | M16: =SUM(F16:K16) -> 0
B17: Interest income | F17: =SUMIFS('Cashflow Working'!$E$128:$DU$128,'Cashflow Working'!$E$130:$DU$130,'Consol (Cashflow)'!B17) -> 0 | J17: =SUMIFS('Acq of Subsidiary - BnC'!F:F,'Acq of Subsidiary - BnC'!B:B,B17) -> 0 | K17: =SUMIFS('Project Toffee'!J:J,'Project Toffee'!I:I,B17) -> 0 | M17: =SUM(F17:K17) -> 0
B18: Dividend income | F18: =SUMIFS('Cashflow Working'!$E$128:$DU$128,'Cashflow Working'!$E$130:$DU$130,'Consol (Cashflow)'!B18) -> 0 | J18: =SUMIFS('Acq of Subsidiary - BnC'!F:F,'Acq of Subsidiary - BnC'!B:B,B18) -> 0 | K18: =SUMIFS('Project Toffee'!J:J,'Project Toffee'!I:I,B18) -> 0 | M18: =SUM(F18:K18) -> 0
B19: Unrealised exchange difference | F19: =SUMIFS('Cashflow Working'!$E$128:$DU$128,'Cashflow Working'!$E$130:$DU$130,'Consol (Cashflow)'!B19) -> 0 | J19: =SUMIFS('Acq of Subsidiary - BnC'!F:F,'Acq of Subsidiary - BnC'!B:B,B19) -> 0 | K19: =SUMIFS('Project Toffee'!J:J,'Project Toffee'!I:I,B19) -> 0 | M19: =SUM(F19:K19) -> 0
B20: Share of profit of associates | F20: =SUMIFS('Cashflow Working'!$E$128:$DU$128,'Cashflow Working'!$E$130:$DU$130,'Consol (Cashflow)'!B20) -> 0 | J20: =SUMIFS('Acq of Subsidiary - BnC'!F:F,'Acq of Subsidiary - BnC'!B:B,B20) -> 0 | K20: =SUMIFS('Project Toffee'!J:J,'Project Toffee'!I:I,B20) -> 0 | M20: =SUM(F20:K20) -> 0
B21: Share of profit of joint venture | F21: =SUMIFS('Cashflow Working'!$E$128:$DU$128,'Cashflow Working'!$E$130:$DU$130,'Consol (Cashflow)'!B21) -> 0 | J21: =SUMIFS('Acq of Subsidiary - BnC'!F:F,'Acq of Subsidiary - BnC'!B:B,B21) -> 0 | K21: =SUMIFS('Project Toffee'!J:J,'Project Toffee'!I:I,B21) -> 0 | M21: =SUM(F21:K21) -> 0
B24: Operating cash flows before movements in working capital:
B25: Inventories | F25: =SUMIFS('Cashflow Working'!$E$128:$DU$128,'Cashflow Working'!$E$130:$DU$130,'Consol (Cashflow)'!B25) -> #NAME? | J25: =SUMIFS('Acq of Subsidiary - BnC'!F:F,'Acq of Subsidiary - BnC'!B:B,B25) -> 111992.03 | K25: =SUMIFS('Project Toffee'!J:J,'Project Toffee'!I:I,B25) -> 855705.4 | M25: =SUM(F25:K25) -> #NAME?
B26: Trade and other receivables, and contract assets | F26: =SUMIFS('Cashflow Working'!$E$128:$DU$128,'Cashflow Working'!$E$130:$DU$130,'Consol (Cashflow)'!B26) -> #NAME? | J26: =SUMIFS('Acq of Subsidiary - BnC'!F:F,'Acq of Subsidiary - BnC'!B:B,B26) -> 249366.75 | K26: =SUMIFS('Project Toffee'!J:J,'Project Toffee'!I:I,B26) -> -46820000 | M26: =SUM(F26:K26) -> #NAME?
B27: Prepayments | F27: =SUMIFS('Cashflow Working'!$E$128:$DU$128,'Cashflow Working'!$E$130:$DU$130,'Consol (Cashflow)'!B27) -> #NAME? | J27: =SUMIFS('Acq of Subsidiary - BnC'!F:F,'Acq of Subsidiary - BnC'!B:B,B27) -> 388632.71 | K27: =SUMIFS('Project Toffee'!J:J,'Project Toffee'!I:I,B27) -> 61416.391 | M27: =SUM(F27:K27) -> #NAME?
B28: Other current asset | F28: =SUMIFS('Cashflow Working'!$E$128:$DU$128,'Cashflow Working'!$E$130:$DU$130,'Consol (Cashflow)'!B28) -> #NAME? | J28: =SUMIFS('Acq of Subsidiary - BnC'!F:F,'Acq of Subsidiary - BnC'!B:B,B28) -> 579772.05 | K28: =SUMIFS('Project Toffee'!J:J,'Project Toffee'!I:I,B28) -> 1693788 | M28: =SUM(F28:K28) -> #NAME?
B29: Provisions | F29: =SUMIFS('Cashflow Working'!$E$128:$DU$128,'Cashflow Working'!$E$130:$DU$130,'Consol (Cashflow)'!B29) -> #NAME? | I29: =-I8 -> 131701.69 | J29: =SUMIFS('Acq of Subsidiary - BnC'!F:F,'Acq of Subsidiary - BnC'!B:B,B29) -> -923516.15 | K29: =SUMIFS('Project Toffee'!J:J,'Project Toffee'!I:I,B29) -> -5541637 | M29: =SUM(F29:K29) -> #NAME?
B30: Trade and Other payables, and contract liabilities | F30: =SUMIFS('Cashflow Working'!$E$128:$DU$128,'Cashflow Working'!$E$130:$DU$130,'Consol (Cashflow)'!B30) -> #NAME? | J30: =SUMIFS('Acq of Subsidiary - BnC'!F:F,'Acq of Subsidiary - BnC'!B:B,B30) -> -1010082.3 | K30: =SUMIFS('Project Toffee'!J:J,'Project Toffee'!I:I,B30) -> 0 | M30: =SUM(F30:K30) -> #NAME?
B31: Cash generated from operations | F31: =SUM(F25:F30) -> #NAME? | M31: =SUM(M25:M30) -> #NAME?
B32: Interest Income | F32: =SUMIFS('Cashflow Working'!$E$128:$DU$128,'Cashflow Working'!$E$130:$DU$130,'Consol (Cashflow)'!B32) -> 0 | K32: =SUMIFS('Project Toffee'!J:J,'Project Toffee'!I:I,B32) -> 0 | M32: =SUM(F32:K32) -> 0
B33: Income taxes paid | F33: =SUMIFS('Cashflow Working'!$E$128:$DU$128,'Cashflow Working'!$E$130:$DU$130,'Consol (Cashflow)'!B33) -> 0 | K33: =SUMIFS('Project Toffee'!J:J,'Project Toffee'!I:I,B33) -> 0 | M33: =SUM(F33:K33) -> 0
B34: Net cash from operating activities | F34: =SUM(F31:F33) -> #NAME? | M34: =SUM(M31:M33) -> #NAME?
B36: Investing activities
B37: Proceeds from disposal of property, plant and equipment | F37: =SUMIFS('Cashflow Working'!$E$128:$DU$128,'Cashflow Working'!$E$130:$DU$130,'Consol (Cashflow)'!B37) -> 0 | J37: =SUMIFS('Acq of Subsidiary - BnC'!F:F,'Acq of Subsidiary - BnC'!B:B,B37) -> 0 | K37: =SUMIFS('Project Toffee'!J:J,'Project Toffee'!I:I,B37) -> 0 | M37: =SUM(F37:K37) -> 0
B38: Purchase of property, plant and equipment | F38: =SUMIFS('Cashflow Working'!$E$128:$DU$128,'Cashflow Working'!$E$130:$DU$130,'Consol (Cashflow)'!B38) -> #NAME? | J38: =SUMIFS('Acq of Subsidiary - BnC'!F:F,'Acq of Subsidiary - BnC'!B:B,B38) -> 9205947.6 | K38: =SUMIFS('Project Toffee'!J:J,'Project Toffee'!I:I,B38) -> 2606690.6 | M38: =SUM(F38:K38) -> #NAME?
B39: Acquisition of subsidiary, net of cash acquired | F39: =SUMIFS('Cashflow Working'!$E$128:$DU$128,'Cashflow Working'!$E$130:$DU$130,'Consol (Cashflow)'!B39) -> 0 | J39: =SUMIFS('Acq of Subsidiary - BnC'!F:F,'Acq of Subsidiary - BnC'!B:B,B39) -> -12756327 | K39: =SUMIFS('Project Toffee'!J:J,'Project Toffee'!I:I,B39) -> 0 | M39: =SUM(F39:K39) -> -12756327
B40: Additions to intangible asset | F40: =SUMIFS('Cashflow Working'!$E$128:$DU$128,'Cashflow Working'!$E$130:$DU$130,'Consol (Cashflow)'!B40) -> #NAME? | J40: =SUMIFS('Acq of Subsidiary - BnC'!F:F,'Acq of Subsidiary - BnC'!B:B,B40) -> 0 | K40: =SUMIFS('Project Toffee'!J:J,'Project Toffee'!I:I,B40) -> 30561000 | M40: =SUM(F40:K40) -> #NAME?
B41: Additions to right-of-use assets | F41: =SUMIFS('Cashflow Working'!$E$128:$DU$128,'Cashflow Working'!$E$130:$DU$130,'Consol (Cashflow)'!B41) -> 0 | J41: =SUMIFS('Acq of Subsidiary - BnC'!F:F,'Acq of Subsidiary - BnC'!B:B,B41) -> 0 | K41: =SUMIFS('Project Toffee'!J:J,'Project Toffee'!I:I,B41) -> 0 | M41: =SUM(F41:K41) -> 0
B42: Purchases of financial assets at FVOCI | F42: =SUMIFS('Cashflow Working'!$E$128:$DU$128,'Cashflow Working'!$E$130:$DU$130,'Consol (Cashflow)'!B42) -> 0 | J42: =SUMIFS('Acq of Subsidiary - BnC'!F:F,'Acq of Subsidiary - BnC'!B:B,B42) -> 0 | K42: =SUMIFS('Project Toffee'!J:J,'Project Toffee'!I:I,B42) -> 0 | M42: =SUM(F42:K42) -> 0
B43: Proceeds from disposal of financial assets at FVOCI | F43: =SUMIFS('Cashflow Working'!$E$128:$DU$128,'Cashflow Working'!$E$130:$DU$130,'Consol (Cashflow)'!B43) -> 0 | J43: =SUMIFS('Acq of Subsidiary - BnC'!F:F,'Acq of Subsidiary - BnC'!B:B,B43) -> 0 | K43: =SUMIFS('Project Toffee'!J:J,'Project Toffee'!I:I,B43) -> 0 | M43: =SUM(F43:K43) -> 0
B44: Dividends received from financial assets at FVOCI | F44: =SUMIFS('Cashflow Working'!$E$128:$DU$128,'Cashflow Working'!$E$130:$DU$130,'Consol (Cashflow)'!B44) -> 0 | J44: =SUMIFS('Acq of Subsidiary - BnC'!F:F,'Acq of Subsidiary - BnC'!B:B,B44) -> 0 | K44: =SUMIFS('Project Toffee'!J:J,'Project Toffee'!I:I,B44) -> 0 | M44: =SUM(F44:K44) -> 0
B45: Net cash used in investing activities | F45: =SUM(F37:F44) -> #NAME? | M45: =SUM(M37:M44) -> #NAME?
B48: Financing activities
...

Sheet Cashflow Working
E2: 11110010 | F2: 11110020 | J2: 11120060 | K2: 11120061 | L2: 11120062 | M2: 11120080 | N2: 11120081 | O2: 11120082 | P2: 11120200 | W2: 11210010 | X2: 11210020 | Y2: 11210030 | AA2: 11210050 | AB2: 11210070 | AC2: 11210088 | AD2: 11210097 | AE2: 11210100 | AF2: 11219998 | AG2: 11219999 | AH2: 11310010 | AI2: 11310020 | AJ2: 11310030 | AK2: 11320010 | AL2: 11330010 | AM2: 11340010 | AN2: 11350030 | AP2: 11500010 | AR2: 11500030 | AS2: 11500040 | AU2: 11500045 | AV2: 11500060 | AW2: 11500066 | AX2: 11500070 | AZ2: 11500080 | BA2: 11500090 | BC2: 12200010 | BD2: 12500010 | BE2: 12500050 | BF2: 12500060 | BG2: 12500070 | BH2: 12500080 | BI2: 12500090 | BJ2: 12500100 | BK2: 12500110 | BL2: 12500120 | BM2: 12500130 | BN2: 12500140 | CF2: 12600010 | CG2: 12600040 | CH2: 12600050 | CI2: 21100010 | CJ2: 21100020 | CK2: 21100030 | CL2: 21100050 | CM2: 21200010 | CN2: 21200020 | CO2: 21200030 | CQ2: 21200050 | CV2: 21200100 | CX2: 21200150 | DA2: 21200170 | DB2: 21200180 | DC2: 21200190 | DD2: 21200200 | DE2: 22100010 | DF2: 22100020 | DG2: 22100040 | DL2: 22100100 | DM2: 22220010 | DO2: 31000010 | DP2: 31000020 | DQ2: 32000010
E3: HQ Petty Cash | F3: Outlet Cash Floats | G3: [BnC-3010] BnC Petty Cash | H3: [BnC-3010] BnC Spare Cash Float | I3: [BnC-3010] BnC Cash In POS | J3: DBS SGD Current A/C 1 | K3: DBS SGD Current A/C 1 - Incoming | L3: DBS SGD Current A/C 1 - Outgoing | M3: DBS USD Current A/C 1 | N3: DBS USD Current A/C 1 - Incoming | O3: DBS USD Current A/C 1 - Outgoing | P3: UOB SGD Current A/C 1 | Q3: [BnC-3010] BnC OCBC - SGD 641-102686-001 | R3: [BnC-3010] BnC SCB - SGD 0102 7994 23 | S3: [BnC-3010] BnC DBS - SGD 0720280067 | T3: [BnC-3010] BnC Ocbc - SGD 687239491001 | U3: [BnC-3010] BnC Paypal Account | V3: [BnC-3010] BnC UOB - SGD 3493328601 | W3: Trade Receivables Control: External | X3: Trade Receivables Control: Interco | Y3: Provn Doubtful Debts: Trade: External | Z3: [BnC-3000] BnC Trade Debtors | AA3: Translation: Trade Receivables: Externa | AB3: Unbilled Trade Receivables: External | AC3: Event Voucher (Redemption) | AD3: Eatigo Cash Voucher | AE3: Cash Float Exchange | AF3: Intersegment Clearing | AG3: Interco Clearing | AH3: Raw Materials | AI3: Beverages | AJ3: Alcohol | AK3: Work In Progress | AL3: Finished Goods Inventories | AM3: Trading Goods | AN3: Inventory: Packaging | AO3: [BnC-3060] BnC Closing Stock | AP3: Input GST Receivable | AQ3: [BnC-3090] BnC GST Input Tax | AR3: Grants Income Receivable | AS3: Prepayments | AT3: [BnC-3020] BnC Prepayment | AU3: Downpayment & Advance Payment | AV3: Deposits: Rental | AW3: Deposits: Utilities | AX3: Deposits: Others | AY3: [BnC-3020] BnC Deposit | AZ3: Recoverable: Interco | BA3: Recoverable: External | BB3: [BnC-3020] BnC Amount Owing By B&C Msia | BC3: Invt In Subsidiaries | BD3: Construction In-Progress | BE3: Leasehold Improvements | BF3: Accum Deprn: Leasehold Improvements | BG3: Office Furn & Fittings | BH3: Accum Deprn: Office Furn & Fittings | BI3: Office Equipment | BJ3: Accum Deprn: Office Equipment | BK3: Plant, Equipment & Boats | BL3: Accum Deprn: Plant, Equipment & Boats | BM3: Motor Vehicles | BN3: Accum Deprn: Motor Vehicles | BO3: [BnC-2B01] BnC Baking Equipment | BP3: [BnC-2B01] BnC Acc Depn-Baking Equipment | BQ3: [BnC-2C01] BnC Computer | BR3: [BnC-2C01] BnC Acc Depreciation - Computer | BS3: [BnC-2F01] BnC Furniture & Fitting | BT3: [BnC-2F01] BnC Acc Depn - Furniture & Fitting | BU3: [BnC-2I01] BnC Long Term Investment | BV3: [BnC-2K01] BnC Kitchen Equipment | BW3: [BnC-2O01] BnC Office Equipment | BX3: [BnC-2O01] BnC Acc Depreciation - Office Equipment | BY3: [BnC-2R01] BnC Renovation | BZ3: [BnC-2R01] BnC Acc Depn-Renovation | CA3: [BnC-2S01] BnC Software | CB3: [BnC-2S01] BnC Acc Depreciation - Software | CC3: [BnC-2T01] BnC Telephone And Cabling | CD3: [BnC-2T01] BnC Acc Depreciation - Telphone and Cabling | CE3: [BnC-3031] BnC Right Of Use | CF3: Goodwill from Acquisitions | CG3: Trademarks And Licences | CH3: Accum Amortn: Trademarks, Licences | CI3: Trade Payables Control: External | CJ3: Trade Payables Control: Interco | CK3: GR IR Clearing | CL3: Translation: Trade Payables: External | CM3: Non-Trade Payables Control: External | CN3: Non-Trade Payables Control: Interco | CO3: Translation: Non-Trade Payables Externa | CP3: [BnC-4000] BnC Trade Payables | CQ3: Accruals: Non-Trade | CR3: [BnC-4010] BnC Accrual | CS3: [BnC-4010] BnC CPF Payables | CT3: [BnC-4050] BnC Payroll Control | CU3: [BnC-4300] BnC Suspense Account | CV3: Deposits Received: Others | CW3: [BnC-3020] BnC Deposit Received | CX3: Output GST Payable | CY3: [BnC-4090] BnC GST Output Tax | CZ3: [BnC-4100] BnC GST Control Account | DA3: Other Payables | DB3: Provn For Deferred Income | DC3: Provn For Outlet Reinstatement Cost | DD3: Provn For Unutilised Leave | DE3: Bank: Term Loans | DF3: Bank: MML | DG3: Bank: Trust Receipts | DH3: [BnC-4012] BnC DBS Bridging Loan | DI3: [BnC-4011] BnC Lease Liability | DJ3: [BnC-4080] BnC Provision For Taxation | DK3: [BnC-4200] BnC Deferred Taxation | DL3: Shareholder Loans | DM3: Deferred Income Tax Liabilities | DN3: Non-Controlling Interest (NCI) | DO3: Ordinary Share Capital | DP3: Preference Share Capital | DQ3: Beginning Retained Earnings | DR3: [BnC-1000] BnC Share Capital | DS3: [BnC-1100] BnC Accumulated Profit / Loss | DT3: [BnC-7000] BnC Dividend Paid | DU3: Current Year Profit and Loss
E4: 0 | F4: 0 | G4: 0 | H4: 0 | I4: 0 | J4: 1987999.5 | K4: 0 | L4: 0 | M4: 0 | N4: 0 | O4: 0 | P4: 1224.97 | Q4: 0 | R4: 0 | S4: 0 | T4: 0 | U4: 0 | V4: 0 | W4: 0 | X4: 0 | Y4: 0 | Z4: 0 | AA4: 0 | AB4: 0 | AC4: 0 | AD4: 0 | AE4: 0 | AF4: 0 | AG4: 0 | AH4: 0 | AI4: 0 | AJ4: 0 | AK4: 0 | AL4: 0 | AM4: 0 | AN4: 0 | AO4: 0 | AP4: 127.4 | AQ4: 0 | AR4: 0 | AS4: 184498.02 | AT4: 0 | AU4: 0 | AV4: 0 | AW4: 0 | AX4: 0 | AY4: 0 | AZ4: 46820004 | BA4: 0 | BB4: 0 | BC4: 0 | BD4: 0 | BE4: 0 | BF4: 0 | BG4: 0 | BH4: 0 | BI4: 0 | BJ4: 0 | BK4: 0 | BL4: 0 | BM4: 0 | BN4: 0 | BO4: 0 | BP4: 0 | BQ4: 0 | BR4: 0 | BS4: 0 | BT4: 0 | BU4: 0 | BV4: 0 | BW4: 0 | BX4: 0 | BY4: 0 | BZ4: 0 | CA4: 0 | CB4: 0 | CC4: 0 | CD4: 0 | CE4: 0 | CF4: 0 | CG4: 0 | CH4: 0 | CI4: 0 | CJ4: -1947.4 | CK4: 0 | CL4: 0 | CM4: 0 | CN4: 0 | CO4: 0 | CP4: 0 | CQ4: -232689.42 | CR4: 0 | CS4: 0 | CT4: 0 | CU4: 0 | CV4: 0 | CW4: 0 | CX4: 0 | CY4: 0 | CZ4: 0 | DA4: 0 | DB4: 0 | DC4: 0 | DD4: 0 | DE4: 0 | DF4: 0 | DG4: 0 | DH4: 0 | DI4: 0 | DJ4: 0 | DK4: 0 | DL4: 0 | DM4: 0 | DN4: 0 | DO4: -48820004 | DP4: 0 | DQ4: 0 | DR4: 0 | DS4: 0 | DT4: 0 | DU4: 60786.92 | DW4: =SUM(E4:DU4) -> -1.7753337e-09
C5: FY21 Consol TB
C6: HQ Petty Cash | D6: =_xlfn.XLOOKUP(C6,'Consol (TB)'!C:C,'Consol (TB)'!L:L,VALUE("0"),0,1) -> #NAME? | E6: =E$4-$D6 -> #NAME?
C7: Outlet Cash Floats | D7: =_xlfn.XLOOKUP(C7,'Consol (TB)'!C:C,'Consol (TB)'!L:L,VALUE("0"),0,1) -> #NAME? | F7: =F$4-$D7 -> #NAME?
C8: [BnC-3010] BnC Petty Cash | D8: =_xlfn.XLOOKUP(C8,'Consol (TB)'!C:C,'Consol (TB)'!L:L,VALUE("0"),0,1) -> #NAME? | G8: =G$4-$D8 -> #NAME?
C9: [BnC-3010] BnC Spare Cash Float | D9: =_xlfn.XLOOKUP(C9,'Consol (TB)'!C:C,'Consol (TB)'!L:L,VALUE("0"),0,1) -> #NAME? | H9: =H$4-$D9 -> #NAME?
C10: [BnC-3010] BnC Cash In POS | D10: =_xlfn.XLOOKUP(C10,'Consol (TB)'!C:C,'Consol (TB)'!L:L,VALUE("0"),0,1) -> #NAME? | I10: =I$4-$D10 -> #NAME?
C11: DBS SGD Current A/C 1 | D11: =_xlfn.XLOOKUP(C11,'Consol (TB)'!C:C,'Consol (TB)'!L:L,VALUE("0"),0,1) -> #NAME? | J11: =J$4-$D11 -> #NAME?
C12: DBS SGD Current A/C 1 - Incoming | D12: =_xlfn.XLOOKUP(C12,'Consol (TB)'!C:C,'Consol (TB)'!L:L,VALUE("0"),0,1) -> #NAME? | K12: =K$4-$D12 -> #NAME?
C13: DBS SGD Current A/C 1 - Outgoing | D13: =_xlfn.XLOOKUP(C13,'Consol (TB)'!C:C,'Consol (TB)'!L:L,VALUE("0"),0,1) -> #NAME? | L13: =L$4-$D13 -> #NAME?
C14: DBS USD Current A/C 1 | D14: =_xlfn.XLOOKUP(C14,'Consol (TB)'!C:C,'Consol (TB)'!L:L,VALUE("0"),0,1) -> #NAME? | M14: =M$4-$D14 -> #NAME?
C15: DBS USD Current A/C 1 - Incoming | D15: =_xlfn.XLOOKUP(C15,'Consol (TB)'!C:C,'Consol (TB)'!L:L,VALUE("0"),0,1) -> #NAME? | N15: =N$4-$D15 -> #NAME?
C16: DBS USD Current A/C 1 - Outgoing | D16: =_xlfn.XLOOKUP(C16,'Consol (TB)'!C:C,'Consol (TB)'!L:L,VALUE("0"),0,1) -> #NAME? | O16: =O$4-$D16 -> #NAME?
C17: UOB SGD Current A/C 1 | D17: =_xlfn.XLOOKUP(C17,'Consol (TB)'!C:C,'Consol (TB)'!L:L,VALUE("0"),0,1) -> #NAME? | P17: =P$4-$D17 -> #NAME?
C18: [BnC-3010] BnC OCBC - SGD 641-102686-001 | D18: =_xlfn.XLOOKUP(C18,'Consol (TB)'!C:C,'Consol (TB)'!L:L,VALUE("0"),0,1) -> #NAME? | Q18: =Q$4-$D18 -> #NAME?
C19: [BnC-3010] BnC SCB - SGD 0102 7994 23 | D19: =_xlfn.XLOOKUP(C19,'Consol (TB)'!C:C,'Consol (TB)'!L:L,VALUE("0"),0,1) -> #NAME? | R19: =R$4-$D19 -> #NAME?
C20: [BnC-3010] BnC DBS - SGD 0720280067 | D20: =_xlfn.XLOOKUP(C20,'Consol (TB)'!C:C,'Consol (TB)'!L:L,VALUE("0"),0,1) -> #NAME? | S20: =S$4-$D20 -> #NAME?
C21: [BnC-3010] BnC Ocbc - SGD 687239491001 | D21: =_xlfn.XLOOKUP(C21,'Consol (TB)'!C:C,'Consol (TB)'!L:L,VALUE("0"),0,1) -> #NAME? | T21: =T$4-$D21 -> #NAME?
C22: [BnC-3010] BnC Paypal Account | D22: =_xlfn.XLOOKUP(C22,'Consol (TB)'!C:C,'Consol (TB)'!L:L,VALUE("0"),0,1) -> #NAME? | U22: =U$4-$D22 -> #NAME?
C23: [BnC-3010] BnC UOB - SGD 3493328601 | D23: =_xlfn.XLOOKUP(C23,'Consol (TB)'!C:C,'Consol (TB)'!L:L,VALUE("0"),0,1) -> #NAME? | V23: =V$4-$D23 -> #NAME?
C24: Trade Receivables Control: External | D24: =_xlfn.XLOOKUP(C24,'Consol (TB)'!C:C,'Consol (TB)'!L:L,VALUE("0"),0,1) -> #NAME? | W24: =W$4-$D24 -> #NAME?
C25: Trade Receivables Control: Interco | D25: =_xlfn.XLOOKUP(C25,'Consol (TB)'!C:C,'Consol (TB)'!L:L,VALUE("0"),0,1) -> #NAME? | X25: =X$4-$D25 -> #NAME?
C26: Provn Doubtful Debts: Trade: External | D26: =_xlfn.XLOOKUP(C26,'Consol (TB)'!C:C,'Consol (TB)'!L:L,VALUE("0"),0,1) -> #NAME? | Y26: =Y$4-$D26 -> #NAME?
C27: [BnC-3000] BnC Trade Debtors | D27: =_xlfn.XLOOKUP(C27,'Consol (TB)'!C:C,'Consol (TB)'!L:L,VALUE("0"),0,1) -> #NAME? | Z27: =Z$4-$D27 -> #NAME?
C28: Translation: Trade Receivables: Externa | D28: =_xlfn.XLOOKUP(C28,'Consol (TB)'!C:C,'Consol (TB)'!L:L,VALUE("0"),0,1) -> #NAME? | AA28: =AA$4-$D28 -> #NAME?
C29: Unbilled Trade Receivables: External | D29: =_xlfn.XLOOKUP(C29,'Consol (TB)'!C:C,'Consol (TB)'!L:L,VALUE("0"),0,1) -> #NAME? | AB29: =AB$4-$D29 -> #NAME?
C30: Event Voucher (Redemption) | D30: =_xlfn.XLOOKUP(C30,'Consol (TB)'!C:C,'Consol (TB)'!L:L,VALUE("0"),0,1) -> #NAME? | AC30: =AC$4-$D30 -> #NAME?
C31: Eatigo Cash Voucher | D31: =_xlfn.XLOOKUP(C31,'Consol (TB)'!C:C,'Consol (TB)'!L:L,VALUE("0"),0,1) -> #NAME? | AD31: =AD$4-$D31 -> #NAME?
C32: Cash Float Exchange | D32: =_xlfn.XLOOKUP(C32,'Consol (TB)'!C:C,'Consol (TB)'!L:L,VALUE("0"),0,1) -> #NAME? | AE32: =AE$4-$D32 -> #NAME?
C33: Intersegment Clearing | D33: =_xlfn.XLOOKUP(C33,'Consol (TB)'!C:C,'Consol (TB)'!L:L,VALUE("0"),0,1) -> #NAME? | AF33: =AF$4-$D33 -> #NAME?
C34: Interco Clearing | D34: =_xlfn.XLOOKUP(C34,'Consol (TB)'!C:C,'Consol (TB)'!L:L,VALUE("0"),0,1) -> #NAME? | AG34: =AG$4-$D34 -> #NAME?
C35: Raw Materials | D35: =_xlfn.XLOOKUP(C35,'Consol (TB)'!C:C,'Consol (TB)'!L:L,VALUE("0"),0,1) -> #NAME? | AH35: =AH$4-$D35 -> #NAME?
C36: Beverages | D36: =_xlfn.XLOOKUP(C36,'Consol (TB)'!C:C,'Consol (TB)'!L:L,VALUE("0"),0,1) -> #NAME? | AI36: =AI$4-$D36 -> #NAME?
C37: Alcohol | D37: =_xlfn.XLOOKUP(C37,'Consol (TB)'!C:C,'Consol (TB)'!L:L,VALUE("0"),0,1) -> #NAME? | AJ37: =AJ$4-$D37 -> #NAME?
C38: Work In Progress | D38: =_xlfn.XLOOKUP(C38,'Consol (TB)'!C:C,'Consol (TB)'!L:L,VALUE("0"),0,1) -> #NAME? | AK38: =AK$4-$D38 -> #NAME?
C39: Finished Goods Inventories | D39: =_xlfn.XLOOKUP(C39,'Consol (TB)'!C:C,'Consol (TB)'!L:L,VALUE("0"),0,1) -> #NAME? | AL39: =AL$4-$D39 -> #NAME?
C40: Trading Goods | D40: =_xlfn.XLOOKUP(C40,'Consol (TB)'!C:C,'Consol (TB)'!L:L,VALUE("0"),0,1) -> #NAME? | AM40: =AM$4-$D40 -> #NAME?
C41: Inventory: Packaging | D41: =_xlfn.XLOOKUP(C41,'Consol (TB)'!C:C,'Consol (TB)'!L:L,VALUE("0"),0,1) -> #NAME? | AN41: =AN$4-$D41 -> #NAME?
...

Sheet Cashflow Working (Check)
A5: GL | B5: GL Name | C5: TB FY21 - CWC | D5: TB FY21 - BnC | E5: Cashflow Map | F5: FY20 | G5: FY21 | H5: Adj | I5: Cashflow (Before adj)
B6: HQ Petty Cash | C6: =_xlfn.XLOOKUP(B6,'Consol (TB)'!C:C,'Consol (TB)'!F:F,VALUE("0"),0,1) -> #NAME? | D6: =_xlfn.XLOOKUP(B6,'Consol (TB)'!C:C,'Consol (TB)'!H:H,VALUE("0"),0,1) -> #NAME? | F6: =_xlfn.XLOOKUP(B6,'Cashflow Working'!$3:$3,'Cashflow Working'!$4:$4,VALUE("0"),0,1) -> #NAME? | G6: =_xlfn.XLOOKUP(B6,'Cashflow Working'!$C:$C,'Cashflow Working'!$D:$D,VALUE("0"),0,1) -> #NAME? | I6: =F6-G6+H6 -> #NAME?
B7: Outlet Cash Floats | C7: =_xlfn.XLOOKUP(B7,'Consol (TB)'!C:C,'Consol (TB)'!F:F,VALUE("0"),0,1) -> #NAME? | D7: =_xlfn.XLOOKUP(B7,'Consol (TB)'!C:C,'Consol (TB)'!H:H,VALUE("0"),0,1) -> #NAME? | F7: =_xlfn.XLOOKUP(B7,'Cashflow Working'!$3:$3,'Cashflow Working'!$4:$4,VALUE("0"),0,1) -> #NAME? | G7: =_xlfn.XLOOKUP(B7,'Cashflow Working'!$C:$C,'Cashflow Working'!$D:$D,VALUE("0"),0,1) -> #NAME? | I7: =F7-G7+H7 -> #NAME?
B8: [BnC-3010] BnC Petty Cash | C8: =_xlfn.XLOOKUP(B8,'Consol (TB)'!C:C,'Consol (TB)'!F:F,VALUE("0"),0,1) -> #NAME? | D8: =_xlfn.XLOOKUP(B8,'Consol (TB)'!C:C,'Consol (TB)'!H:H,VALUE("0"),0,1) -> #NAME? | F8: =_xlfn.XLOOKUP(B8,'Cashflow Working'!$3:$3,'Cashflow Working'!$4:$4,VALUE("0"),0,1) -> #NAME? | G8: =_xlfn.XLOOKUP(B8,'Cashflow Working'!$C:$C,'Cashflow Working'!$D:$D,VALUE("0"),0,1) -> #NAME? | I8: =F8-G8+H8 -> #NAME?
B9: [BnC-3010] BnC Spare Cash Float | C9: =_xlfn.XLOOKUP(B9,'Consol (TB)'!C:C,'Consol (TB)'!F:F,VALUE("0"),0,1) -> #NAME? | D9: =_xlfn.XLOOKUP(B9,'Consol (TB)'!C:C,'Consol (TB)'!H:H,VALUE("0"),0,1) -> #NAME? | F9: =_xlfn.XLOOKUP(B9,'Cashflow Working'!$3:$3,'Cashflow Working'!$4:$4,VALUE("0"),0,1) -> #NAME? | G9: =_xlfn.XLOOKUP(B9,'Cashflow Working'!$C:$C,'Cashflow Working'!$D:$D,VALUE("0"),0,1) -> #NAME? | I9: =F9-G9+H9 -> #NAME?
B10: [BnC-3010] BnC Cash In POS | C10: =_xlfn.XLOOKUP(B10,'Consol (TB)'!C:C,'Consol (TB)'!F:F,VALUE("0"),0,1) -> #NAME? | D10: =_xlfn.XLOOKUP(B10,'Consol (TB)'!C:C,'Consol (TB)'!H:H,VALUE("0"),0,1) -> #NAME? | F10: =_xlfn.XLOOKUP(B10,'Cashflow Working'!$3:$3,'Cashflow Working'!$4:$4,VALUE("0"),0,1) -> #NAME? | G10: =_xlfn.XLOOKUP(B10,'Cashflow Working'!$C:$C,'Cashflow Working'!$D:$D,VALUE("0"),0,1) -> #NAME? | I10: =F10-G10+H10 -> #NAME?
A11: 11120060 | B11: DBS SGD Current A/C 1 | C11: =_xlfn.XLOOKUP(B11,'Consol (TB)'!C:C,'Consol (TB)'!F:F,VALUE("0"),0,1) -> #NAME? | D11: =_xlfn.XLOOKUP(B11,'Consol (TB)'!C:C,'Consol (TB)'!H:H,VALUE("0"),0,1) -> #NAME? | F11: =_xlfn.XLOOKUP(B11,'Cashflow Working'!$3:$3,'Cashflow Working'!$4:$4,VALUE("0"),0,1) -> #NAME? | G11: =_xlfn.XLOOKUP(B11,'Cashflow Working'!$C:$C,'Cashflow Working'!$D:$D,VALUE("0"),0,1) -> #NAME? | I11: =F11-G11+H11 -> #NAME?
A12: 11120061 | B12: DBS SGD Current A/C 1 - Incoming | C12: =_xlfn.XLOOKUP(B12,'Consol (TB)'!C:C,'Consol (TB)'!F:F,VALUE("0"),0,1) -> #NAME? | D12: =_xlfn.XLOOKUP(B12,'Consol (TB)'!C:C,'Consol (TB)'!H:H,VALUE("0"),0,1) -> #NAME? | E12: [BnC-3010] BnC Petty Cash | F12: =_xlfn.XLOOKUP(B12,'Cashflow Working'!$3:$3,'Cashflow Working'!$4:$4,VALUE("0"),0,1) -> #NAME? | G12: =_xlfn.XLOOKUP(B12,'Cashflow Working'!$C:$C,'Cashflow Working'!$D:$D,VALUE("0"),0,1) -> #NAME? | I12: =F12-G12+H12 -> #NAME?
A13: 11120062 | B13: DBS SGD Current A/C 1 - Outgoing | C13: =_xlfn.XLOOKUP(B13,'Consol (TB)'!C:C,'Consol (TB)'!F:F,VALUE("0"),0,1) -> #NAME? | D13: =_xlfn.XLOOKUP(B13,'Consol (TB)'!C:C,'Consol (TB)'!H:H,VALUE("0"),0,1) -> #NAME? | F13: =_xlfn.XLOOKUP(B13,'Cashflow Working'!$3:$3,'Cashflow Working'!$4:$4,VALUE("0"),0,1) -> #NAME? | G13: =_xlfn.XLOOKUP(B13,'Cashflow Working'!$C:$C,'Cashflow Working'!$D:$D,VALUE("0"),0,1) -> #NAME? | I13: =F13-G13+H13 -> #NAME?
A14: 11120080 | B14: DBS USD Current A/C 1 | C14: =_xlfn.XLOOKUP(B14,'Consol (TB)'!C:C,'Consol (TB)'!F:F,VALUE("0"),0,1) -> #NAME? | D14: =_xlfn.XLOOKUP(B14,'Consol (TB)'!C:C,'Consol (TB)'!H:H,VALUE("0"),0,1) -> #NAME? | F14: =_xlfn.XLOOKUP(B14,'Cashflow Working'!$3:$3,'Cashflow Working'!$4:$4,VALUE("0"),0,1) -> #NAME? | G14: =_xlfn.XLOOKUP(B14,'Cashflow Working'!$C:$C,'Cashflow Working'!$D:$D,VALUE("0"),0,1) -> #NAME? | I14: =F14-G14+H14 -> #NAME?
A15: 11120081 | B15: DBS USD Current A/C 1 - Incoming | C15: =_xlfn.XLOOKUP(B15,'Consol (TB)'!C:C,'Consol (TB)'!F:F,VALUE("0"),0,1) -> #NAME? | D15: =_xlfn.XLOOKUP(B15,'Consol (TB)'!C:C,'Consol (TB)'!H:H,VALUE("0"),0,1) -> #NAME? | F15: =_xlfn.XLOOKUP(B15,'Cashflow Working'!$3:$3,'Cashflow Working'!$4:$4,VALUE("0"),0,1) -> #NAME? | G15: =_xlfn.XLOOKUP(B15,'Cashflow Working'!$C:$C,'Cashflow Working'!$D:$D,VALUE("0"),0,1) -> #NAME? | I15: =F15-G15+H15 -> #NAME?
A16: 11120082 | B16: DBS USD Current A/C 1 - Outgoing | C16: =_xlfn.XLOOKUP(B16,'Consol (TB)'!C:C,'Consol (TB)'!F:F,VALUE("0"),0,1) -> #NAME? | D16: =_xlfn.XLOOKUP(B16,'Consol (TB)'!C:C,'Consol (TB)'!H:H,VALUE("0"),0,1) -> #NAME? | F16: =_xlfn.XLOOKUP(B16,'Cashflow Working'!$3:$3,'Cashflow Working'!$4:$4,VALUE("0"),0,1) -> #NAME? | G16: =_xlfn.XLOOKUP(B16,'Cashflow Working'!$C:$C,'Cashflow Working'!$D:$D,VALUE("0"),0,1) -> #NAME? | I16: =F16-G16+H16 -> #NAME?
A17: 11120200 | B17: UOB SGD Current A/C 1 | C17: =_xlfn.XLOOKUP(B17,'Consol (TB)'!C:C,'Consol (TB)'!F:F,VALUE("0"),0,1) -> #NAME? | D17: =_xlfn.XLOOKUP(B17,'Consol (TB)'!C:C,'Consol (TB)'!H:H,VALUE("0"),0,1) -> #NAME? | F17: =_xlfn.XLOOKUP(B17,'Cashflow Working'!$3:$3,'Cashflow Working'!$4:$4,VALUE("0"),0,1) -> #NAME? | G17: =_xlfn.XLOOKUP(B17,'Cashflow Working'!$C:$C,'Cashflow Working'!$D:$D,VALUE("0"),0,1) -> #NAME? | I17: =F17-G17+H17 -> #NAME?
B18: [BnC-3010] BnC OCBC - SGD 641-102686-001 | C18: =_xlfn.XLOOKUP(B18,'Consol (TB)'!C:C,'Consol (TB)'!F:F,VALUE("0"),0,1) -> #NAME? | D18: =_xlfn.XLOOKUP(B18,'Consol (TB)'!C:C,'Consol (TB)'!H:H,VALUE("0"),0,1) -> #NAME? | F18: =_xlfn.XLOOKUP(B18,'Cashflow Working'!$3:$3,'Cashflow Working'!$4:$4,VALUE("0"),0,1) -> #NAME? | G18: =_xlfn.XLOOKUP(B18,'Cashflow Working'!$C:$C,'Cashflow Working'!$D:$D,VALUE("0"),0,1) -> #NAME? | I18: =F18-G18+H18 -> #NAME?
B19: [BnC-3010] BnC SCB - SGD 0102 7994 23 | C19: =_xlfn.XLOOKUP(B19,'Consol (TB)'!C:C,'Consol (TB)'!F:F,VALUE("0"),0,1) -> #NAME? | D19: =_xlfn.XLOOKUP(B19,'Consol (TB)'!C:C,'Consol (TB)'!H:H,VALUE("0"),0,1) -> #NAME? | F19: =_xlfn.XLOOKUP(B19,'Cashflow Working'!$3:$3,'Cashflow Working'!$4:$4,VALUE("0"),0,1) -> #NAME? | G19: =_xlfn.XLOOKUP(B19,'Cashflow Working'!$C:$C,'Cashflow Working'!$D:$D,VALUE("0"),0,1) -> #NAME? | I19: =F19-G19+H19 -> #NAME?
B20: [BnC-3010] BnC DBS - SGD 0720280067 | C20: =_xlfn.XLOOKUP(B20,'Consol (TB)'!C:C,'Consol (TB)'!F:F,VALUE("0"),0,1) -> #NAME? | D20: =_xlfn.XLOOKUP(B20,'Consol (TB)'!C:C,'Consol (TB)'!H:H,VALUE("0"),0,1) -> #NAME? | F20: =_xlfn.XLOOKUP(B20,'Cashflow Working'!$3:$3,'Cashflow Working'!$4:$4,VALUE("0"),0,1) -> #NAME? | G20: =_xlfn.XLOOKUP(B20,'Cashflow Working'!$C:$C,'Cashflow Working'!$D:$D,VALUE("0"),0,1) -> #NAME? | I20: =F20-G20+H20 -> #NAME?
B21: [BnC-3010] BnC Ocbc - SGD 687239491001 | C21: =_xlfn.XLOOKUP(B21,'Consol (TB)'!C:C,'Consol (TB)'!F:F,VALUE("0"),0,1) -> #NAME? | D21: =_xlfn.XLOOKUP(B21,'Consol (TB)'!C:C,'Consol (TB)'!H:H,VALUE("0"),0,1) -> #NAME? | F21: =_xlfn.XLOOKUP(B21,'Cashflow Working'!$3:$3,'Cashflow Working'!$4:$4,VALUE("0"),0,1) -> #NAME? | G21: =_xlfn.XLOOKUP(B21,'Cashflow Working'!$C:$C,'Cashflow Working'!$D:$D,VALUE("0"),0,1) -> #NAME? | I21: =F21-G21+H21 -> #NAME?
B22: [BnC-3010] BnC Paypal Account | C22: =_xlfn.XLOOKUP(B22,'Consol (TB)'!C:C,'Consol (TB)'!F:F,VALUE("0"),0,1) -> #NAME? | D22: =_xlfn.XLOOKUP(B22,'Consol (TB)'!C:C,'Consol (TB)'!H:H,VALUE("0"),0,1) -> #NAME? | F22: =_xlfn.XLOOKUP(B22,'Cashflow Working'!$3:$3,'Cashflow Working'!$4:$4,VALUE("0"),0,1) -> #NAME? | G22: =_xlfn.XLOOKUP(B22,'Cashflow Working'!$C:$C,'Cashflow Working'!$D:$D,VALUE("0"),0,1) -> #NAME? | I22: =F22-G22+H22 -> #NAME?
B23: [BnC-3010] BnC UOB - SGD 3493328601 | C23: =_xlfn.XLOOKUP(B23,'Consol (TB)'!C:C,'Consol (TB)'!F:F,VALUE("0"),0,1) -> #NAME? | D23: =_xlfn.XLOOKUP(B23,'Consol (TB)'!C:C,'Consol (TB)'!H:H,VALUE("0"),0,1) -> #NAME? | F23: =_xlfn.XLOOKUP(B23,'Cashflow Working'!$3:$3,'Cashflow Working'!$4:$4,VALUE("0"),0,1) -> #NAME? | G23: =_xlfn.XLOOKUP(B23,'Cashflow Working'!$C:$C,'Cashflow Working'!$D:$D,VALUE("0"),0,1) -> #NAME? | I23: =F23-G23+H23 -> #NAME?
C24: =_xlfn.XLOOKUP(B24,'Consol (TB)'!C:C,'Consol (TB)'!F:F,VALUE("0"),0,1) -> #NAME? | D24: =_xlfn.XLOOKUP(B24,'Consol (TB)'!C:C,'Consol (TB)'!H:H,VALUE("0"),0,1) -> #NAME?
C25: =_xlfn.XLOOKUP(B25,'Consol (TB)'!C:C,'Consol (TB)'!F:F,VALUE("0"),0,1) -> #NAME? | D25: =_xlfn.XLOOKUP(B25,'Consol (TB)'!C:C,'Consol (TB)'!H:H,VALUE("0"),0,1) -> #NAME?
A26: 11210010 | B26: Trade Receivables Control: External | C26: =_xlfn.XLOOKUP(B26,'Consol (TB)'!C:C,'Consol (TB)'!F:F,VALUE("0"),0,1) -> #NAME? | D26: =_xlfn.XLOOKUP(B26,'Consol (TB)'!C:C,'Consol (TB)'!H:H,VALUE("0"),0,1) -> #NAME? | E26: Trade and other receivables, and contract assets | F26: =_xlfn.XLOOKUP(B26,'Cashflow Working'!$3:$3,'Cashflow Working'!$4:$4,VALUE("0"),0,1) -> #NAME? | G26: =_xlfn.XLOOKUP(B26,'Cashflow Working'!$C:$C,'Cashflow Working'!$D:$D,VALUE("0"),0,1) -> #NAME? | I26: =F26-G26+H26 -> #NAME?
A27: 11210020 | B27: Trade Receivables Control: Interco | C27: =_xlfn.XLOOKUP(B27,'Consol (TB)'!C:C,'Consol (TB)'!F:F,VALUE("0"),0,1) -> #NAME? | D27: =_xlfn.XLOOKUP(B27,'Consol (TB)'!C:C,'Consol (TB)'!H:H,VALUE("0"),0,1) -> #NAME? | E27: Trade and other receivables, and contract assets | F27: =_xlfn.XLOOKUP(B27,'Cashflow Working'!$3:$3,'Cashflow Working'!$4:$4,VALUE("0"),0,1) -> #NAME? | G27: =_xlfn.XLOOKUP(B27,'Cashflow Working'!$C:$C,'Cashflow Working'!$D:$D,VALUE("0"),0,1) -> #NAME? | I27: =F27-G27+H27 -> #NAME?
A28: 11210030 | B28: Provn Doubtful Debts: Trade: External | C28: =_xlfn.XLOOKUP(B28,'Consol (TB)'!C:C,'Consol (TB)'!F:F,VALUE("0"),0,1) -> #NAME? | D28: =_xlfn.XLOOKUP(B28,'Consol (TB)'!C:C,'Consol (TB)'!H:H,VALUE("0"),0,1) -> #NAME? | E28: Trade and other receivables, and contract assets | F28: =_xlfn.XLOOKUP(B28,'Cashflow Working'!$3:$3,'Cashflow Working'!$4:$4,VALUE("0"),0,1) -> #NAME? | G28: =_xlfn.XLOOKUP(B28,'Cashflow Working'!$C:$C,'Cashflow Working'!$D:$D,VALUE("0"),0,1) -> #NAME? | I28: =F28-G28+H28 -> #NAME?
B29: [BnC-3000] BnC Trade Debtors | C29: =_xlfn.XLOOKUP(B29,'Consol (TB)'!C:C,'Consol (TB)'!F:F,VALUE("0"),0,1) -> #NAME? | D29: =_xlfn.XLOOKUP(B29,'Consol (TB)'!C:C,'Consol (TB)'!H:H,VALUE("0"),0,1) -> #NAME? | E29: Trade and other receivables, and contract assets | F29: =_xlfn.XLOOKUP(B29,'Cashflow Working'!$3:$3,'Cashflow Working'!$4:$4,VALUE("0"),0,1) -> #NAME? | G29: =_xlfn.XLOOKUP(B29,'Cashflow Working'!$C:$C,'Cashflow Working'!$D:$D,VALUE("0"),0,1) -> #NAME? | I29: =F29-G29+H29 -> #NAME?
A30: 11210050 | B30: Translation: Trade Receivables: Externa | C30: =_xlfn.XLOOKUP(B30,'Consol (TB)'!C:C,'Consol (TB)'!F:F,VALUE("0"),0,1) -> #NAME? | D30: =_xlfn.XLOOKUP(B30,'Consol (TB)'!C:C,'Consol (TB)'!H:H,VALUE("0"),0,1) -> #NAME? | E30: Trade and other receivables, and contract assets | F30: =_xlfn.XLOOKUP(B30,'Cashflow Working'!$3:$3,'Cashflow Working'!$4:$4,VALUE("0"),0,1) -> #NAME? | G30: =_xlfn.XLOOKUP(B30,'Cashflow Working'!$C:$C,'Cashflow Working'!$D:$D,VALUE("0"),0,1) -> #NAME? | I30: =F30-G30+H30 -> #NAME?
A31: 11210070 | B31: Unbilled Trade Receivables: External | C31: =_xlfn.XLOOKUP(B31,'Consol (TB)'!C:C,'Consol (TB)'!F:F,VALUE("0"),0,1) -> #NAME? | D31: =_xlfn.XLOOKUP(B31,'Consol (TB)'!C:C,'Consol (TB)'!H:H,VALUE("0"),0,1) -> #NAME? | E31: Trade and other receivables, and contract assets | F31: =_xlfn.XLOOKUP(B31,'Cashflow Working'!$3:$3,'Cashflow Working'!$4:$4,VALUE("0"),0,1) -> #NAME? | G31: =_xlfn.XLOOKUP(B31,'Cashflow Working'!$C:$C,'Cashflow Working'!$D:$D,VALUE("0"),0,1) -> #NAME? | I31: =F31-G31+H31 -> #NAME?
